{"text_format":"1","workbook":"xlsx","n_sheets":7,"sheets":["Инструкция","БД","Лист1","свод","Справочник субъектов","справочник ГП(ЭСК)","Справочник СО"],"not_rendered":{"charts":0,"images":1,"macros":1,"external_links":0,"defined_names":22,"comments":1,"pivot_tables":0},"unopened":[],"bounds":{"document_bytes":16777216,"sheet_cells":100000,"rows_first":2000,"rows_last":500,"rows_between":2000,"halvings":0,"cell_chars":16384,"cell_head_chars":4096},"cells_cut":0,"cells_raw":0,"read":"whole","date_system":"1900"}

{"sheet":"Инструкция","index":0,"n_rows":9,"n_cols":1,"rows_kept":9,"cut":false,"hidden":false,"merged":[]}
["Инструкция по заполнению базы данных (БД)"]
["1. Информация по каждому субъекту РФ заполняется в отдельном файле на листе \"БД\", в наименовании файла указывается название субъекта РФ.\n\nВ стороках 5, 6, 7  в соответствующих ячейках необходимо вставить утвержденные тарифы, соблюдая указанную размерность. "]
["2. Информация заполняется по энергопримающим устройствам и / или совокупности энергопринимающих устройств имеющих между собой электрические связи  потребителей электрической энергии (мощности) (далее - ЭПУ). Информация не заполняется по следующим группам потребителей не оплачивающих резервируемую максимальную мощность в т.ч.:\n1. население и приравненные к нему категории потребителей;\n2. сетевые организации."]
["3. Информация об ЭПУ потребителей с максимальной мощностью 670 кВт и выше и об ЭПУ потребителей с максимальной мощностью менее 670 кВт  - представляется по каждому ЭПУ (группе ЭПУ) потребителя.\nИнформация заполняется по ЭПУ (группе ЭПУ) потребителей, подключенных к сетям ТСО - ДЗО ПАО \"Россети\" (в том числе опосредованно), а также по ЭПУ потребителей, подключенным к сетям смежных ТСО субъекта Российской Федерации, услугу по передаче электроэнергии которым оказывает ТСО - ДЗО ПАО \"Россети\"  на основании договоров оказания услуг по передаче электрической энергии, заключенных со смежной ТСО - только в части потребителей с максимальной мощностью 670 кВт и выше!\n\nВ случае если одно ЭПУ имеет присоединения на нескольких уровнях напряжения, то максимальная мощность данного ЭПУ разбивается ежемесячно по уровням напряжения пропорционально фактической мощности, либо пропорционально пропускной способности в случае если фактическая мощность равна нулю."]
["4. При отсутствии почасового учета электроэнергии фактическая сетевая мощность ЭПУ  потребителей, в отношении ЭПУ, максимальная мощность которого составляет менее 670 кВт равна произведению коэффициента оплаты мощности, равного 0,0048, и суммарного по всем точкам поставки, в отношении которых отсутствуют объемы потребления по часам суток, на соответствующем уровне напряжения, относящимся к ЭПУ, объема потребления электрической энергии за расчетный период. \nДля ЭПУ потребителей с максимальной мощностью 670 кВт и выше фактическая мощность определяется в порядке предусмотренном  Основными положениями функционирования розничных рынков электрической энергии, утв. постановление Правительства РФ от 04.05.2012 № 442."]
["5. В целях единого наименования потребителей электрической энергии в группе компаний Россети рекомендуется использовать сокращенное наименование организации из Единого государственного реестра юридических лиц (https://egrul.nalog.ru/index.html)."]
["6. Информация о собственной генерации:\n- при наличии у потребителя собственной генерации в графе 10 ставится признак \"ДА\"."]
["7. В случе если ЭПУ потребителя присоединено к шинам генерирующей станции и в графе 20 указан вариант тарифа \"ГН\", то в графе 11 необходимо указать наименование генерирующей станции."]
["8. Не разрешается удалять или добавлять столбцы и вносить изменения в расчетные формулы!"]

{"sheet":"БД","index":1,"n_rows":199,"n_cols":245,"rows_kept":199,"cut":false,"hidden":false,"merged":[[13,188,13,190],[13,199,13,201],[13,210,13,212],[13,221,13,223],[13,232,13,234],[13,133,13,135],[13,144,13,146],[13,155,13,157],[13,166,13,168],[13,177,13,179],[12,11,13,11],[13,111,13,113],[13,122,13,124],[12,54,12,60],[12,61,12,67],[12,68,12,74],[12,75,12,81],[12,82,12,88],[12,0,14,0],[12,1,14,1],[12,224,12,234],[12,235,12,244],[12,103,12,113],[12,114,12,124],[12,125,12,135],[12,136,12,146],[12,147,12,157],[12,158,12,168],[12,169,12,179],[12,180,12,190],[12,191,12,201],[12,2,12,8],[12,202,12,212],[12,96,12,102],[12,213,12,223],[12,9,13,9],[12,10,13,10],[12,12,13,12],[12,13,13,13],[12,14,13,14],[12,15,13,15],[12,16,13,16],[12,17,13,17],[12,18,13,18],[12,19,12,25],[12,26,12,32],[12,33,12,39],[12,40,12,46],[12,47,12,53],[12,89,12,95],[11,213,11,223],[11,89,11,95],[11,96,11,102],[11,103,11,113],[11,114,11,124],[11,125,11,135],[11,136,11,146],[11,147,11,157],[11,158,11,168],[11,169,11,179],[11,180,11,190],[11,191,11,201],[11,202,11,212]]}
["array1",{"$f":"$B$2+B3","v":2},{"$f":"$B$2+C3","v":2},2,2,2,2,2,2,2,2,2,2,2,2,2,2,2,2,{"$f":"T2+T3","v":2},{"$f":"T2+U3","v":2},{"$f":"T2+V3","v":2},{"$f":"T2+W3","v":2},{"$f":"T2+X3","v":2},{"$f":"T2+Y3","v":2},{"$f":"T2+Z3","v":2},{"$f":"AA2+AA3","v":2},{"$f":"AA2+AB3","v":2},{"$f":"AA2+AC3","v":2},{"$f":"AA2+AD3","v":2},{"$f":"AA2+AE3","v":2},{"$f":"AA2+AF3","v":2},{"$f":"AA2+AG3","v":2},{"$f":"AH2+AH3","v":2},{"$f":"AH2+AI3","v":2},{"$f":"AH2+AJ3","v":2},{"$f":"AH2+AK3","v":2},{"$f":"AH2+AL3","v":2},{"$f":"AH2+AM3","v":2},{"$f":"AH2+AN3","v":2},{"$f":"AO2+AO3","v":2},{"$f":"AO2+AP3","v":2},{"$f":"AO2+AQ3","v":2},{"$f":"AO2+AR3","v":2},{"$f":"AO2+AS3","v":2},{"$f":"AO2+AT3","v":2},{"$f":"AO2+AU3","v":2},{"$f":"AV2+AV3","v":2},{"$f":"AV2+AW3","v":2},{"$f":"AV2+AX3","v":2},{"$f":"AV2+AY3","v":2},{"$f":"AV2+AZ3","v":2},{"$f":"AV2+BA3","v":2},{"$f":"AV2+BB3","v":2},{"$f":"BC2+BC3","v":2},{"$f":"BC2+BD3","v":2},{"$f":"BC2+BE3","v":2},{"$f":"BC2+BF3","v":2},{"$f":"BC2+BG3","v":2},{"$f":"BC2+BH3","v":2},{"$f":"BC2+BI3","v":2},{"$f":"BJ2+BJ3","v":2},{"$f":"BJ2+BK3","v":2},{"$f":"BJ2+BL3","v":2},{"$f":"BJ2+BM3","v":2},{"$f":"BJ2+BN3","v":2},{"$f":"BJ2+BO3","v":2},{"$f":"BJ2+BP3","v":2},{"$f":"BQ2+BQ3","v":2},{"$f":"BQ2+BR3","v":2},{"$f":"BQ2+BS3","v":2},{"$f":"BQ2+BT3","v":2},{"$f":"BQ2+BU3","v":2},{"$f":"BQ2+BV3","v":2},{"$f":"BQ2+BW3","v":2},{"$f":"BX2+BX3","v":2},{"$f":"BX2+BY3","v":2},{"$f":"BX2+BZ3","v":2},{"$f":"BX2+CA3","v":2},{"$f":"BX2+CB3","v":2},{"$f":"BX2+CC3","v":2},{"$f":"BX2+CD3","v":2},{"$f":"CE2+CE3","v":2},{"$f":"CE2+CF3","v":2},{"$f":"CE2+CG3","v":2},{"$f":"CE2+CH3","v":2},{"$f":"CE2+CI3","v":2},{"$f":"CE2+CJ3","v":2},{"$f":"CE2+CK3","v":2},{"$f":"CL2+CL3","v":2},{"$f":"CL2+CM3","v":2},{"$f":"CL2+CN3","v":2},{"$f":"CL2+CO3","v":2},{"$f":"CL2+CP3","v":2},{"$f":"CL2+CQ3","v":2},{"$f":"CL2+CR3","v":2},{"$f":"CS2+CS3","v":2},{"$f":"CS2+CT3","v":2},{"$f":"CS2+CU3","v":2},{"$f":"CS2+CV3","v":2},{"$f":"CS2+CW3","v":2},{"$f":"CS2+CX3","v":2},{"$f":"CS2+CY3","v":2},{"$f":"CZ2+CZ3","v":2},{"$f":"CZ2+DA3","v":2},{"$f":"CZ2+DB3","v":2},{"$f":"CZ2+DC3","v":2},{"$f":"CZ2+DD3","v":2},{"$f":"CZ2+DE3","v":2},{"$f":"CZ2+DF3","v":2},{"$f":"CZ2+DG3","v":2},{"$f":"CZ2+DH3","v":2},{"$f":"CZ2+DI3","v":2},{"$f":"CZ2+DJ3","v":2},{"$f":"DK2+DK3","v":2},{"$f":"DK2+DL3","v":2},{"$f":"DK2+DM3","v":2},{"$f":"DK2+DN3","v":2},{"$f":"DK2+DO3","v":2},{"$f":"DK2+DP3","v":2},{"$f":"DK2+DQ3","v":2},{"$f":"DK2+DR3","v":2},{"$f":"DK2+DS3","v":2},{"$f":"DK2+DT3","v":2},{"$f":"DK2+DU3","v":2},{"$f":"DV2+DV3","v":2},{"$f":"DV2+DW3","v":2},{"$f":"DV2+DX3","v":2},{"$f":"DV2+DY3","v":2},{"$f":"DV2+DZ3","v":2},{"$f":"DV2+EA3","v":2},{"$f":"DV2+EB3","v":2},{"$f":"DV2+EC3","v":2},{"$f":"DV2+ED3","v":2},{"$f":"DV2+EE3","v":2},{"$f":"DV2+EF3","v":2},{"$f":"EG2+EG3","v":2},{"$f":"EG2+EH3","v":2},{"$f":"EG2+EI3","v":2},{"$f":"EG2+EJ3","v":2},{"$f":"EG2+EK3","v":2},{"$f":"EG2+EL3","v":2},{"$f":"EG2+EM3","v":2},{"$f":"EG2+EN3","v":2},{"$f":"EG2+EO3","v":2},{"$f":"EG2+EP3","v":2},{"$f":"EG2+EQ3","v":2},{"$f":"ER2+ER3","v":2},{"$f":"ER2+ES3","v":2},{"$f":"ER2+ET3","v":2},{"$f":"ER2+EU3","v":2},{"$f":"ER2+EV3","v":2},{"$f":"ER2+EW3","v":2},{"$f":"ER2+EX3","v":2},{"$f":"ER2+EY3","v":2},{"$f":"ER2+EZ3","v":2},{"$f":"ER2+FA3","v":2},{"$f":"ER2+FB3","v":2},{"$f":"FC2+FC3","v":2},{"$f":"FC2+FD3","v":2},{"$f":"FC2+FE3","v":2},{"$f":"FC2+FF3","v":2},{"$f":"FC2+FG3","v":2},{"$f":"FC2+FH3","v":2},{"$f":"FC2+FI3","v":2},{"$f":"FC2+FJ3","v":2},{"$f":"FC2+FK3","v":2},{"$f":"FC2+FL3","v":2},{"$f":"FC2+FM3","v":2},{"$f":"FN2+FN3","v":2},{"$f":"FN2+FO3","v":2},{"$f":"FN2+FP3","v":2},{"$f":"FN2+FQ3","v":2},{"$f":"FN2+FR3","v":2},{"$f":"FN2+FS3","v":2},{"$f":"FN2+FT3","v":2},{"$f":"FN2+FU3","v":2},{"$f":"FN2+FV3","v":2},{"$f":"FN2+FW3","v":2},{"$f":"FN2+FX3","v":2},{"$f":"FY2+FY3","v":2},{"$f":"FY2+FZ3","v":2},{"$f":"FY2+GA3","v":2},{"$f":"FY2+GB3","v":2},{"$f":"FY2+GC3","v":2},{"$f":"FY2+GD3","v":2},{"$f":"FY2+GE3","v":2},{"$f":"FY2+GF3","v":2},{"$f":"FY2+GG3","v":2},{"$f":"FY2+GH3","v":2},{"$f":"FY2+GI3","v":2},{"$f":"GJ2+GJ3","v":2},{"$f":"GJ2+GK3","v":2},{"$f":"GJ2+GL3","v":2},{"$f":"GJ2+GM3","v":2},{"$f":"GJ2+GN3","v":2},{"$f":"GJ2+GO3","v":2},{"$f":"GJ2+GP3","v":2},{"$f":"GJ2+GQ3","v":2},{"$f":"GJ2+GR3","v":2},{"$f":"GJ2+GS3","v":2},{"$f":"GJ2+GT3","v":2},{"$f":"GU2+GU3","v":2},{"$f":"GU2+GV3","v":2},{"$f":"GU2+GW3","v":2},{"$f":"GU2+GX3","v":2},{"$f":"GU2+GY3","v":2},{"$f":"GU2+GZ3","v":2},{"$f":"GU2+HA3","v":2},{"$f":"GU2+HB3","v":2},{"$f":"GU2+HC3","v":2},{"$f":"GU2+HD3","v":2},{"$f":"GU2+HE3","v":2},{"$f":"HF2+HF3","v":2},{"$f":"HF2+HG3","v":2},{"$f":"HF2+HH3","v":2},{"$f":"HF2+HI3","v":2},{"$f":"HF2+HJ3","v":2},{"$f":"HF2+HK3","v":2},{"$f":"HF2+HL3","v":2},{"$f":"HF2+HM3","v":2},{"$f":"HF2+HN3","v":2},{"$f":"HF2+HO3","v":2},{"$f":"HF2+HP3","v":2},{"$f":"HQ2+HQ3","v":2},{"$f":"HQ2+HR3","v":2},{"$f":"HQ2+HS3","v":2},{"$f":"HQ2+HT3","v":2},{"$f":"HQ2+HU3","v":2},{"$f":"HQ2+HV3","v":2},{"$f":"HQ2+HW3","v":2},{"$f":"HQ2+HX3","v":2},{"$f":"HQ2+HY3","v":2},{"$f":"HQ2+HZ3","v":2},{"$f":"HQ2+IA3","v":2},{"$f":"IB2+IB3","v":2},{"$f":"IB2+IC3","v":2},{"$f":"IB2+ID3","v":2},{"$f":"IB2+IE3","v":2},{"$f":"IB2+IF3","v":2},{"$f":"IB2+IG3","v":2},{"$f":"IB2+IH3","v":2},{"$f":"IB2+II3","v":2},{"$f":"IB2+IJ3","v":2},{"$f":"IB2+IK3","v":2}]
["мес./группа",true,null,null,null,null,null,null,null,null,null,null,null,null,null,null,null,null,null,true,null,null,null,null,null,null,true,null,null,null,null,null,null,true,null,null,null,null,null,null,true,null,null,null,null,null,null,true,null,null,null,null,null,null,true,null,null,null,null,null,null,true,null,null,null,null,null,null,true,null,null,null,null,null,null,true,null,null,null,null,null,null,true,null,null,null,null,null,null,true,null,null,null,null,null,null,true,null,null,null,null,null,null,true,null,null,null,null,null,null,null,null,null,null,true,null,null,null,null,null,null,null,null,null,null,true,null,null,null,null,null,null,null,null,null,null,true,null,null,null,null,null,null,null,null,null,null,true,null,null,null,null,null,null,null,null,null,null,true,null,null,null,null,null,null,null,null,null,null,true,null,null,null,null,null,null,null,null,null,null,true,null,null,null,null,null,null,null,null,null,null,true,null,null,null,null,null,null,null,null,null,null,true,null,null,null,null,null,null,null,null,null,null,true,null,null,null,null,null,null,null,null,null,null,true,null,null,null,null,null,null,null,null,null,null,true]
["поле",true,true,true,true,true,true,true,true,true,true,true,true,true,true,true,true,true,true,true,true,true,true,true,true,true,{"$f":"$T$3","v":true},{"$f":"$U$3","v":true},{"$f":"$V$3","v":true},{"$f":"$W$3","v":true},{"$f":"$X$3","v":true},{"$f":"$Y$3","v":true},{"$f":"$Z$3","v":true},{"$f":"$T$3","v":true},{"$f":"$U$3","v":true},{"$f":"$V$3","v":true},{"$f":"$W$3","v":true},{"$f":"$X$3","v":true},{"$f":"$Y$3","v":true},{"$f":"$Z$3","v":true},{"$f":"$T$3","v":true},{"$f":"$U$3","v":true},{"$f":"$V$3","v":true},{"$f":"$W$3","v":true},{"$f":"$X$3","v":true},{"$f":"$Y$3","v":true},{"$f":"$Z$3","v":true},{"$f":"$T$3","v":true},{"$f":"$U$3","v":true},{"$f":"$V$3","v":true},{"$f":"$W$3","v":true},{"$f":"$X$3","v":true},{"$f":"$Y$3","v":true},{"$f":"$Z$3","v":true},{"$f":"$T$3","v":true},{"$f":"$U$3","v":true},{"$f":"$V$3","v":true},{"$f":"$W$3","v":true},{"$f":"$X$3","v":true},{"$f":"$Y$3","v":true},{"$f":"$Z$3","v":true},{"$f":"$T$3","v":true},{"$f":"$U$3","v":true},{"$f":"$V$3","v":true},{"$f":"$W$3","v":true},{"$f":"$X$3","v":true},{"$f":"$Y$3","v":true},{"$f":"$Z$3","v":true},{"$f":"$T$3","v":true},{"$f":"$U$3","v":true},{"$f":"$V$3","v":true},{"$f":"$W$3","v":true},{"$f":"$X$3","v":true},{"$f":"$Y$3","v":true},{"$f":"$Z$3","v":true},{"$f":"$T$3","v":true},{"$f":"$U$3","v":true},{"$f":"$V$3","v":true},{"$f":"$W$3","v":true},{"$f":"$X$3","v":true},{"$f":"$Y$3","v":true},{"$f":"$Z$3","v":true},{"$f":"$T$3","v":true},{"$f":"$U$3","v":true},{"$f":"$V$3","v":true},{"$f":"$W$3","v":true},{"$f":"$X$3","v":true},{"$f":"$Y$3","v":true},{"$f":"$Z$3","v":true},{"$f":"$T$3","v":true},{"$f":"$U$3","v":true},{"$f":"$V$3","v":true},{"$f":"$W$3","v":true},{"$f":"$X$3","v":true},{"$f":"$Y$3","v":true},{"$f":"$Z$3","v":true},{"$f":"$T$3","v":true},{"$f":"$U$3","v":true},{"$f":"$V$3","v":true},{"$f":"$W$3","v":true},{"$f":"$X$3","v":true},{"$f":"$Y$3","v":true},{"$f":"$Z$3","v":true},true,true,true,true,true,true,true,true,true,true,true,{"$f":"$CZ$3","v":true},{"$f":"$DA$3","v":true},{"$f":"$DB$3","v":true},{"$f":"$DC$3","v":true},{"$f":"$DD$3","v":true},{"$f":"$DE$3","v":true},{"$f":"$DF$3","v":true},{"$f":"$DG$3","v":true},{"$f":"$DH$3","v":true},{"$f":"$DI$3","v":true},{"$f":"$DJ$3","v":true},{"$f":"$CZ$3","v":true},{"$f":"$DA$3","v":true},{"$f":"$DB$3","v":true},{"$f":"$DC$3","v":true},{"$f":"$DD$3","v":true},{"$f":"$DE$3","v":true},{"$f":"$DF$3","v":true},{"$f":"$DG$3","v":true},{"$f":"$DH$3","v":true},{"$f":"$DI$3","v":true},{"$f":"$DJ$3","v":true},{"$f":"$CZ$3","v":true},{"$f":"$DA$3","v":true},{"$f":"$DB$3","v":true},{"$f":"$DC$3","v":true},{"$f":"$DD$3","v":true},{"$f":"$DE$3","v":true},{"$f":"$DF$3","v":true},{"$f":"$DG$3","v":true},{"$f":"$DH$3","v":true},{"$f":"$DI$3","v":true},{"$f":"$DJ$3","v":true},{"$f":"$CZ$3","v":true},{"$f":"$DA$3","v":true},{"$f":"$DB$3","v":true},{"$f":"$DC$3","v":true},{"$f":"$DD$3","v":true},{"$f":"$DE$3","v":true},{"$f":"$DF$3","v":true},{"$f":"$DG$3","v":true},{"$f":"$DH$3","v":true},{"$f":"$DI$3","v":true},{"$f":"$DJ$3","v":true},{"$f":"$CZ$3","v":true},{"$f":"$DA$3","v":true},{"$f":"$DB$3","v":true},{"$f":"$DC$3","v":true},{"$f":"$DD$3","v":true},{"$f":"$DE$3","v":true},{"$f":"$DF$3","v":true},{"$f":"$DG$3","v":true},{"$f":"$DH$3","v":true},{"$f":"$DI$3","v":true},{"$f":"$DJ$3","v":true},{"$f":"$CZ$3","v":true},{"$f":"$DA$3","v":true},{"$f":"$DB$3","v":true},{"$f":"$DC$3","v":true},{"$f":"$DD$3","v":true},{"$f":"$DE$3","v":true},{"$f":"$DF$3","v":true},{"$f":"$DG$3","v":true},{"$f":"$DH$3","v":true},{"$f":"$DI$3","v":true},{"$f":"$DJ$3","v":true},{"$f":"$CZ$3","v":true},{"$f":"$DA$3","v":true},{"$f":"$DB$3","v":true},{"$f":"$DC$3","v":true},{"$f":"$DD$3","v":true},{"$f":"$DE$3","v":true},{"$f":"$DF$3","v":true},{"$f":"$DG$3","v":true},{"$f":"$DH$3","v":true},{"$f":"$DI$3","v":true},{"$f":"$DJ$3","v":true},{"$f":"$CZ$3","v":true},{"$f":"$DA$3","v":true},{"$f":"$DB$3","v":true},{"$f":"$DC$3","v":true},{"$f":"$DD$3","v":true},{"$f":"$DE$3","v":true},{"$f":"$DF$3","v":true},{"$f":"$DG$3","v":true},{"$f":"$DH$3","v":true},{"$f":"$DI$3","v":true},{"$f":"$DJ$3","v":true},{"$f":"$CZ$3","v":true},{"$f":"$DA$3","v":true},{"$f":"$DB$3","v":true},{"$f":"$DC$3","v":true},{"$f":"$DD$3","v":true},{"$f":"$DE$3","v":true},{"$f":"$DF$3","v":true},{"$f":"$DG$3","v":true},{"$f":"$DH$3","v":true},{"$f":"$DI$3","v":true},{"$f":"$DJ$3","v":true},{"$f":"$CZ$3","v":true},{"$f":"$DA$3","v":true},{"$f":"$DB$3","v":true},{"$f":"$DC$3","v":true},{"$f":"$DD$3","v":true},{"$f":"$DE$3","v":true},{"$f":"$DF$3","v":true},{"$f":"$DG$3","v":true},{"$f":"$DH$3","v":true},{"$f":"$DI$3","v":true},{"$f":"$DJ$3","v":true},{"$f":"$CZ$3","v":true},{"$f":"$DA$3","v":true},{"$f":"$DB$3","v":true},{"$f":"$DC$3","v":true},{"$f":"$DD$3","v":true},{"$f":"$DE$3","v":true},{"$f":"$DF$3","v":true},{"$f":"$DG$3","v":true},{"$f":"$DH$3","v":true},{"$f":"$DI$3","v":true},{"$f":"$DJ$3","v":true},true,true,true,true,true,true,true,true,true,true]
[null,null,null,null,null,null,null,null,null,null,null,null,null,null,null,null,null,null,null,null,null,null,"ВН","СН1","СН2","НН",null,null,null,"ВН","СН1","СН2","НН",null,null,null,"ВН","СН1","СН2","НН",null,null,null,"ВН","СН1","СН2","НН",null,null,null,"ВН","СН1","СН2","НН",null,null,null,"ВН","СН1","СН2","НН",null,null,null,"ВН","СН1","СН2","НН",null,null,null,"ВН","СН1","СН2","НН",null,null,null,"ВН","СН1","СН2","НН",null,null,null,"ВН","СН1","СН2","НН",null,null,null,"ВН","СН1","СН2","НН",null,null,null,"ВН","СН1","СН2","НН",null,null,null,null,null,null,null,"ВН","СН1","СН2","НН",null,null,null,null,null,null,null,"ВН","СН1","СН2","НН",null,null,null,null,null,null,null,"ВН","СН1","СН2","НН",null,null,null,null,null,null,null,"ВН","СН1","СН2","НН",null,null,null,null,null,null,null,"ВН","СН1","СН2","НН",null,null,null,null,null,null,null,"ВН","СН1","СН2","НН",null,null,null,null,null,null,null,"ВН","СН1","СН2","НН",null,null,null,null,null,null,null,"ВН","СН1","СН2","НН",null,null,null,null,null,null,null,"ВН","СН1","СН2","НН",null,null,null,null,null,null,null,"ВН","СН1","СН2","НН",null,null,null,null,null,null,null,"ВН","СН1","СН2","НН",null,null,null,null,null,null,null,"ВН","СН1","СН2","НН","Вариант тарифа"]
["Расчет резервируемой максимальной мощности энергопринимающих устройств потребителей электрической энергии (мощности) и стоимости оплачиваемого резерва с разбивкой по категориям потребителей",null,null,null,null,null,null,null,null,"Приложение 2",null,null,null,null,null,null,null,null,null,null,null,"Ставка содержание, руб./МВт в месяц",1258990.67,1510117.24,1061976.56,1148011.08,null,null,"Ставка содержание, руб./МВт в месяц",1258990.67,1510117.24,1061976.56,1148011.08,null,null,"Ставка содержание, руб./МВт в месяц",1258990.67,1510117.24,1061976.56,1148011.08,null,null,"Ставка содержание, руб./МВт в месяц",1258990.67,1510117.24,1061976.56,1148011.08,null,null,"Ставка содержание, руб./МВт в месяц",1258990.67,1510117.24,1061976.56,1148011.08,null,null,"Ставка содержание, руб./МВт в месяц",1258990.67,1510117.24,1061976.56,1148011.08,null,null,"Ставка содержание, руб./МВт в месяц",1347120.02,1615825.45,1136314.92,1228371.8600000001,null,null,"Ставка содержание, руб./МВт в месяц",1347120.02,1615825.45,1136314.92,1228371.8600000001,null,null,"Ставка содержание, руб./МВт в месяц",1347120.02,1615825.45,1136314.92,1228371.8600000001,null,null,"Ставка содержание, руб./МВт в месяц",1347120.02,1615825.45,1136314.92,1228371.8600000001,null,null,"Ставка содержание, руб./МВт в месяц",1347120.02,1615825.45,1136314.92,1228371.8600000001,null,null,"Ставка содержание, руб./МВт в месяц",null,null,null,null,null,null,null,null,null,null,"Ставка содержание, руб./МВт в месяц",null,null,null,null,null,null,null,null,null,null,"Ставка содержание, руб./МВт в месяц",null,null,null,null,null,null,null,null,null,null,"Ставка содержание, руб./МВт в месяц",null,null,null,null,null,null,null,null,null,null,"Ставка содержание, руб./МВт в месяц",null,null,null,null,null,null,null,null,null,null,"Ставка содержание, руб./МВт в месяц",null,null,null,null,null,null,null,null,null,null,"Ставка содержание, руб./МВт в месяц",null,null,null,null,null,null,null,null,null,null,"Ставка содержание, руб./МВт в месяц",null,null,null,null,null,null,null,null,null,null,"Ставка содержание, руб./МВт в месяц",null,null,null,null,null,null,null,null,null,null,"Ставка содержание, руб./МВт в месяц",null,null,null,null,null,null,null,null,null,null,"Ставка содержание, руб./МВт в месяц",null,null,null,null,null,null,null,null,null,null,"Ставка содержание, руб./МВт в месяц",null,null,null,null,null,null,null,null,null,null,"Ставка содержание, руб./МВт в месяц",null,null,null,null,1]
["Таблица 1. Распределительный комплекс",null,null,null,null,null,null,null,null,null,null,null,null,null,null,null,null,null,null,null,null,"Ставка потери, руб./МВтч",85.06,199.5,343.27,622.79999999999995,null,null,"Ставка потери, руб./МВтч",85.06,199.5,343.27,622.79999999999995,null,null,"Ставка потери, руб./МВтч",85.06,199.5,343.27,622.79999999999995,null,null,"Ставка потери, руб./МВтч",85.06,199.5,343.27,622.79999999999995,null,null,"Ставка потери, руб./МВтч",85.06,199.5,343.27,622.79999999999995,null,null,"Ставка потери, руб./МВтч",85.06,199.5,343.27,622.79999999999995,null,null,"Ставка потери, руб./МВтч",89.62,210.1,361.68,656.19,null,null,"Ставка потери, руб./МВтч",89.62,210.1,361.68,656.19,null,null,"Ставка потери, руб./МВтч",89.62,210.1,361.68,656.19,null,null,"Ставка потери, руб./МВтч",89.62,210.1,361.68,656.19,null,null,"Ставка потери, руб./МВтч",89.62,210.1,361.68,656.19,null,null,"Ставка потери, руб./МВтч",null,null,null,null,null,null,null,null,null,null,"Ставка потери, руб./МВтч",null,null,null,null,null,null,null,null,null,null,"Ставка потери, руб./МВтч",null,null,null,null,null,null,null,null,null,null,"Ставка потери, руб./МВтч",null,null,null,null,null,null,null,null,null,null,"Ставка потери, руб./МВтч",null,null,null,null,null,null,null,null,null,null,"Ставка потери, руб./МВтч",null,null,null,null,null,null,null,null,null,null,"Ставка потери, руб./МВтч",null,null,null,null,null,null,null,null,null,null,"Ставка потери, руб./МВтч",null,null,null,null,null,null,null,null,null,null,"Ставка потери, руб./МВтч",null,null,null,null,null,null,null,null,null,null,"Ставка потери, руб./МВтч",null,null,null,null,null,null,null,null,null,null,"Ставка потери, руб./МВтч",null,null,null,null,null,null,null,null,null,null,"Ставка потери, руб./МВтч",null,null,null,null,null,null,null,null,null,null,"Ставка потери, руб./МВтч",null,null,null,null,2]
[null," - вычисляемые ячейки",null,null,null,null,null,null,null,null,null,null,null,null,null,null,null,null,null,null,null,"Одност. Тариф, руб./МВтч",1850.4,2308.92,1919.88,2746.17,null,null,"Одност. Тариф, руб./МВтч",1850.4,2308.92,1919.88,2746.17,null,null,"Одност. Тариф, руб./МВтч",1850.4,2308.92,1919.88,2746.17,null,null,"Одност. Тариф, руб./МВтч",1850.4,2308.92,1919.88,2746.17,null,null,"Одност. Тариф, руб./МВтч",1850.4,2308.92,1919.88,2746.17,null,null,"Одност. Тариф, руб./МВтч",1850.4,2308.92,1919.88,2746.17,null,null,"Одност. Тариф, руб./МВтч",1979.29,2470.56,2054.29,2938.41,null,null,"Одност. Тариф, руб./МВтч",1979.29,2470.56,2054.29,2938.41,null,null,"Одност. Тариф, руб./МВтч",1979.29,2470.56,2054.29,2938.41,null,null,"Одност. Тариф, руб./МВтч",1979.29,2470.56,2054.29,2938.41,null,null,"Одност. Тариф, руб./МВтч",1979.29,2470.56,2054.29,2938.41,null,null,"Одност. Тариф, руб./МВтч",null,null,null,null,null,null,null,null,null,null,"Одност. Тариф, руб./МВтч",null,null,null,null,null,null,null,null,null,null,"Одност. Тариф, руб./МВтч",null,null,null,null,null,null,null,null,null,null,"Одност. Тариф, руб./МВтч",null,null,null,null,null,null,null,null,null,null,"Одност. Тариф, руб./МВтч",null,null,null,null,null,null,null,null,null,null,"Одност. Тариф, руб./МВтч",null,null,null,null,null,null,null,null,null,null,"Одност. Тариф, руб./МВтч",null,null,null,null,null,null,null,null,null,null,"Одност. Тариф, руб./МВтч",null,null,null,null,null,null,null,null,null,null,"Одност. Тариф, руб./МВтч",null,null,null,null,null,null,null,null,null,null,"Одност. Тариф, руб./МВтч",null,null,null,null,null,null,null,null,null,null,"Одност. Тариф, руб./МВтч",null,null,null,null,null,null,null,null,null,null,"Одност. Тариф, руб./МВтч",null,null,null,null,null,null,null,null,null,null,"Одност. Тариф, руб./МВтч",null,null,null,null,"ГН"]
[null," - данные заполняются пользователем"]
["х"," - в ячейки данные не заполняются",null,null,null,null,null,null,null,null,null,null,null,null,null,null,null,null,null,null,null,null,null,null,null,null,null,null,null,null,null,null,null,null,null,null,null,null,null,null,null,null,null,null,null,null,null,null,null,null,null,null,null,null,null,null,null,null,null,null,null,null,null,null,null,null,null,null,null,null,null,null,null,null,null,null,null,null,null,null,null,null,null,null,null,null,null,null,null,null,null,null,null,null,null,null,null,null,null,null,null,null,null,null,null,null,null,null,null,null,null,null,null,null,null,null,null,null,null,null,null,null,null,null,null,null,null,null,null,null,null,null,null,null,null,null,null,{"$f":"#REF!","v":{"$error":"#REF!"}},null,null,null,null,null,null,null,null,null,null,{"$f":"#REF!","v":{"$error":"#REF!"}},null,null,null,null,null,null,null,null,null,null,{"$f":"#REF!","v":{"$error":"#REF!"}}]
["Понижающий коэффициент по критиреиям 1,2,3,4 Правил ограничения",null,null,null,null,"Промышленность","Нефтедобывающая","-","ЛУКОЙЛ",null,null,null,null,null,null,null,0.55000000000000004,null,null,null,null,null,null,{"$f":"IF(IF($Q10=1,V10*$Q$10-W10,V10-W10)<0,0,IF($Q10=1,V10*$Q$10-W10,V10-W10))","v":0},{"$f":"IFERROR(X10/V10,0)","v":0},{"$f":"IF(T10=1,SUMIF(W$4:Z$4,$S10,W$7:Z$7)*U10,IF(T10=\"ГН\",W10*SUMIF(W$4:Z$4,$S10,W$5:Z$5),IF(T10=2,W10*SUMIF(W$4:Z$4,$S10,W$5:Z$5)+U10*SUMIF(W$4:Z$4,$S10,W$6:Z$6),0)))","v":0},null,null,null,null,{"$f":"IF(IF($Q10=1,AC10*$Q$10-AD10,AC10-AD10)<0,0,IF($Q10=1,AC10*$Q$10-AD10,AC10-AD10))","v":0},{"$f":"IFERROR(AE10/AC10,0)","v":0},{"$f":"IF(AA10=1,SUMIF(AD$4:AG$4,$S10,AD$7:AG$7)*AB10,IF(AA10=\"ГН\",AD10*SUMIF(AD$4:AG$4,$S10,AD$5:AG$5),IF(AA10=2,AD10*SUMIF(AD$4:AG$4,$S10,AD$5:AG$5)+AB10*SUMIF(AD$4:AG$4,$S10,AD$6:AG$6),0)))","v":0},null,null,null,null,{"$f":"IF(IF($Q10=1,AJ10*$Q$10-AK10,AJ10-AK10)<0,0,IF($Q10=1,AJ10*$Q$10-AK10,AJ10-AK10))","v":0},{"$f":"IFERROR(AL10/AJ10,0)","v":0},{"$f":"IF(AH10=1,SUMIF(AK$4:AN$4,$S10,AK$7:AN$7)*AI10,IF(AH10=\"ГН\",AK10*SUMIF(AK$4:AN$4,$S10,AK$5:AN$5),IF(AH10=2,AK10*SUMIF(AK$4:AN$4,$S10,AK$5:AN$5)+AI10*SUMIF(AK$4:AN$4,$S10,AK$6:AN$6),0)))","v":0},null,null,null,null,{"$f":"IF(IF($Q10=1,AQ10*$Q$10-AR10,AQ10-AR10)<0,0,IF($Q10=1,AQ10*$Q$10-AR10,AQ10-AR10))","v":0},{"$f":"IFERROR(AS10/AQ10,0)","v":0},{"$f":"IF(AO10=1,SUMIF(AR$4:AU$4,$S10,AR$7:AU$7)*AP10,IF(AO10=\"ГН\",AR10*SUMIF(AR$4:AU$4,$S10,AR$5:AU$5),IF(AO10=2,AR10*SUMIF(AR$4:AU$4,$S10,AR$5:AU$5)+AP10*SUMIF(AR$4:AU$4,$S10,AR$6:AU$6),0)))","v":0},null,null,null,null,{"$f":"IF(IF($Q10=1,AX10*$Q$10-AY10,AX10-AY10)<0,0,IF($Q10=1,AX10*$Q$10-AY10,AX10-AY10))","v":0},{"$f":"IFERROR(AZ10/AX10,0)","v":0},{"$f":"IF(AV10=1,SUMIF(AY$4:BB$4,$S10,AY$7:BB$7)*AW10,IF(AV10=\"ГН\",AY10*SUMIF(AY$4:BB$4,$S10,AY$5:BB$5),IF(AV10=2,AY10*SUMIF(AY$4:BB$4,$S10,AY$5:BB$5)+AW10*SUMIF(AY$4:BB$4,$S10,AY$6:BB$6),0)))","v":0},null,null,null,null,{"$f":"IF(IF($Q10=1,BE10*$Q$10-BF10,BE10-BF10)<0,0,IF($Q10=1,BE10*$Q$10-BF10,BE10-BF10))","v":0},{"$f":"IFERROR(BG10/BE10,0)","v":0},{"$f":"IF(BC10=1,SUMIF(BF$4:BI$4,$S10,BF$7:BI$7)*BD10,IF(BC10=\"ГН\",BF10*SUMIF(BF$4:BI$4,$S10,BF$5:BI$5),IF(BC10=2,BF10*SUMIF(BF$4:BI$4,$S10,BF$5:BI$5)+BD10*SUMIF(BF$4:BI$4,$S10,BF$6:BI$6),0)))","v":0},null,null,null,null,{"$f":"IF(IF($Q10=1,BL10*$Q$10-BM10,BL10-BM10)<0,0,IF($Q10=1,BL10*$Q$10-BM10,BL10-BM10))","v":0},{"$f":"IFERROR(BN10/BL10,0)","v":0},{"$f":"IF(BJ10=1,SUMIF(BM$4:BP$4,$S10,BM$7:BP$7)*BK10,IF(BJ10=\"ГН\",BM10*SUMIF(BM$4:BP$4,$S10,BM$5:BP$5),IF(BJ10=2,BM10*SUMIF(BM$4:BP$4,$S10,BM$5:BP$5)+BK10*SUMIF(BM$4:BP$4,$S10,BM$6:BP$6),0)))","v":0},null,null,null,null,{"$f":"IF(IF($Q10=1,BS10*$Q$10-BT10,BS10-BT10)<0,0,IF($Q10=1,BS10*$Q$10-BT10,BS10-BT10))","v":0},{"$f":"IFERROR(BU10/BS10,0)","v":0},{"$f":"IF(BQ10=1,SUMIF(BT$4:BW$4,$S10,BT$7:BW$7)*BR10,IF(BQ10=\"ГН\",BT10*SUMIF(BT$4:BW$4,$S10,BT$5:BW$5),IF(BQ10=2,BT10*SUMIF(BT$4:BW$4,$S10,BT$5:BW$5)+BR10*SUMIF(BT$4:BW$4,$S10,BT$6:BW$6),0)))","v":0},null,null,null,null,{"$f":"IF(IF($Q10=1,BZ10*$Q$10-CA10,BZ10-CA10)<0,0,IF($Q10=1,BZ10*$Q$10-CA10,BZ10-CA10))","v":0},{"$f":"IFERROR(CB10/BZ10,0)","v":0},{"$f":"IF(BX10=1,SUMIF(CA$4:CD$4,$S10,CA$7:CD$7)*BY10,IF(BX10=\"ГН\",CA10*SUMIF(CA$4:CD$4,$S10,CA$5:CD$5),IF(BX10=2,CA10*SUMIF(CA$4:CD$4,$S10,CA$5:CD$5)+BY10*SUMIF(CA$4:CD$4,$S10,CA$6:CD$6),0)))","v":0},null,null,null,null,{"$f":"IF(IF($Q10=1,CG10*$Q$10-CH10,CG10-CH10)<0,0,IF($Q10=1,CG10*$Q$10-CH10,CG10-CH10))","v":0},{"$f":"IFERROR(CI10/CG10,0)","v":0},{"$f":"IF(CE10=1,SUMIF(CH$4:CK$4,$S10,CH$7:CK$7)*CF10,IF(CE10=\"ГН\",CH10*SUMIF(CH$4:CK$4,$S10,CH$5:CK$5),IF(CE10=2,CH10*SUMIF(CH$4:CK$4,$S10,CH$5:CK$5)+CF10*SUMIF(CH$4:CK$4,$S10,CH$6:CK$6),0)))","v":0},null,null,null,null,{"$f":"IF(IF($Q10=1,CN10*$Q$10-CO10,CN10-CO10)<0,0,IF($Q10=1,CN10*$Q$10-CO10,CN10-CO10))","v":0},{"$f":"IFERROR(CP10/CN10,0)","v":0},{"$f":"IF(CL10=1,SUMIF(CO$4:CR$4,$S10,CO$7:CR$7)*CM10,IF(CL10=\"ГН\",CO10*SUMIF(CO$4:CR$4,$S10,CO$5:CR$5),IF(CL10=2,CO10*SUMIF(CO$4:CR$4,$S10,CO$5:CR$5)+CM10*SUMIF(CO$4:CR$4,$S10,CO$6:CR$6),0)))","v":0},null,null,null,null,{"$f":"IF(IF($Q10=1,CU10*$Q$10-CV10,CU10-CV10)<0,0,IF($Q10=1,CU10*$Q$10-CV10,CU10-CV10))","v":0},{"$f":"IFERROR(CW10/CU10,0)","v":0},{"$f":"IF(CS10=1,SUMIF(CV$4:CY$4,$S10,CV$7:CY$7)*CT10,IF(CS10=\"ГН\",CV10*SUMIF(CV$4:CY$4,$S10,CV$5:CY$5),IF(CS10=2,CV10*SUMIF(CV$4:CY$4,$S10,CV$5:CY$5)+CT10*SUMIF(CV$4:CY$4,$S10,CV$6:CY$6),0)))","v":0},null,null,null,null,{"$f":"IF(IF($Q10=1,DB10*$Q$10-DC10,DB10-DC10)<0,0,IF($Q10=1,DB10*$Q$10-DC10,DB10-DC10))","v":0},{"$f":"IFERROR(DD10/DB10,0)","v":0},{"$f":"MIN(CX10,CQ10,CJ10,CC10,BV10,BO10,BH10,BA10,AT10,AM10,AF10,Y10,DE10)","v":0},{"$f":"IF(AND(DF10>0.4,DJ10>0),DD10*DG$11,0)","v":0},{"$f":"SUM(DI10:DJ10)","v":0},{"$f":"DG10*SUMIF(DG$4:DJ$4,$S10,DG$5:DJ$5)","v":0},{"$f":"IF(CZ10=1,SUMIF(DG$4:DJ$4,$S10,DG$7:DJ$7)*DA10,IF(CZ10=\"ГН\",DC10*SUMIF(DG$4:DJ$4,$S10,DG$5:DJ$5),IF(CZ10=2,DC10*SUMIF(DG$4:DJ$4,$S10,DG$5:DJ$5)+DA10*SUMIF(DG$4:DJ$4,$S10,DG$6:DJ$6),0)))","v":0},null,null,null,null,{"$f":"IF(IF($Q10=1,DM10*$Q$10-DN10,DM10-DN10)<0,0,IF($Q10=1,DM10*$Q$10-DN10,DM10-DN10))","v":0},{"$f":"IFERROR(DO10/DM10,0)","v":0},{"$f":"MIN(DE10,CX10,CQ10,CJ10,CC10,BV10,BO10,BH10,BA10,AT10,AM10,AF10,DP10)","v":0},{"$f":"IF(AND(DQ10>0.4,DU10>0),DO10*DR$11,0)","v":0},{"$f":"SUM(DT10:DU10)","v":0},{"$f":"DR10*SUMIF(DR$4:DU$4,$S10,DR$5:DU$5)","v":0},{"$f":"IF(DK10=1,SUMIF(DR$4:DU$4,$S10,DR$7:DU$7)*DL10,IF(DK10=\"ГН\",DN10*SUMIF(DR$4:DU$4,$S10,DR$5:DU$5),IF(DK10=2,DN10*SUMIF(DR$4:DU$4,$S10,DR$5:DU$5)+DL10*SUMIF(DR$4:DU$4,$S10,DR$6:DU$6),0)))","v":0},null,null,null,null,{"$f":"IF(IF($Q10=1,DX10*$Q$10-DY10,DX10-DY10)<0,0,IF($Q10=1,DX10*$Q$10-DY10,DX10-DY10))","v":0},{"$f":"IFERROR(DZ10/DX10,0)","v":0},{"$f":"MIN(DP10,DE10,CX10,CQ10,CJ10,CC10,BV10,BO10,BH10,BA10,AT10,AM10,EA10)","v":0},{"$f":"IF(AND(EB10>0.4,EF10>0),DZ10*EC$11,0)","v":0},{"$f":"SUM(EE10:EF10)","v":0},{"$f":"EC10*SUMIF(EC$4:EF$4,$S10,EC$5:EF$5)","v":0},{"$f":"IF(DV10=1,SUMIF(EC$4:EF$4,$S10,EC$7:EF$7)*DW10,IF(DV10=\"ГН\",DY10*SUMIF(EC$4:EF$4,$S10,EC$5:EF$5),IF(DV10=2,DY10*SUMIF(EC$4:EF$4,$S10,EC$5:EF$5)+DW10*SUMIF(EC$4:EF$4,$S10,EC$6:EF$6),0)))","v":0},null,null,null,null,{"$f":"IF(IF($Q10=1,EI10*$Q$10-EJ10,EI10-EJ10)<0,0,IF($Q10=1,EI10*$Q$10-EJ10,EI10-EJ10))","v":0},{"$f":"IFERROR(EK10/EI10,0)","v":0},{"$f":"MIN(EA10,DP10,DE10,CX10,CQ10,CJ10,CC10,BV10,BO10,BH10,BA10,AT10,EL10)","v":0},{"$f":"IF(AND(EM10>0.4,EQ10>0),EK10*EN$11,0)","v":0},{"$f":"SUM(EP10:EQ10)","v":0},{"$f":"EN10*SUMIF(EN$4:EQ$4,$S10,EN$5:EQ$5)","v":0},{"$f":"IF(EG10=1,SUMIF(EN$4:EQ$4,$S10,EN$7:EQ$7)*EH10,IF(EG10=\"ГН\",EJ10*SUMIF(EN$4:EQ$4,$S10,EN$5:EQ$5),IF(EG10=2,EJ10*SUMIF(EN$4:EQ$4,$S10,EN$5:EQ$5)+EH10*SUMIF(EN$4:EQ$4,$S10,EN$6:EQ$6),0)))","v":0},null,null,null,null,{"$f":"IF(IF($Q10=1,ET10*$Q$10-EU10,ET10-EU10)<0,0,IF($Q10=1,ET10*$Q$10-EU10,ET10-EU10))","v":0},{"$f":"IFERROR(EV10/ET10,0)","v":0},{"$f":"MIN(EL10,EA10,DP10,DE10,CX10,CQ10,CJ10,CC10,BV10,BO10,BH10,BA10,EW10)","v":0},{"$f":"IF(AND(EX10>0.4,FB10>0),EV10*EY$11,0)","v":0},{"$f":"SUM(FA10:FB10)","v":0},{"$f":"EY10*SUMIF(EY$4:FB$4,$S10,EY$5:FB$5)","v":0},{"$f":"IF(ER10=1,SUMIF(EY$4:FB$4,$S10,EY$7:FB$7)*ES10,IF(ER10=\"ГН\",EU10*SUMIF(EY$4:FB$4,$S10,EY$5:FB$5),IF(ER10=2,EU10*SUMIF(EY$4:FB$4,$S10,EY$5:FB$5)+ES10*SUMIF(EY$4:FB$4,$S10,EY$6:FB$6),0)))","v":0},null,null,null,null,{"$f":"IF(IF($Q10=1,FE10*$Q$10-FF10,FE10-FF10)<0,0,IF($Q10=1,FE10*$Q$10-FF10,FE10-FF10))","v":0},{"$f":"IFERROR(FG10/FE10,0)","v":0},{"$f":"MIN(EW10,EL10,EA10,DP10,DE10,CX10,CQ10,CJ10,CC10,BV10,BO10,BH10,FH10)","v":0},{"$f":"IF(AND(FI10>0.4,FM10>0),FG10*FJ$11,0)","v":0},{"$f":"SUM(FL10:FM10)","v":0},{"$f":"FJ10*SUMIF(FJ$4:FM$4,$S10,FJ$5:FM$5)","v":0},{"$f":"IF(FC10=1,SUMIF(FJ$4:FM$4,$S10,FJ$7:FM$7)*FD10,IF(FC10=\"ГН\",FF10*SUMIF(FJ$4:FM$4,$S10,FJ$5:FM$5),IF(FC10=2,FF10*SUMIF(FJ$4:FM$4,$S10,FJ$5:FM$5)+FD10*SUMIF(FJ$4:FM$4,$S10,FJ$6:FM$6),0)))","v":0},null,null,null,null,{"$f":"IF(IF($Q10=1,FP10*$Q$10-FQ10,FP10-FQ10)<0,0,IF($Q10=1,FP10*$Q$10-FQ10,FP10-FQ10))","v":0},{"$f":"IFERROR(FR10/FP10,0)","v":0},{"$f":"MIN(FH10,EW10,EL10,EA10,DP10,DE10,CX10,CQ10,CJ10,CC10,BV10,BO10,FS10)","v":0},{"$f":"IF(AND(FT10>0.4,FX10>0),FR10*FU$11,0)","v":0},{"$f":"SUM(FW10:FX10)","v":0},{"$f":"FU10*SUMIF(FU$4:FX$4,$S10,FU$5:FX$5)","v":0},{"$f":"IF(FN10=1,SUMIF(FU$4:FX$4,$S10,FU$7:FX$7)*FO10,IF(FN10=\"ГН\",FQ10*SUMIF(FU$4:FX$4,$S10,FU$5:FX$5),IF(FN10=2,FQ10*SUMIF(FU$4:FX$4,$S10,FU$5:FX$5)+FO10*SUMIF(FU$4:FX$4,$S10,FU$6:FX$6),0)))","v":0},null,null,null,null,{"$f":"IF(IF($Q10=1,GA10*$Q$10-GB10,GA10-GB10)<0,0,IF($Q10=1,GA10*$Q$10-GB10,GA10-GB10))","v":0},{"$f":"IFERROR(GC10/GA10,0)","v":0},{"$f":"MIN(FS10,FH10,EW10,EL10,EA10,DP10,DE10,CX10,CQ10,CJ10,CC10,BV10,GD10)","v":0},{"$f":"IF(AND(GE10>0.4,GI10>0),GC10*GF$11,0)","v":0},{"$f":"SUM(GH10:GI10)","v":0},{"$f":"GF10*SUMIF(GF$4:GI$4,$S10,GF$5:GI$5)","v":0},{"$f":"IF(FY10=1,SUMIF(GF$4:GI$4,$S10,GF$7:GI$7)*FZ10,IF(FY10=\"ГН\",GB10*SUMIF(GF$4:GI$4,$S10,GF$5:GI$5),IF(FY10=2,GB10*SUMIF(GF$4:GI$4,$S10,GF$5:GI$5)+FZ10*SUMIF(GF$4:GI$4,$S10,GF$6:GI$6),0)))","v":0},null,null,null,null,{"$f":"IF(IF($Q10=1,GL10*$Q$10-GM10,GL10-GM10)<0,0,IF($Q10=1,GL10*$Q$10-GM10,GL10-GM10))","v":0},{"$f":"IFERROR(GN10/GL10,0)","v":0},{"$f":"MIN(GD10,FS10,FH10,EW10,EL10,EA10,DP10,DE10,CX10,CQ10,CJ10,CC10,GO10)","v":0},{"$f":"IF(AND(GP10>0.4,GT10>0),GN10*GQ$11,0)","v":0},{"$f":"SUM(GS10:GT10)","v":0},{"$f":"GQ10*SUMIF(GQ$4:GT$4,$S10,GQ$5:GT$5)","v":0},{"$f":"IF(GJ10=1,SUMIF(GQ$4:GT$4,$S10,GQ$7:GT$7)*GK10,IF(GJ10=\"ГН\",GM10*SUMIF(GQ$4:GT$4,$S10,GQ$5:GT$5),IF(GJ10=2,GM10*SUMIF(GQ$4:GT$4,$S10,GQ$5:GT$5)+GK10*SUMIF(GQ$4:GT$4,$S10,GQ$6:GT$6),0)))","v":0},null,null,null,null,{"$f":"IF(IF($Q10=1,GW10*$Q$10-GX10,GW10-GX10)<0,0,IF($Q10=1,GW10*$Q$10-GX10,GW10-GX10))","v":0},{"$f":"IFERROR(GY10/GW10,0)","v":0},{"$f":"MIN(GO10,GD10,FS10,FH10,EW10,EL10,EA10,DP10,DE10,CX10,CQ10,CJ10,GZ10)","v":0},{"$f":"IF(AND(HA10>0.4,HE10>0),GY10*HB$11,0)","v":0},{"$f":"SUM(HD10:HE10)","v":0},{"$f":"HB10*SUMIF(HB$4:HE$4,$S10,HB$5:HE$5)","v":0},{"$f":"IF(GU10=1,SUMIF(HB$4:HE$4,$S10,HB$7:HE$7)*GV10,IF(GU10=\"ГН\",GX10*SUMIF(HB$4:HE$4,$S10,HB$5:HE$5),IF(GU10=2,GX10*SUMIF(HB$4:HE$4,$S10,HB$5:HE$5)+GV10*SUMIF(HB$4:HE$4,$S10,HB$6:HE$6),0)))","v":0},null,null,null,null,{"$f":"IF(IF($Q10=1,HH10*$Q$10-HI10,HH10-HI10)<0,0,IF($Q10=1,HH10*$Q$10-HI10,HH10-HI10))","v":0},{"$f":"IFERROR(HJ10/HH10,0)","v":0},{"$f":"MIN(GZ10,GO10,GD10,FS10,FH10,EW10,EL10,EA10,DP10,DE10,CX10,CQ10,HK10)","v":0},{"$f":"IF(AND(HL10>0.4,HP10>0),HJ10*HM$11,0)","v":0},{"$f":"SUM(HO10:HP10)","v":0},{"$f":"HM10*SUMIF(HM$4:HP$4,$S10,HM$5:HP$5)","v":0},{"$f":"IF(HF10=1,SUMIF(HM$4:HP$4,$S10,HM$7:HP$7)*HG10,IF(HF10=\"ГН\",HI10*SUMIF(HM$4:HP$4,$S10,HM$5:HP$5),IF(HF10=2,HI10*SUMIF(HM$4:HP$4,$S10,HM$5:HP$5)+HG10*SUMIF(HM$4:HP$4,$S10,HM$6:HP$6),0)))","v":0},null,null,null,null,{"$f":"IF(IF($Q10=1,HS10*$Q$10-HT10,HS10-HT10)<0,0,IF($Q10=1,HS10*$Q$10-HT10,HS10-HT10))","v":0},{"$f":"IFERROR(HU10/HS10,0)","v":0},{"$f":"MIN(HK10,GZ10,GO10,GD10,FS10,FH10,EW10,EL10,EA10,DP10,DE10,CX10,HV10)","v":0},{"$f":"IF(AND(HW10>0.4,IA10>0),HU10*HX$11,0)","v":0},{"$f":"SUM(HZ10:IA10)","v":0},{"$f":"HX10*SUMIF(HX$4:IA$4,$S10,HX$5:IA$5)","v":0},{"$f":"IF(HQ10=1,SUMIF(HX$4:IA$4,$S10,HX$7:IA$7)*HR10,IF(HQ10=\"ГН\",HT10*SUMIF(HX$4:IA$4,$S10,HX$5:IA$5),IF(HQ10=2,HT10*SUMIF(HX$4:IA$4,$S10,HX$5:IA$5)+HR10*SUMIF(HX$4:IA$4,$S10,HX$6:IA$6),0)))","v":0},null,{"$f":"SUM(HR10,HG10,GV10,GK10,FZ10,FO10,FD10,ES10,EH10,DW10,DL10,DA10)","v":0},{"$f":"IFERROR(AVERAGE(HS10,HH10,GW10,GL10,GA10,FP10,FE10,ET10,EI10,DX10,DM10,DB10),0)","v":0},{"$f":"IFERROR(AVERAGE(HT10,HI10,GX10,GM10,GB10,FQ10,FF10,EU10,EJ10,DY10,DN10,DC10),0)","v":0},{"$f":"IFERROR(AVERAGE(HU10,HJ10,GY10,GN10,GC10,FR10,FG10,EV10,EK10,DZ10,DO10,DD10),0)","v":0},{"$f":"IFERROR(IF10/ID10,0)","v":0},{"$f":"IFERROR(AVERAGE(HX10,HM10,HB10,GQ10,GF10,FU10,FJ10,EY10,EN10,EC10,DR10,DG10),0)","v":0},{"$f":"IJ10+IK10","v":0},{"$f":"SUM(HZ10,HO10,HD10,GS10,GH10,FW10,FL10,FA10,EP10,EE10,DT10,DI10)","v":0},{"$f":"SUM(IA10,HP10,HE10,GT10,GI10,FX10,FM10,FB10,EQ10,EF10,DU10,DJ10)","v":0}]
["Объем оплачиваемой резервируемой максимальной мощности - определяется с учетом понижающего коэффициента 5%",null,null,null,null,null,null,null,null,null,null,null,null,null,null,null,null,null,null,null,null,null,null,null,null,null,null,null,null,null,null,null,null,null,null,null,null,null,null,null,null,null,null,null,null,null,null,null,null,null,null,null,null,null,null,null,null,null,null,null,null,null,null,null,null,null,null,null,null,null,null,null,null,null,null,null,null,null,null,null,null,null,null,null,null,null,null,null,null,null,null,null,null,null,null,null,null,null,null,null,null,null,null,null,null,null,null,null,null,null,0.05,null,null,null,null,null,null,null,null,null,null,0.05,null,null,null,null,null,null,null,null,null,null,0.05,null,null,null,null,null,null,null,null,null,null,0.05,null,null,null,null,null,null,null,null,null,null,0.05,null,null,null,null,null,null,null,null,null,null,0.05,null,null,null,null,null,null,null,null,null,null,0.05,null,null,null,null,null,null,null,null,null,null,0.05,null,null,null,null,null,null,null,null,null,null,0.05,null,null,null,null,null,null,null,null,null,null,0.05,null,null,null,null,null,null,null,null,null,null,0.05,null,null,null,null,null,null,null,null,null,null,0.05]
[null,null,null,null,null,null,null,null,null,null,null,null,null,null,null,null,null,null,null,null,null,null,null,null,null,null,null,null,null,null,null,null,null,null,null,null,null,null,null,null,null,null,null,null,null,null,null,null,null,null,null,null,null,null,null,null,null,null,null,null,null,null,null,null,null,null,null,null,null,null,null,null,null,null,null,null,null,null,null,null,null,null,null,null,null,null,null,null,null,"1 месяц из 12 предыдущих ноябрю 2020 месяцев",null,null,null,null,null,null,"2 месяц из 12 предыдущих ноябрю 2020 месяцев",null,null,null,null,null,null,"3 месяц из 12 предыдущих ноябрю 2020 месяцев",null,null,null,null,null,null,null,null,null,null,"4 месяц из 12 предыдущих ноябрю 2020 месяцев",null,null,null,null,null,null,null,null,null,null,"5 месяц из 12 предыдущих ноябрю 2020 месяцев",null,null,null,null,null,null,null,null,null,null,"6 месяц из 12 предыдущих ноябрю 2020 месяцев",null,null,null,null,null,null,null,null,null,null,"7 месяц из 12 предыдущих ноябрю 2020 месяцев",null,null,null,null,null,null,null,null,null,null,"8 месяц из 12 предыдущих ноябрю 2020 месяцев",null,null,null,null,null,null,null,null,null,null,"9 месяц из 12 предыдущих ноябрю 2020 месяцев",null,null,null,null,null,null,null,null,null,null,"10 месяц из 12 предыдущих ноябрю 2020 месяцев",null,null,null,null,null,null,null,null,null,null,"11 месяц из 12 предыдущих ноябрю 2020 месяцев",null,null,null,null,null,null,null,null,null,null,"12 месяц из 12 предыдущих ноябрю 2020 месяцев",null,null,null,null,null,null,null,null,null,null,"Расчетный месяц"]
["Субъект отчетности ДЗО","Субъект РФ","Данные сетевой компании",null,null,null,null,null,null,"Признак наличия собственной генерации у потребителя\n\n(\"ДА\", если есть)","Наименование генерирующей станции\n(в случае если ур. напряжения ГН)","ЭПУ (группа ЭПУ) 670 кВт и выше/менее 670 кВт ","ИНН ГП (ЭСК)","Наименование ГП (ЭСК)","ИНН сетевой организации","Наименование сетевой организации","Категорий ограничения","Признак договора","Уровень напряжения","2019-01-01",null,null,null,null,null,null,"2019-02-01",null,null,null,null,null,null,"2019-03-01",null,null,null,null,null,null,"2019-04-01",null,null,null,null,null,null,"2019-05-01",null,null,null,null,null,null,"2019-06-01",null,null,null,null,null,null,"2019-07-01",null,null,null,null,null,null,"2019-08-01",null,null,null,null,null,null,"2019-09-01",null,null,null,null,null,null,"2019-10-01",null,null,null,null,null,null,"2019-11-01",null,null,null,null,null,null,"2019-12-01",null,null,null,null,null,null,"2020-01-01",null,null,null,null,null,null,null,null,null,null,"2020-02-01",null,null,null,null,null,null,null,null,null,null,"2020-03-01",null,null,null,null,null,null,null,null,null,null,"2020-04-01",null,null,null,null,null,null,null,null,null,null,"2020-05-01",null,null,null,null,null,null,null,null,null,null,"2020-06-01",null,null,null,null,null,null,null,null,null,null,"2020-07-01",null,null,null,null,null,null,null,null,null,null,"2020-08-01",null,null,null,null,null,null,null,null,null,null,"2020-09-01",null,null,null,null,null,null,null,null,null,null,"2020-10-01",null,null,null,null,null,null,null,null,null,null,"2020-11-01",null,null,null,null,null,null,null,null,null,null,"2020-12-01",null,null,null,null,null,null,null,null,null,null,"ИТОГО ЗА 2020 год"]
[null,null,"ИНН потребителя","Наименование потребителя","Объект","Классификатор потребителей",null,null,null,null,null,null,null,null,null,null,null,null,null,"Вариант тарифа","ЭЭ, \nтыс. кВтч","Pmax, МВт","Pфакт, МВт","Pрезерв, МВт","доля Pрезерв, %","Стоимость услуги по передаче, руб. ","Вариант тарифа","ЭЭ, \nтыс. кВтч","Pmax, МВт","Pфакт, МВт","Pрезерв, МВт","доля Pрезерв, %","Стоимость услуги по передаче, руб. ","Вариант тарифа","ЭЭ, \nтыс. кВтч","Pmax, МВт","Pфакт, МВт","Pрезерв, МВт","доля Pрезерв, %","Стоимость услуги по передаче, руб. ","Вариант тарифа","ЭЭ, \nтыс. кВтч","Pmax, МВт","Pфакт, МВт","Pрезерв, МВт","доля Pрезерв, %","Стоимость услуги по передаче, руб. ","Вариант тарифа","ЭЭ, \nтыс. кВтч","Pmax, МВт","Pфакт, МВт","Pрезерв, МВт","доля Pрезерв, %","Стоимость услуги по передаче, руб. ","Вариант тарифа","ЭЭ, \nтыс. кВтч","Pmax, МВт","Pфакт, МВт","Pрезерв, МВт","доля Pрезерв, %","Стоимость услуги по передаче, руб. ","Вариант тарифа","ЭЭ, \nтыс. кВтч","Pmax, МВт","Pфакт, МВт","Pрезерв, МВт","доля Pрезерв, %","Стоимость услуги по передаче, руб. ","Вариант тарифа","ЭЭ, \nтыс. кВтч","Pmax, МВт","Pфакт, МВт","Pрезерв, МВт","доля Pрезерв, %","Стоимость услуги по передаче, руб. ","Вариант тарифа","ЭЭ, \nтыс. кВтч","Pmax, МВт","Pфакт, МВт","Pрезерв, МВт","доля Pрезерв, %","Стоимость услуги по передаче, руб. ","Вариант тарифа","ЭЭ, \nтыс. кВтч","Pmax, МВт","Pфакт, МВт","Pрезерв, МВт","доля Pрезерв, %","Стоимость услуги по передаче, руб. ","Вариант тарифа","ЭЭ, \nтыс. кВтч","Pmax, МВт","Pфакт, МВт","Pрезерв, МВт","доля Pрезерв, %","Стоимость услуги по передаче, руб. ","Вариант тарифа","ЭЭ, \nтыс. кВтч","Pmax, МВт","Pфакт, МВт","Pрезерв, МВт","доля Pрезерв, %","Стоимость услуги по передаче, руб. ","Вариант тарифа","ЭЭ, \nтыс. кВтч","Pmax, МВт","Pфакт, МВт","Pрезерв, МВт","доля Pрезерв, %","min доля Pрезерв, % из 12 мес.","Pрезерв_опл, МВт","Стоимость услуги по передаче, руб.",null,null,"Вариант тарифа","ЭЭ, \nтыс. кВтч","Pmax, МВт","Pфакт, МВт","Pрезерв, МВт","доля Pрезерв, %","min доля Pрезерв, % из 12 мес.","Pрезерв_опл, МВт","Стоимость услуги по передаче, руб.",null,null,"Вариант тарифа","ЭЭ, \nтыс. кВтч","Pmax, МВт","Pфакт, МВт","Pрезерв, МВт","доля Pрезерв, %","min доля Pрезерв, % из 12 мес.","Pрезерв_опл, МВт","Стоимость услуги по передаче, руб.",null,null,"Вариант тарифа","ЭЭ, \nтыс. кВтч","Pmax, МВт","Pфакт, МВт","Pрезерв, МВт","доля Pрезерв, %","min доля Pрезерв, % из 12 мес.","Pрезерв_опл, МВт","Стоимость услуги по передаче, руб.",null,null,"Вариант тарифа","ЭЭ, \nтыс. кВтч","Pmax, МВт","Pфакт, МВт","Pрезерв, МВт","доля Pрезерв, %","min доля Pрезерв, % из 12 мес.","Pрезерв_опл, МВт","Стоимость услуги по передаче, руб.",null,null,"Вариант тарифа","ЭЭ, \nтыс. кВтч","Pmax, МВт","Pфакт, МВт","Pрезерв, МВт","доля Pрезерв, %","min доля Pрезерв, % из 12 мес.","Pрезерв_опл, МВт","Стоимость услуги по передаче, руб.",null,null,"Вариант тарифа","ЭЭ, \nтыс. кВтч","Pmax, МВт","Pфакт, МВт","Pрезерв, МВт","доля Pрезерв, %","min доля Pрезерв, % из 12 мес.","Pрезерв_опл, МВт","Стоимость услуги по передаче, руб.",null,null,"Вариант тарифа","ЭЭ, \nтыс. кВтч","Pmax, МВт","Pфакт, МВт","Pрезерв, МВт","доля Pрезерв, %","min доля Pрезерв, % из 12 мес.","Pрезерв_опл, МВт","Стоимость услуги по передаче, руб.",null,null,"Вариант тарифа","ЭЭ, \nтыс. кВтч","Pmax, МВт","Pфакт, МВт","Pрезерв, МВт","доля Pрезерв, %","min доля Pрезерв, % из 12 мес.","Pрезерв_опл, МВт","Стоимость услуги по передаче, руб.",null,null,"Вариант тарифа","ЭЭ, \nтыс. кВтч","Pmax, МВт","Pфакт, МВт","Pрезерв, МВт","доля Pрезерв, %","min доля Pрезерв, % из 12 мес.","Pрезерв_опл, МВт","Стоимость услуги по передаче, руб.",null,null,"Вариант тарифа","ЭЭ, \nтыс. кВтч","Pmax, МВт","Pфакт, МВт","Pрезерв, МВт","доля Pрезерв, %","min доля Pрезерв, % из 12 мес.","Pрезерв_опл, МВт","Стоимость услуги по передаче, руб.",null,null,"Вариант тарифа","ЭЭ, \nтыс. кВтч","Pmax, МВт","Pфакт, МВт","Pрезерв, МВт","доля Pрезерв, %","min доля Pрезерв, % из 12 мес.","Pрезерв_опл, МВт","Стоимость услуги по передаче, руб.",null,null,"Вариант тарифа","ЭЭ, \nтыс. кВтч","сред. знач Pmax, МВт","сред. знач Pфакт, МВт","Pрезерв, МВт","доля Pрезерв, %","сред знач Pрезерв_опл, МВт","Стоимость услуги по передаче, руб."]
[null,null,null,null,null,"Основной","Дополнит.","Бюджет","Группа компаний",null,null,null,null,null,null,null,"да - \"1\" / нет - \"\"","(Э / КП)","(ВН1/ВН/СН1/СН2/НН)","(1/2/ ГН)",null,null,null,null,null,"(для  ВН1, заполняется пользователем)","(1/2/ ГН)",null,null,null,null,null,"(для  ВН1, заполняется пользователем)","(1/2/ ГН)",null,null,null,null,null,"(для  ВН1, заполняется пользователем)","(1/2/ ГН)",null,null,null,null,null,"(для  ВН1, заполняется пользователем)","(1/2/ ГН)",null,null,null,null,null,"(для  ВН1, заполняется пользователем)","(1/2/ ГН)",null,null,null,null,null,"(для  ВН1, заполняется пользователем)","(1/2/ ГН)",null,null,null,null,null,"(для  ВН1, заполняется пользователем)","(1/2/ ГН)",null,null,null,null,null,"(для  ВН1, заполняется пользователем)","(1/2/ ГН)",null,null,null,null,null,"(для  ВН1, заполняется пользователем)","(1/2/ ГН)",null,null,null,null,null,"(для  ВН1, заполняется пользователем)","(1/2/ ГН)",null,null,null,null,null,"(для  ВН1, заполняется пользователем)","(1/2/ ГН)",null,null,null,null,null,"(для  ВН1, заполняется пользователем)","(1 / 2 / ГН)",null,null,null,null,null,null,0.05,"всего","резерв","передача (для  ВН1, заполняется пользователем)","(1 / 2 / ГН)",null,null,null,null,null,null,0.05,"всего","резерв","передача (для  ВН1, заполняется пользователем)","(1 / 2 / ГН)",null,null,null,null,null,null,0.05,"всего","резерв","передача (для  ВН1, заполняется пользователем)","(1 / 2 / ГН)",null,null,null,null,null,null,0.05,"всего","резерв","передача (для  ВН1, заполняется пользователем)","(1 / 2 / ГН)",null,null,null,null,null,null,0.05,"всего","резерв","передача (для  ВН1, заполняется пользователем)","(1 / 2 / ГН)",null,null,null,null,null,null,0.05,"всего","резерв","передача (для  ВН1, заполняется пользователем)","(1 / 2 / ГН)",null,null,null,null,null,null,0.05,"всего","резерв","передача (для  ВН1, заполняется пользователем)","(1 / 2 / ГН)",null,null,null,null,null,null,0.05,"всего","резерв","передача (для  ВН1, заполняется пользователем)","(1 / 2 / ГН)",null,null,null,null,null,null,0.05,"всего","резерв","передача (для  ВН1, заполняется пользователем)","(1 / 2 / ГН)",null,null,null,null,null,null,0.05,"всего","резерв","передача (для  ВН1, заполняется пользователем)","(1 / 2 / ГН)",null,null,null,null,null,null,0.05,"всего","резерв","передача (для  ВН1, заполняется пользователем)","(1 / 2 / ГН)",null,null,null,null,null,null,0.05,"всего","резерв","передача (для  ВН1, заполняется пользователем)","(1 / 2 / ГН)",null,null,null,null,null,0.05,"всего","резерв","передача"]
[1,{"$f":"A16+1","v":2},{"$f":"B16+1","v":3},{"$f":"C16+1","v":4},5,{"$f":"E16+1","v":6},{"$f":"F16+1","v":7},{"$f":"G16+1","v":8},{"$f":"H16+1","v":9},10,11,12,13,14,15,16,17,18,19,20,21,22,23,24,25,26,27,28,29,30,31,32,33,34,35,36,37,38,39,40,41,42,43,44,45,46,47,48,49,50,51,52,53,54,55,56,57,58,59,60,61,62,63,64,65,66,67,68,69,70,71,72,{"$f":"BT16+1","v":73},74,75,76,77,78,79,80,81,82,83,84,85,86,87,88,89,90,91,92,93,94,95,96,97,98,99,100,101,102,103,104,105,106,107,108,109,110,111,112,113,114,115,116,117,118,119,120,121,122,123,124,125,126,127,128,129,130,131,132,133,134,135,136,{"$f":"EF16+1","v":137},138,139,140,141,142,143,144,145,146,147,148,149,150,151,152,153,154,155,156,157,158,159,160,161,162,163,164,165,166,167,168,169,170,171,172,173,174,175,176,177,178,179,180,181,182,183,184,185,186,187,188,189,190,191,192,193,194,195,196,197,198,199,200,{"$f":"GR16+1","v":201},202,203,204,205,206,207,208,209,210,211,212,213,214,215,216,217,218,219,220,221,222,223,224,225,226,227,228,229,230,231,232,233,234,235,236,237,238,239,240,241,242,243,244,245]
["ООО \"МИП \"Кинешма\"","Ивановская область",null,"ОГУЗ \"Наркодиспансер\"","КТП№14 ООО \"МИП \"Кинешма\", ячейка в РУ04кВ, ЩР в КТП14 ","Гос. Учреждения","ГУ.Прочие","Областной",null,null,null,"менее 670",5612042824,"АО \"ЭнергосбыТ Плюс\"",3703020510,"ООО \"МИП \"Кинешма\"",null,"Э","СН2",null,null,null,null,{"$f":"IF(IF($Q17=1,V17*$Q$10-W17,V17-W17)<0,0,IF($Q17=1,V17*$Q$10-W17,V17-W17))","v":0},{"$f":"IFERROR(X17/V17,0)","v":0},{"$f":"IF(T17=1,SUMIF(W$4:Z$4,$S17,W$7:Z$7)*U17,IF(T17=\"ГН\",W17*SUMIF(W$4:Z$4,$S17,W$5:Z$5),IF(T17=2,W17*SUMIF(W$4:Z$4,$S17,W$5:Z$5)+U17*SUMIF(W$4:Z$4,$S17,W$6:Z$6),0)))","v":0},null,null,null,null,{"$f":"IF(IF($Q17=1,AC17*$Q$10-AD17,AC17-AD17)<0,0,IF($Q17=1,AC17*$Q$10-AD17,AC17-AD17))","v":0},{"$f":"IFERROR(AE17/AC17,0)","v":0},{"$f":"IF(AA17=1,SUMIF(AD$4:AG$4,$S17,AD$7:AG$7)*AB17,IF(AA17=\"ГН\",AD17*SUMIF(AD$4:AG$4,$S17,AD$5:AG$5),IF(AA17=2,AD17*SUMIF(AD$4:AG$4,$S17,AD$5:AG$5)+AB17*SUMIF(AD$4:AG$4,$S17,AD$6:AG$6),0)))","v":0},null,null,null,null,{"$f":"IF(IF($Q17=1,AJ17*$Q$10-AK17,AJ17-AK17)<0,0,IF($Q17=1,AJ17*$Q$10-AK17,AJ17-AK17))","v":0},{"$f":"IFERROR(AL17/AJ17,0)","v":0},{"$f":"IF(AH17=1,SUMIF(AK$4:AN$4,$S17,AK$7:AN$7)*AI17,IF(AH17=\"ГН\",AK17*SUMIF(AK$4:AN$4,$S17,AK$5:AN$5),IF(AH17=2,AK17*SUMIF(AK$4:AN$4,$S17,AK$5:AN$5)+AI17*SUMIF(AK$4:AN$4,$S17,AK$6:AN$6),0)))","v":0},null,null,null,null,{"$f":"IF(IF($Q17=1,AQ17*$Q$10-AR17,AQ17-AR17)<0,0,IF($Q17=1,AQ17*$Q$10-AR17,AQ17-AR17))","v":0},{"$f":"IFERROR(AS17/AQ17,0)","v":0},{"$f":"IF(AO17=1,SUMIF(AR$4:AU$4,$S17,AR$7:AU$7)*AP17,IF(AO17=\"ГН\",AR17*SUMIF(AR$4:AU$4,$S17,AR$5:AU$5),IF(AO17=2,AR17*SUMIF(AR$4:AU$4,$S17,AR$5:AU$5)+AP17*SUMIF(AR$4:AU$4,$S17,AR$6:AU$6),0)))","v":0},null,null,null,null,{"$f":"IF(IF($Q17=1,AX17*$Q$10-AY17,AX17-AY17)<0,0,IF($Q17=1,AX17*$Q$10-AY17,AX17-AY17))","v":0},{"$f":"IFERROR(AZ17/AX17,0)","v":0},{"$f":"IF(AV17=1,SUMIF(AY$4:BB$4,$S17,AY$7:BB$7)*AW17,IF(AV17=\"ГН\",AY17*SUMIF(AY$4:BB$4,$S17,AY$5:BB$5),IF(AV17=2,AY17*SUMIF(AY$4:BB$4,$S17,AY$5:BB$5)+AW17*SUMIF(AY$4:BB$4,$S17,AY$6:BB$6),0)))","v":0},null,null,null,null,{"$f":"IF(IF($Q17=1,BE17*$Q$10-BF17,BE17-BF17)<0,0,IF($Q17=1,BE17*$Q$10-BF17,BE17-BF17))","v":0},{"$f":"IFERROR(BG17/BE17,0)","v":0},{"$f":"IF(BC17=1,SUMIF(BF$4:BI$4,$S17,BF$7:BI$7)*BD17,IF(BC17=\"ГН\",BF17*SUMIF(BF$4:BI$4,$S17,BF$5:BI$5),IF(BC17=2,BF17*SUMIF(BF$4:BI$4,$S17,BF$5:BI$5)+BD17*SUMIF(BF$4:BI$4,$S17,BF$6:BI$6),0)))","v":0},null,null,null,null,{"$f":"IF(IF($Q17=1,BL17*$Q$10-BM17,BL17-BM17)<0,0,IF($Q17=1,BL17*$Q$10-BM17,BL17-BM17))","v":0},{"$f":"IFERROR(BN17/BL17,0)","v":0},{"$f":"IF(BJ17=1,SUMIF(BM$4:BP$4,$S17,BM$7:BP$7)*BK17,IF(BJ17=\"ГН\",BM17*SUMIF(BM$4:BP$4,$S17,BM$5:BP$5),IF(BJ17=2,BM17*SUMIF(BM$4:BP$4,$S17,BM$5:BP$5)+BK17*SUMIF(BM$4:BP$4,$S17,BM$6:BP$6),0)))","v":0},null,null,null,null,{"$f":"IF(IF($Q17=1,BS17*$Q$10-BT17,BS17-BT17)<0,0,IF($Q17=1,BS17*$Q$10-BT17,BS17-BT17))","v":0},{"$f":"IFERROR(BU17/BS17,0)","v":0},{"$f":"IF(BQ17=1,SUMIF(BT$4:BW$4,$S17,BT$7:BW$7)*BR17,IF(BQ17=\"ГН\",BT17*SUMIF(BT$4:BW$4,$S17,BT$5:BW$5),IF(BQ17=2,BT17*SUMIF(BT$4:BW$4,$S17,BT$5:BW$5)+BR17*SUMIF(BT$4:BW$4,$S17,BT$6:BW$6),0)))","v":0},null,null,null,null,{"$f":"IF(IF($Q17=1,BZ17*$Q$10-CA17,BZ17-CA17)<0,0,IF($Q17=1,BZ17*$Q$10-CA17,BZ17-CA17))","v":0},{"$f":"IFERROR(CB17/BZ17,0)","v":0},{"$f":"IF(BX17=1,SUMIF(CA$4:CD$4,$S17,CA$7:CD$7)*BY17,IF(BX17=\"ГН\",CA17*SUMIF(CA$4:CD$4,$S17,CA$5:CD$5),IF(BX17=2,CA17*SUMIF(CA$4:CD$4,$S17,CA$5:CD$5)+BY17*SUMIF(CA$4:CD$4,$S17,CA$6:CD$6),0)))","v":0},null,null,null,null,{"$f":"IF(IF($Q17=1,CG17*$Q$10-CH17,CG17-CH17)<0,0,IF($Q17=1,CG17*$Q$10-CH17,CG17-CH17))","v":0},{"$f":"IFERROR(CI17/CG17,0)","v":0},{"$f":"IF(CE17=1,SUMIF(CH$4:CK$4,$S17,CH$7:CK$7)*CF17,IF(CE17=\"ГН\",CH17*SUMIF(CH$4:CK$4,$S17,CH$5:CK$5),IF(CE17=2,CH17*SUMIF(CH$4:CK$4,$S17,CH$5:CK$5)+CF17*SUMIF(CH$4:CK$4,$S17,CH$6:CK$6),0)))","v":0},1,6.6360000000000001,0.03,2.1319000000000001E-2,{"$f":"IF(IF($Q17=1,CN17*$Q$10-CO17,CN17-CO17)<0,0,IF($Q17=1,CN17*$Q$10-CO17,CN17-CO17))","v":8.6809999999999977E-3},{"$f":"IFERROR(CP17/CN17,0)","v":0.28936666666666661},{"$f":"IF(CL17=1,SUMIF(CO$4:CR$4,$S17,CO$7:CR$7)*CM17,IF(CL17=\"ГН\",CO17*SUMIF(CO$4:CR$4,$S17,CO$5:CR$5),IF(CL17=2,CO17*SUMIF(CO$4:CR$4,$S17,CO$5:CR$5)+CM17*SUMIF(CO$4:CR$4,$S17,CO$6:CR$6),0)))","v":13632.26844},1,6.96,0.03,2.1958999999999999E-2,{"$f":"IF(IF($Q17=1,CU17*$Q$10-CV17,CU17-CV17)<0,0,IF($Q17=1,CU17*$Q$10-CV17,CU17-CV17))","v":8.0409999999999995E-3},{"$f":"IFERROR(CW17/CU17,0)","v":0.26803333333333335},{"$f":"IF(CS17=1,SUMIF(CV$4:CY$4,$S17,CV$7:CY$7)*CT17,IF(CS17=\"ГН\",CV17*SUMIF(CV$4:CY$4,$S17,CV$5:CY$5),IF(CS17=2,CV17*SUMIF(CV$4:CY$4,$S17,CV$5:CY$5)+CT17*SUMIF(CV$4:CY$4,$S17,CV$6:CY$6),0)))","v":0},1,6.8890000000000002,0.03,2.1402000000000001E-2,{"$f":"IF(IF($Q17=1,DB17*$Q$10-DC17,DB17-DC17)<0,0,IF($Q17=1,DB17*$Q$10-DC17,DB17-DC17))","v":8.597999999999998E-3},{"$f":"IFERROR(DD17/DB17,0)","v":0.28659999999999997},{"$f":"MIN(CX17,CQ17,CJ17,CC17,BV17,BO17,BH17,BA17,AT17,AM17,AF17,Y17,DE17)","v":0},{"$f":"IF(AND(DF17>0.4,DJ17>0),DD17*DG$11,0)","v":0},{"$f":"SUM(DI17:DJ17)","v":0},{"$f":"DG17*SUMIF(DG$4:DJ$4,$S17,DG$5:DJ$5)","v":0},{"$f":"IF(CZ17=1,SUMIF(DG$4:DJ$4,$S17,DG$7:DJ$7)*DA17,IF(CZ17=\"ГН\",DC17*SUMIF(DG$4:DJ$4,$S17,DG$5:DJ$5),IF(CZ17=2,DC17*SUMIF(DG$4:DJ$4,$S17,DG$5:DJ$5)+DA17*SUMIF(DG$4:DJ$4,$S17,DG$6:DJ$6),0)))","v":0},1,6.6609999999999996,0.03,2.1794000000000001E-2,{"$f":"IF(IF($Q17=1,DM17*$Q$10-DN17,DM17-DN17)<0,0,IF($Q17=1,DM17*$Q$10-DN17,DM17-DN17))","v":8.205999999999998E-3},{"$f":"IFERROR(DO17/DM17,0)","v":0.2735333333333333},{"$f":"MIN(DE17,CX17,CQ17,CJ17,CC17,BV17,BO17,BH17,BA17,AT17,AM17,AF17,DP17)","v":0},{"$f":"IF(AND(DQ17>0.4,DU17>0),DO17*DR$11,0)","v":0},{"$f":"SUM(DT17:DU17)","v":0},{"$f":"DR17*SUMIF(DR$4:DU$4,$S17,DR$5:DU$5)","v":0},{"$f":"IF(DK17=1,SUMIF(DR$4:DU$4,$S17,DR$7:DU$7)*DL17,IF(DK17=\"ГН\",DN17*SUMIF(DR$4:DU$4,$S17,DR$5:DU$5),IF(DK17=2,DN17*SUMIF(DR$4:DU$4,$S17,DR$5:DU$5)+DL17*SUMIF(DR$4:DU$4,$S17,DR$6:DU$6),0)))","v":0},1,6.4930000000000003,0.03,1.9585999999999999E-2,{"$f":"IF(IF($Q17=1,DX17*$Q$10-DY17,DX17-DY17)<0,0,IF($Q17=1,DX17*$Q$10-DY17,DX17-DY17))","v":1.0414E-2},{"$f":"IFERROR(DZ17/DX17,0)","v":0.34713333333333335},{"$f":"MIN(DP17,DE17,CX17,CQ17,CJ17,CC17,BV17,BO17,BH17,BA17,AT17,AM17,EA17)","v":0},{"$f":"IF(AND(EB17>0.4,EF17>0),DZ17*EC$11,0)","v":0},{"$f":"SUM(EE17:EF17)","v":0},{"$f":"EC17*SUMIF(EC$4:EF$4,$S17,EC$5:EF$5)","v":0},{"$f":"IF(DV17=1,SUMIF(EC$4:EF$4,$S17,EC$7:EF$7)*DW17,IF(DV17=\"ГН\",DY17*SUMIF(EC$4:EF$4,$S17,EC$5:EF$5),IF(DV17=2,DY17*SUMIF(EC$4:EF$4,$S17,EC$5:EF$5)+DW17*SUMIF(EC$4:EF$4,$S17,EC$6:EF$6),0)))","v":0},1,5.7629999999999999,0.03,1.6355000000000001E-2,{"$f":"IF(IF($Q17=1,EI17*$Q$10-EJ17,EI17-EJ17)<0,0,IF($Q17=1,EI17*$Q$10-EJ17,EI17-EJ17))","v":1.3644999999999997E-2},{"$f":"IFERROR(EK17/EI17,0)","v":0.45483333333333326},{"$f":"MIN(EA17,DP17,DE17,CX17,CQ17,CJ17,CC17,BV17,BO17,BH17,BA17,AT17,EL17)","v":0},{"$f":"IF(AND(EM17>0.4,EQ17>0),EK17*EN$11,0)","v":0},{"$f":"SUM(EP17:EQ17)","v":0},{"$f":"EN17*SUMIF(EN$4:EQ$4,$S17,EN$5:EQ$5)","v":0},{"$f":"IF(EG17=1,SUMIF(EN$4:EQ$4,$S17,EN$7:EQ$7)*EH17,IF(EG17=\"ГН\",EJ17*SUMIF(EN$4:EQ$4,$S17,EN$5:EQ$5),IF(EG17=2,EJ17*SUMIF(EN$4:EQ$4,$S17,EN$5:EQ$5)+EH17*SUMIF(EN$4:EQ$4,$S17,EN$6:EQ$6),0)))","v":0},1,6.5119999999999996,0.03,1.8154E-2,{"$f":"IF(IF($Q17=1,ET17*$Q$10-EU17,ET17-EU17)<0,0,IF($Q17=1,ET17*$Q$10-EU17,ET17-EU17))","v":1.1845999999999999E-2},{"$f":"IFERROR(EV17/ET17,0)","v":0.39486666666666664},{"$f":"MIN(EL17,EA17,DP17,DE17,CX17,CQ17,CJ17,CC17,BV17,BO17,BH17,BA17,EW17)","v":0},{"$f":"IF(AND(EX17>0.4,FB17>0),EV17*EY$11,0)","v":0},{"$f":"SUM(FA17:FB17)","v":0},{"$f":"EY17*SUMIF(EY$4:FB$4,$S17,EY$5:FB$5)","v":0},{"$f":"IF(ER17=1,SUMIF(EY$4:FB$4,$S17,EY$7:FB$7)*ES17,IF(ER17=\"ГН\",EU17*SUMIF(EY$4:FB$4,$S17,EY$5:FB$5),IF(ER17=2,EU17*SUMIF(EY$4:FB$4,$S17,EY$5:FB$5)+ES17*SUMIF(EY$4:FB$4,$S17,EY$6:FB$6),0)))","v":0},1,6.069,0.03,1.7034000000000001E-2,{"$f":"IF(IF($Q17=1,FE17*$Q$10-FF17,FE17-FF17)<0,0,IF($Q17=1,FE17*$Q$10-FF17,FE17-FF17))","v":1.2965999999999998E-2},{"$f":"IFERROR(FG17/FE17,0)","v":0.43219999999999997},{"$f":"MIN(EW17,EL17,EA17,DP17,DE17,CX17,CQ17,CJ17,CC17,BV17,BO17,BH17,FH17)","v":0},{"$f":"IF(AND(FI17>0.4,FM17>0),FG17*FJ$11,0)","v":0},{"$f":"SUM(FL17:FM17)","v":0},{"$f":"FJ17*SUMIF(FJ$4:FM$4,$S17,FJ$5:FM$5)","v":0},{"$f":"IF(FC17=1,SUMIF(FJ$4:FM$4,$S17,FJ$7:FM$7)*FD17,IF(FC17=\"ГН\",FF17*SUMIF(FJ$4:FM$4,$S17,FJ$5:FM$5),IF(FC17=2,FF17*SUMIF(FJ$4:FM$4,$S17,FJ$5:FM$5)+FD17*SUMIF(FJ$4:FM$4,$S17,FJ$6:FM$6),0)))","v":0},1,6.36,0.03,1.8349000000000001E-2,{"$f":"IF(IF($Q17=1,FP17*$Q$10-FQ17,FP17-FQ17)<0,0,IF($Q17=1,FP17*$Q$10-FQ17,FP17-FQ17))","v":1.1650999999999998E-2},{"$f":"IFERROR(FR17/FP17,0)","v":0.38836666666666664},{"$f":"MIN(FH17,EW17,EL17,EA17,DP17,DE17,CX17,CQ17,CJ17,CC17,BV17,BO17,FS17)","v":0},{"$f":"IF(AND(FT17>0.4,FX17>0),FR17*FU$11,0)","v":0},{"$f":"SUM(FW17:FX17)","v":0},{"$f":"FU17*SUMIF(FU$4:FX$4,$S17,FU$5:FX$5)","v":0},{"$f":"IF(FN17=1,SUMIF(FU$4:FX$4,$S17,FU$7:FX$7)*FO17,IF(FN17=\"ГН\",FQ17*SUMIF(FU$4:FX$4,$S17,FU$5:FX$5),IF(FN17=2,FQ17*SUMIF(FU$4:FX$4,$S17,FU$5:FX$5)+FO17*SUMIF(FU$4:FX$4,$S17,FU$6:FX$6),0)))","v":0},1,6.3460000000000001,0.03,1.8109E-2,{"$f":"IF(IF($Q17=1,GA17*$Q$10-GB17,GA17-GB17)<0,0,IF($Q17=1,GA17*$Q$10-GB17,GA17-GB17))","v":1.1890999999999999E-2},{"$f":"IFERROR(GC17/GA17,0)","v":0.39636666666666664},{"$f":"MIN(FS17,FH17,EW17,EL17,EA17,DP17,DE17,CX17,CQ17,CJ17,CC17,BV17,GD17)","v":0},{"$f":"IF(AND(GE17>0.4,GI17>0),GC17*GF$11,0)","v":0},{"$f":"SUM(GH17:GI17)","v":0},{"$f":"GF17*SUMIF(GF$4:GI$4,$S17,GF$5:GI$5)","v":0},{"$f":"IF(FY17=1,SUMIF(GF$4:GI$4,$S17,GF$7:GI$7)*FZ17,IF(FY17=\"ГН\",GB17*SUMIF(GF$4:GI$4,$S17,GF$5:GI$5),IF(FY17=2,GB17*SUMIF(GF$4:GI$4,$S17,GF$5:GI$5)+FZ17*SUMIF(GF$4:GI$4,$S17,GF$6:GI$6),0)))","v":0},1,6.5949999999999998,0.03,1.9495999999999999E-2,{"$f":"IF(IF($Q17=1,GL17*$Q$10-GM17,GL17-GM17)<0,0,IF($Q17=1,GL17*$Q$10-GM17,GL17-GM17))","v":1.0503999999999999E-2},{"$f":"IFERROR(GN17/GL17,0)","v":0.35013333333333335},{"$f":"MIN(GD17,FS17,FH17,EW17,EL17,EA17,DP17,DE17,CX17,CQ17,CJ17,CC17,GO17)","v":0},{"$f":"IF(AND(GP17>0.4,GT17>0),GN17*GQ$11,0)","v":0},{"$f":"SUM(GS17:GT17)","v":0},{"$f":"GQ17*SUMIF(GQ$4:GT$4,$S17,GQ$5:GT$5)","v":0},{"$f":"IF(GJ17=1,SUMIF(GQ$4:GT$4,$S17,GQ$7:GT$7)*GK17,IF(GJ17=\"ГН\",GM17*SUMIF(GQ$4:GT$4,$S17,GQ$5:GT$5),IF(GJ17=2,GM17*SUMIF(GQ$4:GT$4,$S17,GQ$5:GT$5)+GK17*SUMIF(GQ$4:GT$4,$S17,GQ$6:GT$6),0)))","v":0},1,6.4960000000000004,0.03,1.9560000000000001E-2,{"$f":"IF(IF($Q17=1,GW17*$Q$10-GX17,GW17-GX17)<0,0,IF($Q17=1,GW17*$Q$10-GX17,GW17-GX17))","v":1.0439999999999998E-2},{"$f":"IFERROR(GY17/GW17,0)","v":0.34799999999999992},{"$f":"MIN(GO17,GD17,FS17,FH17,EW17,EL17,EA17,DP17,DE17,CX17,CQ17,CJ17,GZ17)","v":0},{"$f":"IF(AND(HA17>0.4,HE17>0),GY17*HB$11,0)","v":0},{"$f":"SUM(HD17:HE17)","v":0},{"$f":"HB17*SUMIF(HB$4:HE$4,$S17,HB$5:HE$5)","v":0},{"$f":"IF(GU17=1,SUMIF(HB$4:HE$4,$S17,HB$7:HE$7)*GV17,IF(GU17=\"ГН\",GX17*SUMIF(HB$4:HE$4,$S17,HB$5:HE$5),IF(GU17=2,GX17*SUMIF(HB$4:HE$4,$S17,HB$5:HE$5)+GV17*SUMIF(HB$4:HE$4,$S17,HB$6:HE$6),0)))","v":0},1,6.056,0.03,1.8749999999999999E-2,{"$f":"IF(IF($Q17=1,HH17*$Q$10-HI17,HH17-HI17)<0,0,IF($Q17=1,HH17*$Q$10-HI17,HH17-HI17))","v":1.125E-2},{"$f":"IFERROR(HJ17/HH17,0)","v":0.375},{"$f":"MIN(GZ17,GO17,GD17,FS17,FH17,EW17,EL17,EA17,DP17,DE17,CX17,CQ17,HK17)","v":0.26803333333333335},{"$f":"IF(AND(HL17>0.4,HP17>0),HJ17*HM$11,0)","v":0},{"$f":"SUM(HO17:HP17)","v":0},{"$f":"HM17*SUMIF(HM$4:HP$4,$S17,HM$5:HP$5)","v":0},{"$f":"IF(HF17=1,SUMIF(HM$4:HP$4,$S17,HM$7:HP$7)*HG17,IF(HF17=\"ГН\",HI17*SUMIF(HM$4:HP$4,$S17,HM$5:HP$5),IF(HF17=2,HI17*SUMIF(HM$4:HP$4,$S17,HM$5:HP$5)+HG17*SUMIF(HM$4:HP$4,$S17,HM$6:HP$6),0)))","v":0},null,null,null,null,{"$f":"IF(IF($Q17=1,HS17*$Q$10-HT17,HS17-HT17)<0,0,IF($Q17=1,HS17*$Q$10-HT17,HS17-HT17))","v":0},{"$f":"IFERROR(HU17/HS17,0)","v":0},{"$f":"MIN(HK17,GZ17,GO17,GD17,FS17,FH17,EW17,EL17,EA17,DP17,DE17,CX17,HV17)","v":0},{"$f":"IF(AND(HW17>0.4,IA17>0),HU17*HX$11,0)","v":0},{"$f":"SUM(HZ17:IA17)","v":0},{"$f":"HX17*SUMIF(HX$4:IA$4,$S17,HX$5:IA$5)","v":0},{"$f":"IF(HQ17=1,SUMIF(HX$4:IA$4,$S17,HX$7:IA$7)*HR17,IF(HQ17=\"ГН\",HT17*SUMIF(HX$4:IA$4,$S17,HX$5:IA$5),IF(HQ17=2,HT17*SUMIF(HX$4:IA$4,$S17,HX$5:IA$5)+HR17*SUMIF(HX$4:IA$4,$S17,HX$6:IA$6),0)))","v":0},{"$f":"IFERROR(AVERAGE(HQ17,HF17,GU17,GJ17,FY17,FN17,FC17,ER17,EG17,DV17,DK17,CZ17),0)","v":1},{"$f":"SUM(HR17,HG17,GV17,GK17,FZ17,FO17,FD17,ES17,EH17,DW17,DL17,DA17)","v":70.239999999999995},3.0000000000000006E-2,{"$f":"IFERROR(AVERAGE(HT17,HI17,GX17,GM17,GB17,FQ17,FF17,EU17,EJ17,DY17,DN17,DC17),0)","v":1.8962636363636366E-2},{"$f":"IFERROR(AVERAGE(HU17,HJ17,GY17,GN17,GC17,FR17,FG17,EV17,EK17,DZ17,DO17,DD17),0)","v":1.0117583333333331E-2},{"$f":"IFERROR(IF17/ID17,0)","v":0.33725277777777762},{"$f":"IFERROR(AVERAGE(HX17,HM17,HB17,GQ17,GF17,FU17,FJ17,EY17,EN17,EC17,DR17,DG17),0)","v":0},{"$f":"IJ17+IK17","v":0},{"$f":"SUM(HZ17,HO17,HD17,GS17,GH17,FW17,FL17,FA17,EP17,EE17,DT17,DI17)","v":0},{"$f":"SUM(IA17,HP17,HE17,GT17,GI17,FX17,FM17,FB17,EQ17,EF17,DU17,DJ17)","v":0}]
["ООО \"МИП \"Кинешма\"","Ивановская область",null,"УГХ г.Кинешмы","КТП№31 КНС ООО \"МИП \"Кинешма\", РУ 0,4кВ","ЖКХ","ЖКХ.Прочие","Местный",null,null,null,"менее 670",5612042824,"АО \"ЭнергосбыТ Плюс\"",3703020510,"ООО \"МИП \"Кинешма\"",null,"Э","СН2",null,null,null,null,{"$f":"IF(IF($Q18=1,V18*$Q$10-W18,V18-W18)<0,0,IF($Q18=1,V18*$Q$10-W18,V18-W18))","v":0},{"$f":"IFERROR(X18/V18,0)","v":0},{"$f":"IF(T18=1,SUMIF(W$4:Z$4,$S18,W$7:Z$7)*U18,IF(T18=\"ГН\",W18*SUMIF(W$4:Z$4,$S18,W$5:Z$5),IF(T18=2,W18*SUMIF(W$4:Z$4,$S18,W$5:Z$5)+U18*SUMIF(W$4:Z$4,$S18,W$6:Z$6),0)))","v":0},null,null,null,null,{"$f":"IF(IF($Q18=1,AC18*$Q$10-AD18,AC18-AD18)<0,0,IF($Q18=1,AC18*$Q$10-AD18,AC18-AD18))","v":0},{"$f":"IFERROR(AE18/AC18,0)","v":0},{"$f":"IF(AA18=1,SUMIF(AD$4:AG$4,$S18,AD$7:AG$7)*AB18,IF(AA18=\"ГН\",AD18*SUMIF(AD$4:AG$4,$S18,AD$5:AG$5),IF(AA18=2,AD18*SUMIF(AD$4:AG$4,$S18,AD$5:AG$5)+AB18*SUMIF(AD$4:AG$4,$S18,AD$6:AG$6),0)))","v":0},null,null,null,null,{"$f":"IF(IF($Q18=1,AJ18*$Q$10-AK18,AJ18-AK18)<0,0,IF($Q18=1,AJ18*$Q$10-AK18,AJ18-AK18))","v":0},{"$f":"IFERROR(AL18/AJ18,0)","v":0},{"$f":"IF(AH18=1,SUMIF(AK$4:AN$4,$S18,AK$7:AN$7)*AI18,IF(AH18=\"ГН\",AK18*SUMIF(AK$4:AN$4,$S18,AK$5:AN$5),IF(AH18=2,AK18*SUMIF(AK$4:AN$4,$S18,AK$5:AN$5)+AI18*SUMIF(AK$4:AN$4,$S18,AK$6:AN$6),0)))","v":0},null,null,null,null,{"$f":"IF(IF($Q18=1,AQ18*$Q$10-AR18,AQ18-AR18)<0,0,IF($Q18=1,AQ18*$Q$10-AR18,AQ18-AR18))","v":0},{"$f":"IFERROR(AS18/AQ18,0)","v":0},{"$f":"IF(AO18=1,SUMIF(AR$4:AU$4,$S18,AR$7:AU$7)*AP18,IF(AO18=\"ГН\",AR18*SUMIF(AR$4:AU$4,$S18,AR$5:AU$5),IF(AO18=2,AR18*SUMIF(AR$4:AU$4,$S18,AR$5:AU$5)+AP18*SUMIF(AR$4:AU$4,$S18,AR$6:AU$6),0)))","v":0},null,null,null,null,{"$f":"IF(IF($Q18=1,AX18*$Q$10-AY18,AX18-AY18)<0,0,IF($Q18=1,AX18*$Q$10-AY18,AX18-AY18))","v":0},{"$f":"IFERROR(AZ18/AX18,0)","v":0},{"$f":"IF(AV18=1,SUMIF(AY$4:BB$4,$S18,AY$7:BB$7)*AW18,IF(AV18=\"ГН\",AY18*SUMIF(AY$4:BB$4,$S18,AY$5:BB$5),IF(AV18=2,AY18*SUMIF(AY$4:BB$4,$S18,AY$5:BB$5)+AW18*SUMIF(AY$4:BB$4,$S18,AY$6:BB$6),0)))","v":0},null,null,null,null,{"$f":"IF(IF($Q18=1,BE18*$Q$10-BF18,BE18-BF18)<0,0,IF($Q18=1,BE18*$Q$10-BF18,BE18-BF18))","v":0},{"$f":"IFERROR(BG18/BE18,0)","v":0},{"$f":"IF(BC18=1,SUMIF(BF$4:BI$4,$S18,BF$7:BI$7)*BD18,IF(BC18=\"ГН\",BF18*SUMIF(BF$4:BI$4,$S18,BF$5:BI$5),IF(BC18=2,BF18*SUMIF(BF$4:BI$4,$S18,BF$5:BI$5)+BD18*SUMIF(BF$4:BI$4,$S18,BF$6:BI$6),0)))","v":0},null,null,null,null,{"$f":"IF(IF($Q18=1,BL18*$Q$10-BM18,BL18-BM18)<0,0,IF($Q18=1,BL18*$Q$10-BM18,BL18-BM18))","v":0},{"$f":"IFERROR(BN18/BL18,0)","v":0},{"$f":"IF(BJ18=1,SUMIF(BM$4:BP$4,$S18,BM$7:BP$7)*BK18,IF(BJ18=\"ГН\",BM18*SUMIF(BM$4:BP$4,$S18,BM$5:BP$5),IF(BJ18=2,BM18*SUMIF(BM$4:BP$4,$S18,BM$5:BP$5)+BK18*SUMIF(BM$4:BP$4,$S18,BM$6:BP$6),0)))","v":0},null,null,null,null,{"$f":"IF(IF($Q18=1,BS18*$Q$10-BT18,BS18-BT18)<0,0,IF($Q18=1,BS18*$Q$10-BT18,BS18-BT18))","v":0},{"$f":"IFERROR(BU18/BS18,0)","v":0},{"$f":"IF(BQ18=1,SUMIF(BT$4:BW$4,$S18,BT$7:BW$7)*BR18,IF(BQ18=\"ГН\",BT18*SUMIF(BT$4:BW$4,$S18,BT$5:BW$5),IF(BQ18=2,BT18*SUMIF(BT$4:BW$4,$S18,BT$5:BW$5)+BR18*SUMIF(BT$4:BW$4,$S18,BT$6:BW$6),0)))","v":0},null,null,null,null,{"$f":"IF(IF($Q18=1,BZ18*$Q$10-CA18,BZ18-CA18)<0,0,IF($Q18=1,BZ18*$Q$10-CA18,BZ18-CA18))","v":0},{"$f":"IFERROR(CB18/BZ18,0)","v":0},{"$f":"IF(BX18=1,SUMIF(CA$4:CD$4,$S18,CA$7:CD$7)*BY18,IF(BX18=\"ГН\",CA18*SUMIF(CA$4:CD$4,$S18,CA$5:CD$5),IF(BX18=2,CA18*SUMIF(CA$4:CD$4,$S18,CA$5:CD$5)+BY18*SUMIF(CA$4:CD$4,$S18,CA$6:CD$6),0)))","v":0},null,null,null,null,{"$f":"IF(IF($Q18=1,CG18*$Q$10-CH18,CG18-CH18)<0,0,IF($Q18=1,CG18*$Q$10-CH18,CG18-CH18))","v":0},{"$f":"IFERROR(CI18/CG18,0)","v":0},{"$f":"IF(CE18=1,SUMIF(CH$4:CK$4,$S18,CH$7:CK$7)*CF18,IF(CE18=\"ГН\",CH18*SUMIF(CH$4:CK$4,$S18,CH$5:CK$5),IF(CE18=2,CH18*SUMIF(CH$4:CK$4,$S18,CH$5:CK$5)+CF18*SUMIF(CH$4:CK$4,$S18,CH$6:CK$6),0)))","v":0},1,2.859,{"$f":"0.0045","v":4.4999999999999997E-3},6.3530000000000001E-3,{"$f":"IF(IF($Q18=1,CN18*$Q$10-CO18,CN18-CO18)<0,0,IF($Q18=1,CN18*$Q$10-CO18,CN18-CO18))","v":0},{"$f":"IFERROR(CP18/CN18,0)","v":0},{"$f":"IF(CL18=1,SUMIF(CO$4:CR$4,$S18,CO$7:CR$7)*CM18,IF(CL18=\"ГН\",CO18*SUMIF(CO$4:CR$4,$S18,CO$5:CR$5),IF(CL18=2,CO18*SUMIF(CO$4:CR$4,$S18,CO$5:CR$5)+CM18*SUMIF(CO$4:CR$4,$S18,CO$6:CR$6),0)))","v":5873.2151100000001},1,0.90700000000000003,{"$f":"0.0045","v":4.4999999999999997E-3},1.8289999999999999E-3,{"$f":"IF(IF($Q18=1,CU18*$Q$10-CV18,CU18-CV18)<0,0,IF($Q18=1,CU18*$Q$10-CV18,CU18-CV18))","v":2.6709999999999998E-3},{"$f":"IFERROR(CW18/CU18,0)","v":0.5935555555555555},{"$f":"IF(CS18=1,SUMIF(CV$4:CY$4,$S18,CV$7:CY$7)*CT18,IF(CS18=\"ГН\",CV18*SUMIF(CV$4:CY$4,$S18,CV$5:CY$5),IF(CS18=2,CV18*SUMIF(CV$4:CY$4,$S18,CV$5:CY$5)+CT18*SUMIF(CV$4:CY$4,$S18,CV$6:CY$6),0)))","v":0},1,0.72699999999999998,4.4999999999999997E-3,1.4660000000000001E-3,{"$f":"IF(IF($Q18=1,DB18*$Q$10-DC18,DB18-DC18)<0,0,IF($Q18=1,DB18*$Q$10-DC18,DB18-DC18))","v":3.0339999999999994E-3},{"$f":"IFERROR(DD18/DB18,0)","v":0.67422222222222217},{"$f":"MIN(CX18,CQ18,CJ18,CC18,BV18,BO18,BH18,BA18,AT18,AM18,AF18,Y18,DE18)","v":0},{"$f":"IF(AND(DF18>0.4,DJ18>0),DD18*DG$11,0)","v":0},{"$f":"SUM(DI18:DJ18)","v":0},{"$f":"DG18*SUMIF(DG$4:DJ$4,$S18,DG$5:DJ$5)","v":0},{"$f":"IF(CZ18=1,SUMIF(DG$4:DJ$4,$S18,DG$7:DJ$7)*DA18,IF(CZ18=\"ГН\",DC18*SUMIF(DG$4:DJ$4,$S18,DG$5:DJ$5),IF(CZ18=2,DC18*SUMIF(DG$4:DJ$4,$S18,DG$5:DJ$5)+DA18*SUMIF(DG$4:DJ$4,$S18,DG$6:DJ$6),0)))","v":0},1,0.86399999999999999,4.4999999999999997E-3,2.0127999999999999E-3,{"$f":"IF(IF($Q18=1,DM18*$Q$10-DN18,DM18-DN18)<0,0,IF($Q18=1,DM18*$Q$10-DN18,DM18-DN18))","v":2.4871999999999997E-3},{"$f":"IFERROR(DO18/DM18,0)","v":0.55271111111111104},{"$f":"MIN(DE18,CX18,CQ18,CJ18,CC18,BV18,BO18,BH18,BA18,AT18,AM18,AF18,DP18)","v":0},{"$f":"IF(AND(DQ18>0.4,DU18>0),DO18*DR$11,0)","v":0},{"$f":"SUM(DT18:DU18)","v":0},{"$f":"DR18*SUMIF(DR$4:DU$4,$S18,DR$5:DU$5)","v":0},{"$f":"IF(DK18=1,SUMIF(DR$4:DU$4,$S18,DR$7:DU$7)*DL18,IF(DK18=\"ГН\",DN18*SUMIF(DR$4:DU$4,$S18,DR$5:DU$5),IF(DK18=2,DN18*SUMIF(DR$4:DU$4,$S18,DR$5:DU$5)+DL18*SUMIF(DR$4:DU$4,$S18,DR$6:DU$6),0)))","v":0},1,0.45400000000000001,4.4999999999999997E-3,1.2199999999999999E-3,{"$f":"IF(IF($Q18=1,DX18*$Q$10-DY18,DX18-DY18)<0,0,IF($Q18=1,DX18*$Q$10-DY18,DX18-DY18))","v":3.2799999999999999E-3},{"$f":"IFERROR(DZ18/DX18,0)","v":0.72888888888888892},{"$f":"MIN(DP18,DE18,CX18,CQ18,CJ18,CC18,BV18,BO18,BH18,BA18,AT18,AM18,EA18)","v":0},{"$f":"IF(AND(EB18>0.4,EF18>0),DZ18*EC$11,0)","v":0},{"$f":"SUM(EE18:EF18)","v":0},{"$f":"EC18*SUMIF(EC$4:EF$4,$S18,EC$5:EF$5)","v":0},{"$f":"IF(DV18=1,SUMIF(EC$4:EF$4,$S18,EC$7:EF$7)*DW18,IF(DV18=\"ГН\",DY18*SUMIF(EC$4:EF$4,$S18,EC$5:EF$5),IF(DV18=2,DY18*SUMIF(EC$4:EF$4,$S18,EC$5:EF$5)+DW18*SUMIF(EC$4:EF$4,$S18,EC$6:EF$6),0)))","v":0},1,0.36699999999999999,4.4999999999999997E-3,1.1119999999999999E-3,{"$f":"IF(IF($Q18=1,EI18*$Q$10-EJ18,EI18-EJ18)<0,0,IF($Q18=1,EI18*$Q$10-EJ18,EI18-EJ18))","v":3.3879999999999995E-3},{"$f":"IFERROR(EK18/EI18,0)","v":0.75288888888888883},{"$f":"MIN(EA18,DP18,DE18,CX18,CQ18,CJ18,CC18,BV18,BO18,BH18,BA18,AT18,EL18)","v":0},{"$f":"IF(AND(EM18>0.4,EQ18>0),EK18*EN$11,0)","v":0},{"$f":"SUM(EP18:EQ18)","v":0},{"$f":"EN18*SUMIF(EN$4:EQ$4,$S18,EN$5:EQ$5)","v":0},{"$f":"IF(EG18=1,SUMIF(EN$4:EQ$4,$S18,EN$7:EQ$7)*EH18,IF(EG18=\"ГН\",EJ18*SUMIF(EN$4:EQ$4,$S18,EN$5:EQ$5),IF(EG18=2,EJ18*SUMIF(EN$4:EQ$4,$S18,EN$5:EQ$5)+EH18*SUMIF(EN$4:EQ$4,$S18,EN$6:EQ$6),0)))","v":0},1,0.29899999999999999,4.4999999999999997E-3,1.206E-3,{"$f":"IF(IF($Q18=1,ET18*$Q$10-EU18,ET18-EU18)<0,0,IF($Q18=1,ET18*$Q$10-EU18,ET18-EU18))","v":3.2939999999999996E-3},{"$f":"IFERROR(EV18/ET18,0)","v":0.73199999999999998},{"$f":"MIN(EL18,EA18,DP18,DE18,CX18,CQ18,CJ18,CC18,BV18,BO18,BH18,BA18,EW18)","v":0},{"$f":"IF(AND(EX18>0.4,FB18>0),EV18*EY$11,0)","v":0},{"$f":"SUM(FA18:FB18)","v":0},{"$f":"EY18*SUMIF(EY$4:FB$4,$S18,EY$5:FB$5)","v":0},{"$f":"IF(ER18=1,SUMIF(EY$4:FB$4,$S18,EY$7:FB$7)*ES18,IF(ER18=\"ГН\",EU18*SUMIF(EY$4:FB$4,$S18,EY$5:FB$5),IF(ER18=2,EU18*SUMIF(EY$4:FB$4,$S18,EY$5:FB$5)+ES18*SUMIF(EY$4:FB$4,$S18,EY$6:FB$6),0)))","v":0},1,0.11600000000000001,4.4999999999999997E-3,5.5199999999999997E-4,{"$f":"IF(IF($Q18=1,FE18*$Q$10-FF18,FE18-FF18)<0,0,IF($Q18=1,FE18*$Q$10-FF18,FE18-FF18))","v":3.9480000000000001E-3},{"$f":"IFERROR(FG18/FE18,0)","v":0.87733333333333341},{"$f":"MIN(EW18,EL18,EA18,DP18,DE18,CX18,CQ18,CJ18,CC18,BV18,BO18,BH18,FH18)","v":0},{"$f":"IF(AND(FI18>0.4,FM18>0),FG18*FJ$11,0)","v":0},{"$f":"SUM(FL18:FM18)","v":0},{"$f":"FJ18*SUMIF(FJ$4:FM$4,$S18,FJ$5:FM$5)","v":0},{"$f":"IF(FC18=1,SUMIF(FJ$4:FM$4,$S18,FJ$7:FM$7)*FD18,IF(FC18=\"ГН\",FF18*SUMIF(FJ$4:FM$4,$S18,FJ$5:FM$5),IF(FC18=2,FF18*SUMIF(FJ$4:FM$4,$S18,FJ$5:FM$5)+FD18*SUMIF(FJ$4:FM$4,$S18,FJ$6:FM$6),0)))","v":0},1,0.27,4.4999999999999997E-3,1.2440000000000001E-3,{"$f":"IF(IF($Q18=1,FP18*$Q$10-FQ18,FP18-FQ18)<0,0,IF($Q18=1,FP18*$Q$10-FQ18,FP18-FQ18))","v":3.2559999999999993E-3},{"$f":"IFERROR(FR18/FP18,0)","v":0.72355555555555551},{"$f":"MIN(FH18,EW18,EL18,EA18,DP18,DE18,CX18,CQ18,CJ18,CC18,BV18,BO18,FS18)","v":0},{"$f":"IF(AND(FT18>0.4,FX18>0),FR18*FU$11,0)","v":0},{"$f":"SUM(FW18:FX18)","v":0},{"$f":"FU18*SUMIF(FU$4:FX$4,$S18,FU$5:FX$5)","v":0},{"$f":"IF(FN18=1,SUMIF(FU$4:FX$4,$S18,FU$7:FX$7)*FO18,IF(FN18=\"ГН\",FQ18*SUMIF(FU$4:FX$4,$S18,FU$5:FX$5),IF(FN18=2,FQ18*SUMIF(FU$4:FX$4,$S18,FU$5:FX$5)+FO18*SUMIF(FU$4:FX$4,$S18,FU$6:FX$6),0)))","v":0},1,0.26400000000000001,4.4999999999999997E-3,1.8320000000000001E-3,{"$f":"IF(IF($Q18=1,GA18*$Q$10-GB18,GA18-GB18)<0,0,IF($Q18=1,GA18*$Q$10-GB18,GA18-GB18))","v":2.6679999999999994E-3},{"$f":"IFERROR(GC18/GA18,0)","v":0.5928888888888888},{"$f":"MIN(FS18,FH18,EW18,EL18,EA18,DP18,DE18,CX18,CQ18,CJ18,CC18,BV18,GD18)","v":0},{"$f":"IF(AND(GE18>0.4,GI18>0),GC18*GF$11,0)","v":0},{"$f":"SUM(GH18:GI18)","v":0},{"$f":"GF18*SUMIF(GF$4:GI$4,$S18,GF$5:GI$5)","v":0},{"$f":"IF(FY18=1,SUMIF(GF$4:GI$4,$S18,GF$7:GI$7)*FZ18,IF(FY18=\"ГН\",GB18*SUMIF(GF$4:GI$4,$S18,GF$5:GI$5),IF(FY18=2,GB18*SUMIF(GF$4:GI$4,$S18,GF$5:GI$5)+FZ18*SUMIF(GF$4:GI$4,$S18,GF$6:GI$6),0)))","v":0},1,0.51100000000000001,4.4999999999999997E-3,8.0000000000000004E-4,{"$f":"IF(IF($Q18=1,GL18*$Q$10-GM18,GL18-GM18)<0,0,IF($Q18=1,GL18*$Q$10-GM18,GL18-GM18))","v":3.6999999999999997E-3},{"$f":"IFERROR(GN18/GL18,0)","v":0.82222222222222219},{"$f":"MIN(GD18,FS18,FH18,EW18,EL18,EA18,DP18,DE18,CX18,CQ18,CJ18,CC18,GO18)","v":0},{"$f":"IF(AND(GP18>0.4,GT18>0),GN18*GQ$11,0)","v":0},{"$f":"SUM(GS18:GT18)","v":0},{"$f":"GQ18*SUMIF(GQ$4:GT$4,$S18,GQ$5:GT$5)","v":0},{"$f":"IF(GJ18=1,SUMIF(GQ$4:GT$4,$S18,GQ$7:GT$7)*GK18,IF(GJ18=\"ГН\",GM18*SUMIF(GQ$4:GT$4,$S18,GQ$5:GT$5),IF(GJ18=2,GM18*SUMIF(GQ$4:GT$4,$S18,GQ$5:GT$5)+GK18*SUMIF(GQ$4:GT$4,$S18,GQ$6:GT$6),0)))","v":0},1,0.625,4.4999999999999997E-3,1.4400000000000001E-3,{"$f":"IF(IF($Q18=1,GW18*$Q$10-GX18,GW18-GX18)<0,0,IF($Q18=1,GW18*$Q$10-GX18,GW18-GX18))","v":3.0599999999999994E-3},{"$f":"IFERROR(GY18/GW18,0)","v":0.67999999999999994},{"$f":"MIN(GO18,GD18,FS18,FH18,EW18,EL18,EA18,DP18,DE18,CX18,CQ18,CJ18,GZ18)","v":0},{"$f":"IF(AND(HA18>0.4,HE18>0),GY18*HB$11,0)","v":0},{"$f":"SUM(HD18:HE18)","v":0},{"$f":"HB18*SUMIF(HB$4:HE$4,$S18,HB$5:HE$5)","v":0},{"$f":"IF(GU18=1,SUMIF(HB$4:HE$4,$S18,HB$7:HE$7)*GV18,IF(GU18=\"ГН\",GX18*SUMIF(HB$4:HE$4,$S18,HB$5:HE$5),IF(GU18=2,GX18*SUMIF(HB$4:HE$4,$S18,HB$5:HE$5)+GV18*SUMIF(HB$4:HE$4,$S18,HB$6:HE$6),0)))","v":0},1,0.63400000000000001,4.4999999999999997E-3,1.3209999999999999E-3,{"$f":"IF(IF($Q18=1,HH18*$Q$10-HI18,HH18-HI18)<0,0,IF($Q18=1,HH18*$Q$10-HI18,HH18-HI18))","v":3.1789999999999995E-3},{"$f":"IFERROR(HJ18/HH18,0)","v":0.70644444444444443},{"$f":"MIN(GZ18,GO18,GD18,FS18,FH18,EW18,EL18,EA18,DP18,DE18,CX18,CQ18,HK18)","v":0},{"$f":"IF(AND(HL18>0.4,HP18>0),HJ18*HM$11,0)","v":0},{"$f":"SUM(HO18:HP18)","v":0},{"$f":"HM18*SUMIF(HM$4:HP$4,$S18,HM$5:HP$5)","v":0},{"$f":"IF(HF18=1,SUMIF(HM$4:HP$4,$S18,HM$7:HP$7)*HG18,IF(HF18=\"ГН\",HI18*SUMIF(HM$4:HP$4,$S18,HM$5:HP$5),IF(HF18=2,HI18*SUMIF(HM$4:HP$4,$S18,HM$5:HP$5)+HG18*SUMIF(HM$4:HP$4,$S18,HM$6:HP$6),0)))","v":0},null,null,null,null,{"$f":"IF(IF($Q18=1,HS18*$Q$10-HT18,HS18-HT18)<0,0,IF($Q18=1,HS18*$Q$10-HT18,HS18-HT18))","v":0},{"$f":"IFERROR(HU18/HS18,0)","v":0},{"$f":"MIN(HK18,GZ18,GO18,GD18,FS18,FH18,EW18,EL18,EA18,DP18,DE18,CX18,HV18)","v":0},{"$f":"IF(AND(HW18>0.4,IA18>0),HU18*HX$11,0)","v":0},{"$f":"SUM(HZ18:IA18)","v":0},{"$f":"HX18*SUMIF(HX$4:IA$4,$S18,HX$5:IA$5)","v":0},{"$f":"IF(HQ18=1,SUMIF(HX$4:IA$4,$S18,HX$7:IA$7)*HR18,IF(HQ18=\"ГН\",HT18*SUMIF(HX$4:IA$4,$S18,HX$5:IA$5),IF(HQ18=2,HT18*SUMIF(HX$4:IA$4,$S18,HX$5:IA$5)+HR18*SUMIF(HX$4:IA$4,$S18,HX$6:IA$6),0)))","v":0},{"$f":"IFERROR(AVERAGE(HQ18,HF18,GU18,GJ18,FY18,FN18,FC18,ER18,EG18,DV18,DK18,CZ18),0)","v":1},{"$f":"SUM(HR18,HG18,GV18,GK18,FZ18,FO18,FD18,ES18,EH18,DW18,DL18,DA18)","v":5.1310000000000002},{"$f":"IFERROR(AVERAGE(HS18,HH18,GW18,GL18,GA18,FP18,FE18,ET18,EI18,DX18,DM18,DB18),0)","v":4.4999999999999988E-3},{"$f":"IFERROR(AVERAGE(HT18,HI18,GX18,GM18,GB18,FQ18,FF18,EU18,EJ18,DY18,DN18,DC18),0)","v":1.2914363636363638E-3},{"$f":"IFERROR(AVERAGE(HU18,HJ18,GY18,GN18,GC18,FR18,FG18,EV18,EK18,DZ18,DO18,DD18),0)","v":2.9411833333333331E-3},{"$f":"IFERROR(IF18/ID18,0)","v":0.65359629629629645},{"$f":"IFERROR(AVERAGE(HX18,HM18,HB18,GQ18,GF18,FU18,FJ18,EY18,EN18,EC18,DR18,DG18),0)","v":0},{"$f":"IJ18+IK18","v":0},{"$f":"SUM(HZ18,HO18,HD18,GS18,GH18,FW18,FL18,FA18,EP18,EE18,DT18,DI18)","v":0},{"$f":"SUM(IA18,HP18,HE18,GT18,GI18,FX18,FM18,FB18,EQ18,EF18,DU18,DJ18)","v":0}]
["ООО \"МИП \"Кинешма\"","Ивановская область",null,"УГХ г.Кинешмы","КТП№32 станция 2-го подъема ООО \"МИП \"Кинешма\" яч.1","ЖКХ","ЖКХ.Прочие","Местный",null,null,null,"менее 670",5612042824,"АО \"ЭнергосбыТ Плюс\"",3703020510,"ООО \"МИП \"Кинешма\"",null,"Э","СН2",null,null,null,null,0,0,0,null,null,null,null,0,0,0,null,null,null,null,0,0,0,null,null,null,null,0,0,0,null,null,null,null,0,0,0,null,null,null,null,0,0,0,null,null,null,null,0,0,0,null,null,null,null,0,0,0,null,null,null,null,0,0,0,null,null,null,null,0,0,0,1,2.8069999999999999,4.4000000000000003E-3,5.8580000000000004E-3,0,0,5766.39203,1,1.129,4.4000000000000003E-3,2.297E-3,2.1030000000000003E-3,0.47795454545454547,0,1,0.63300000000000001,4.4000000000000003E-3,1.2960000000000001E-3,3.104E-3,0.70545454545454545,0,0,0,0,0,1,0.51600000000000001,4.4000000000000003E-3,1.3029999999999999,0,0,0,0,0,0,0,1,0.45300000000000001,4.4000000000000003E-3,1.2960000000000001E-3,3.104E-3,0.70545454545454545,0,0,0,0,0,1,0.33400000000000002,4.4000000000000003E-3,1.1299999999999999E-3,3.2700000000000003E-3,0.74318181818181817,0,0,0,0,0,1,0.24299999999999999,4.4000000000000003E-3,7.3999999999999996E-5,4.326E-3,0.98318181818181816,0,0,0,0,0,1,0.17,4.4000000000000003E-3,1.2E-5,4.3880000000000004E-3,0.99727272727272731,0,0,0,0,0,1,0.21099999999999999,4.4000000000000003E-3,1.0000000000000001E-5,4.3900000000000007E-3,0.9977272727272728,0,0,0,0,0,1,0.311,4.4000000000000003E-3,7.9600000000000005E-4,3.6040000000000004E-3,0.81909090909090909,0,0,0,0,0,1,0.4,4.4000000000000003E-3,1.2800000000000001E-3,3.1200000000000004E-3,0.70909090909090911,0,0,0,0,0,1,0.51,4.4000000000000003E-3,1.289E-3,3.1110000000000001E-3,0.70704545454545453,0,0,0,0,0,1,0.59299999999999997,4.4000000000000003E-3,1.304E-3,3.0960000000000002E-3,{"$f":"IFERROR(HJ19/HH19,0)","v":0.70363636363636362},0,0,0,0,0,null,null,null,null,{"$f":"IF(IF($Q19=1,HS19*$Q$10-HT19,HS19-HT19)<0,0,IF($Q19=1,HS19*$Q$10-HT19,HS19-HT19))","v":0},0,0,0,0,0,0,1,4.3739999999999997,4.4000000000000003E-3,0.11922609090909089,{"$f":"IFERROR(AVERAGE(HU19,HJ19,GY19,GN19,GC19,FR19,FG19,EV19,EK19,DZ19,DO19,DD19),0)","v":2.9594166666666675E-3},0.67259469696969709,0,0,0,0]
["ООО \"МИП \"Кинешма\"","Ивановская область",null,"УГХ г.Кинешмы"," РУ-0,4кВ ТП-ИК3/3 КЛ-0,4кВ","ЖКХ","ЖКХ.Прочие","Местный",null,null,null,"менее 670",5612042824,"АО \"ЭнергосбыТ Плюс\"",3703020510,"ООО \"МИП \"Кинешма\"",null,"Э","ВН",null,null,null,null,{"$f":"IF(IF($Q20=1,V20*$Q$10-W20,V20-W20)<0,0,IF($Q20=1,V20*$Q$10-W20,V20-W20))","v":0},{"$f":"IFERROR(X20/V20,0)","v":0},{"$f":"IF(T20=1,SUMIF(W$4:Z$4,$S20,W$7:Z$7)*U20,IF(T20=\"ГН\",W20*SUMIF(W$4:Z$4,$S20,W$5:Z$5),IF(T20=2,W20*SUMIF(W$4:Z$4,$S20,W$5:Z$5)+U20*SUMIF(W$4:Z$4,$S20,W$6:Z$6),0)))","v":0},null,null,null,null,{"$f":"IF(IF($Q20=1,AC20*$Q$10-AD20,AC20-AD20)<0,0,IF($Q20=1,AC20*$Q$10-AD20,AC20-AD20))","v":0},{"$f":"IFERROR(AE20/AC20,0)","v":0},{"$f":"IF(AA20=1,SUMIF(AD$4:AG$4,$S20,AD$7:AG$7)*AB20,IF(AA20=\"ГН\",AD20*SUMIF(AD$4:AG$4,$S20,AD$5:AG$5),IF(AA20=2,AD20*SUMIF(AD$4:AG$4,$S20,AD$5:AG$5)+AB20*SUMIF(AD$4:AG$4,$S20,AD$6:AG$6),0)))","v":0},null,null,null,null,{"$f":"IF(IF($Q20=1,AJ20*$Q$10-AK20,AJ20-AK20)<0,0,IF($Q20=1,AJ20*$Q$10-AK20,AJ20-AK20))","v":0},{"$f":"IFERROR(AL20/AJ20,0)","v":0},{"$f":"IF(AH20=1,SUMIF(AK$4:AN$4,$S20,AK$7:AN$7)*AI20,IF(AH20=\"ГН\",AK20*SUMIF(AK$4:AN$4,$S20,AK$5:AN$5),IF(AH20=2,AK20*SUMIF(AK$4:AN$4,$S20,AK$5:AN$5)+AI20*SUMIF(AK$4:AN$4,$S20,AK$6:AN$6),0)))","v":0},null,null,null,null,{"$f":"IF(IF($Q20=1,AQ20*$Q$10-AR20,AQ20-AR20)<0,0,IF($Q20=1,AQ20*$Q$10-AR20,AQ20-AR20))","v":0},{"$f":"IFERROR(AS20/AQ20,0)","v":0},{"$f":"IF(AO20=1,SUMIF(AR$4:AU$4,$S20,AR$7:AU$7)*AP20,IF(AO20=\"ГН\",AR20*SUMIF(AR$4:AU$4,$S20,AR$5:AU$5),IF(AO20=2,AR20*SUMIF(AR$4:AU$4,$S20,AR$5:AU$5)+AP20*SUMIF(AR$4:AU$4,$S20,AR$6:AU$6),0)))","v":0},null,null,null,null,{"$f":"IF(IF($Q20=1,AX20*$Q$10-AY20,AX20-AY20)<0,0,IF($Q20=1,AX20*$Q$10-AY20,AX20-AY20))","v":0},{"$f":"IFERROR(AZ20/AX20,0)","v":0},{"$f":"IF(AV20=1,SUMIF(AY$4:BB$4,$S20,AY$7:BB$7)*AW20,IF(AV20=\"ГН\",AY20*SUMIF(AY$4:BB$4,$S20,AY$5:BB$5),IF(AV20=2,AY20*SUMIF(AY$4:BB$4,$S20,AY$5:BB$5)+AW20*SUMIF(AY$4:BB$4,$S20,AY$6:BB$6),0)))","v":0},null,null,null,null,{"$f":"IF(IF($Q20=1,BE20*$Q$10-BF20,BE20-BF20)<0,0,IF($Q20=1,BE20*$Q$10-BF20,BE20-BF20))","v":0},{"$f":"IFERROR(BG20/BE20,0)","v":0},{"$f":"IF(BC20=1,SUMIF(BF$4:BI$4,$S20,BF$7:BI$7)*BD20,IF(BC20=\"ГН\",BF20*SUMIF(BF$4:BI$4,$S20,BF$5:BI$5),IF(BC20=2,BF20*SUMIF(BF$4:BI$4,$S20,BF$5:BI$5)+BD20*SUMIF(BF$4:BI$4,$S20,BF$6:BI$6),0)))","v":0},null,null,null,null,{"$f":"IF(IF($Q20=1,BL20*$Q$10-BM20,BL20-BM20)<0,0,IF($Q20=1,BL20*$Q$10-BM20,BL20-BM20))","v":0},{"$f":"IFERROR(BN20/BL20,0)","v":0},{"$f":"IF(BJ20=1,SUMIF(BM$4:BP$4,$S20,BM$7:BP$7)*BK20,IF(BJ20=\"ГН\",BM20*SUMIF(BM$4:BP$4,$S20,BM$5:BP$5),IF(BJ20=2,BM20*SUMIF(BM$4:BP$4,$S20,BM$5:BP$5)+BK20*SUMIF(BM$4:BP$4,$S20,BM$6:BP$6),0)))","v":0},null,null,null,null,{"$f":"IF(IF($Q20=1,BS20*$Q$10-BT20,BS20-BT20)<0,0,IF($Q20=1,BS20*$Q$10-BT20,BS20-BT20))","v":0},{"$f":"IFERROR(BU20/BS20,0)","v":0},{"$f":"IF(BQ20=1,SUMIF(BT$4:BW$4,$S20,BT$7:BW$7)*BR20,IF(BQ20=\"ГН\",BT20*SUMIF(BT$4:BW$4,$S20,BT$5:BW$5),IF(BQ20=2,BT20*SUMIF(BT$4:BW$4,$S20,BT$5:BW$5)+BR20*SUMIF(BT$4:BW$4,$S20,BT$6:BW$6),0)))","v":0},null,null,null,null,{"$f":"IF(IF($Q20=1,BZ20*$Q$10-CA20,BZ20-CA20)<0,0,IF($Q20=1,BZ20*$Q$10-CA20,BZ20-CA20))","v":0},{"$f":"IFERROR(CB20/BZ20,0)","v":0},{"$f":"IF(BX20=1,SUMIF(CA$4:CD$4,$S20,CA$7:CD$7)*BY20,IF(BX20=\"ГН\",CA20*SUMIF(CA$4:CD$4,$S20,CA$5:CD$5),IF(BX20=2,CA20*SUMIF(CA$4:CD$4,$S20,CA$5:CD$5)+BY20*SUMIF(CA$4:CD$4,$S20,CA$6:CD$6),0)))","v":0},null,null,null,null,{"$f":"IF(IF($Q20=1,CG20*$Q$10-CH20,CG20-CH20)<0,0,IF($Q20=1,CG20*$Q$10-CH20,CG20-CH20))","v":0},{"$f":"IFERROR(CI20/CG20,0)","v":0},{"$f":"IF(CE20=1,SUMIF(CH$4:CK$4,$S20,CH$7:CK$7)*CF20,IF(CE20=\"ГН\",CH20*SUMIF(CH$4:CK$4,$S20,CH$5:CK$5),IF(CE20=2,CH20*SUMIF(CH$4:CK$4,$S20,CH$5:CK$5)+CF20*SUMIF(CH$4:CK$4,$S20,CH$6:CK$6),0)))","v":0},1,1.1200000000000001,1.4999999999999999E-2,2.4889999999999999E-3,{"$f":"IF(IF($Q20=1,CN20*$Q$10-CO20,CN20-CO20)<0,0,IF($Q20=1,CN20*$Q$10-CO20,CN20-CO20))","v":1.2511E-2},{"$f":"IFERROR(CP20/CN20,0)","v":0.83406666666666662},{"$f":"IF(CL20=1,SUMIF(CO$4:CR$4,$S20,CO$7:CR$7)*CM20,IF(CL20=\"ГН\",CO20*SUMIF(CO$4:CR$4,$S20,CO$5:CR$5),IF(CL20=2,CO20*SUMIF(CO$4:CR$4,$S20,CO$5:CR$5)+CM20*SUMIF(CO$4:CR$4,$S20,CO$6:CR$6),0)))","v":2216.8048000000003},1,0.72,1.4999999999999999E-2,1.4519999999999999E-3,{"$f":"IF(IF($Q20=1,CU20*$Q$10-CV20,CU20-CV20)<0,0,IF($Q20=1,CU20*$Q$10-CV20,CU20-CV20))","v":1.3547999999999999E-2},{"$f":"IFERROR(CW20/CU20,0)","v":0.9032},{"$f":"IF(CS20=1,SUMIF(CV$4:CY$4,$S20,CV$7:CY$7)*CT20,IF(CS20=\"ГН\",CV20*SUMIF(CV$4:CY$4,$S20,CV$5:CY$5),IF(CS20=2,CV20*SUMIF(CV$4:CY$4,$S20,CV$5:CY$5)+CT20*SUMIF(CV$4:CY$4,$S20,CV$6:CY$6),0)))","v":0},1,1.44,1.4999999999999999E-2,2.9030000000000002E-3,{"$f":"IF(IF($Q20=1,DB20*$Q$10-DC20,DB20-DC20)<0,0,IF($Q20=1,DB20*$Q$10-DC20,DB20-DC20))","v":1.2097E-2},{"$f":"IFERROR(DD20/DB20,0)","v":0.80646666666666667},{"$f":"MIN(CX20,CQ20,CJ20,CC20,BV20,BO20,BH20,BA20,AT20,AM20,AF20,Y20,DE20)","v":0},{"$f":"IF(AND(DF20>0.4,DJ20>0),DD20*DG$11,0)","v":0},{"$f":"SUM(DI20:DJ20)","v":0},{"$f":"DG20*SUMIF(DG$4:DJ$4,$S20,DG$5:DJ$5)","v":0},{"$f":"IF(CZ20=1,SUMIF(DG$4:DJ$4,$S20,DG$7:DJ$7)*DA20,IF(CZ20=\"ГН\",DC20*SUMIF(DG$4:DJ$4,$S20,DG$5:DJ$5),IF(CZ20=2,DC20*SUMIF(DG$4:DJ$4,$S20,DG$5:DJ$5)+DA20*SUMIF(DG$4:DJ$4,$S20,DG$6:DJ$6),0)))","v":0},1,0.54,1.4999999999999999E-2,1.33E-3,{"$f":"IF(IF($Q20=1,DM20*$Q$10-DN20,DM20-DN20)<0,0,IF($Q20=1,DM20*$Q$10-DN20,DM20-DN20))","v":1.367E-2},{"$f":"IFERROR(DO20/DM20,0)","v":0.91133333333333333},{"$f":"MIN(DE20,CX20,CQ20,CJ20,CC20,BV20,BO20,BH20,BA20,AT20,AM20,AF20,DP20)","v":0},{"$f":"IF(AND(DQ20>0.4,DU20>0),DO20*DR$11,0)","v":0},{"$f":"SUM(DT20:DU20)","v":0},{"$f":"DR20*SUMIF(DR$4:DU$4,$S20,DR$5:DU$5)","v":0},{"$f":"IF(DK20=1,SUMIF(DR$4:DU$4,$S20,DR$7:DU$7)*DL20,IF(DK20=\"ГН\",DN20*SUMIF(DR$4:DU$4,$S20,DR$5:DU$5),IF(DK20=2,DN20*SUMIF(DR$4:DU$4,$S20,DR$5:DU$5)+DL20*SUMIF(DR$4:DU$4,$S20,DR$6:DU$6),0)))","v":0},1,1.42,1.4999999999999999E-2,3.8170000000000001E-3,{"$f":"IF(IF($Q20=1,DX20*$Q$10-DY20,DX20-DY20)<0,0,IF($Q20=1,DX20*$Q$10-DY20,DX20-DY20))","v":1.1182999999999998E-2},{"$f":"IFERROR(DZ20/DX20,0)","v":0.74553333333333327},{"$f":"MIN(DP20,DE20,CX20,CQ20,CJ20,CC20,BV20,BO20,BH20,BA20,AT20,AM20,EA20)","v":0},{"$f":"IF(AND(EB20>0.4,EF20>0),DZ20*EC$11,0)","v":0},{"$f":"SUM(EE20:EF20)","v":0},{"$f":"EC20*SUMIF(EC$4:EF$4,$S20,EC$5:EF$5)","v":0},{"$f":"IF(DV20=1,SUMIF(EC$4:EF$4,$S20,EC$7:EF$7)*DW20,IF(DV20=\"ГН\",DY20*SUMIF(EC$4:EF$4,$S20,EC$5:EF$5),IF(DV20=2,DY20*SUMIF(EC$4:EF$4,$S20,EC$5:EF$5)+DW20*SUMIF(EC$4:EF$4,$S20,EC$6:EF$6),0)))","v":0},1,0.6,1.4999999999999999E-2,1.818E-3,{"$f":"IF(IF($Q20=1,EI20*$Q$10-EJ20,EI20-EJ20)<0,0,IF($Q20=1,EI20*$Q$10-EJ20,EI20-EJ20))","v":1.3181999999999999E-2},{"$f":"IFERROR(EK20/EI20,0)","v":0.87880000000000003},{"$f":"MIN(EA20,DP20,DE20,CX20,CQ20,CJ20,CC20,BV20,BO20,BH20,BA20,AT20,EL20)","v":0},{"$f":"IF(AND(EM20>0.4,EQ20>0),EK20*EN$11,0)","v":0},{"$f":"SUM(EP20:EQ20)","v":0},{"$f":"EN20*SUMIF(EN$4:EQ$4,$S20,EN$5:EQ$5)","v":0},{"$f":"IF(EG20=1,SUMIF(EN$4:EQ$4,$S20,EN$7:EQ$7)*EH20,IF(EG20=\"ГН\",EJ20*SUMIF(EN$4:EQ$4,$S20,EN$5:EQ$5),IF(EG20=2,EJ20*SUMIF(EN$4:EQ$4,$S20,EN$5:EQ$5)+EH20*SUMIF(EN$4:EQ$4,$S20,EN$6:EQ$6),0)))","v":0},1,0.34,1.4999999999999999E-2,1.371E-3,{"$f":"IF(IF($Q20=1,ET20*$Q$10-EU20,ET20-EU20)<0,0,IF($Q20=1,ET20*$Q$10-EU20,ET20-EU20))","v":1.3628999999999999E-2},{"$f":"IFERROR(EV20/ET20,0)","v":0.90859999999999996},{"$f":"MIN(EL20,EA20,DP20,DE20,CX20,CQ20,CJ20,CC20,BV20,BO20,BH20,BA20,EW20)","v":0},{"$f":"IF(AND(EX20>0.4,FB20>0),EV20*EY$11,0)","v":0},{"$f":"SUM(FA20:FB20)","v":0},{"$f":"EY20*SUMIF(EY$4:FB$4,$S20,EY$5:FB$5)","v":0},{"$f":"IF(ER20=1,SUMIF(EY$4:FB$4,$S20,EY$7:FB$7)*ES20,IF(ER20=\"ГН\",EU20*SUMIF(EY$4:FB$4,$S20,EY$5:FB$5),IF(ER20=2,EU20*SUMIF(EY$4:FB$4,$S20,EY$5:FB$5)+ES20*SUMIF(EY$4:FB$4,$S20,EY$6:FB$6),0)))","v":0},1,0.3,1.4999999999999999E-2,1.4289999999999999E-3,{"$f":"IF(IF($Q20=1,FE20*$Q$10-FF20,FE20-FF20)<0,0,IF($Q20=1,FE20*$Q$10-FF20,FE20-FF20))","v":1.3571E-2},{"$f":"IFERROR(FG20/FE20,0)","v":0.90473333333333339},{"$f":"MIN(EW20,EL20,EA20,DP20,DE20,CX20,CQ20,CJ20,CC20,BV20,BO20,BH20,FH20)","v":0},{"$f":"IF(AND(FI20>0.4,FM20>0),FG20*FJ$11,0)","v":0},{"$f":"SUM(FL20:FM20)","v":0},{"$f":"FJ20*SUMIF(FJ$4:FM$4,$S20,FJ$5:FM$5)","v":0},{"$f":"IF(FC20=1,SUMIF(FJ$4:FM$4,$S20,FJ$7:FM$7)*FD20,IF(FC20=\"ГН\",FF20*SUMIF(FJ$4:FM$4,$S20,FJ$5:FM$5),IF(FC20=2,FF20*SUMIF(FJ$4:FM$4,$S20,FJ$5:FM$5)+FD20*SUMIF(FJ$4:FM$4,$S20,FJ$6:FM$6),0)))","v":0},1,0.34,1.4999999999999999E-2,1.567E-3,{"$f":"IF(IF($Q20=1,FP20*$Q$10-FQ20,FP20-FQ20)<0,0,IF($Q20=1,FP20*$Q$10-FQ20,FP20-FQ20))","v":1.3432999999999999E-2},{"$f":"IFERROR(FR20/FP20,0)","v":0.89553333333333329},{"$f":"MIN(FH20,EW20,EL20,EA20,DP20,DE20,CX20,CQ20,CJ20,CC20,BV20,BO20,FS20)","v":0},{"$f":"IF(AND(FT20>0.4,FX20>0),FR20*FU$11,0)","v":0},{"$f":"SUM(FW20:FX20)","v":0},{"$f":"FU20*SUMIF(FU$4:FX$4,$S20,FU$5:FX$5)","v":0},{"$f":"IF(FN20=1,SUMIF(FU$4:FX$4,$S20,FU$7:FX$7)*FO20,IF(FN20=\"ГН\",FQ20*SUMIF(FU$4:FX$4,$S20,FU$5:FX$5),IF(FN20=2,FQ20*SUMIF(FU$4:FX$4,$S20,FU$5:FX$5)+FO20*SUMIF(FU$4:FX$4,$S20,FU$6:FX$6),0)))","v":0},1,0.52,1.4999999999999999E-2,1.864E-3,{"$f":"IF(IF($Q20=1,GA20*$Q$10-GB20,GA20-GB20)<0,0,IF($Q20=1,GA20*$Q$10-GB20,GA20-GB20))","v":1.3136E-2},{"$f":"IFERROR(GC20/GA20,0)","v":0.87573333333333336},{"$f":"MIN(FS20,FH20,EW20,EL20,EA20,DP20,DE20,CX20,CQ20,CJ20,CC20,BV20,GD20)","v":0},{"$f":"IF(AND(GE20>0.4,GI20>0),GC20*GF$11,0)","v":0},{"$f":"SUM(GH20:GI20)","v":0},{"$f":"GF20*SUMIF(GF$4:GI$4,$S20,GF$5:GI$5)","v":0},{"$f":"IF(FY20=1,SUMIF(GF$4:GI$4,$S20,GF$7:GI$7)*FZ20,IF(FY20=\"ГН\",GB20*SUMIF(GF$4:GI$4,$S20,GF$5:GI$5),IF(FY20=2,GB20*SUMIF(GF$4:GI$4,$S20,GF$5:GI$5)+FZ20*SUMIF(GF$4:GI$4,$S20,GF$6:GI$6),0)))","v":0},1,0.62,1.4999999999999999E-2,1.879E-3,{"$f":"IF(IF($Q20=1,GL20*$Q$10-GM20,GL20-GM20)<0,0,IF($Q20=1,GL20*$Q$10-GM20,GL20-GM20))","v":1.3120999999999999E-2},{"$f":"IFERROR(GN20/GL20,0)","v":0.87473333333333325},{"$f":"MIN(GD20,FS20,FH20,EW20,EL20,EA20,DP20,DE20,CX20,CQ20,CJ20,CC20,GO20)","v":0},{"$f":"IF(AND(GP20>0.4,GT20>0),GN20*GQ$11,0)","v":0},{"$f":"SUM(GS20:GT20)","v":0},{"$f":"GQ20*SUMIF(GQ$4:GT$4,$S20,GQ$5:GT$5)","v":0},{"$f":"IF(GJ20=1,SUMIF(GQ$4:GT$4,$S20,GQ$7:GT$7)*GK20,IF(GJ20=\"ГН\",GM20*SUMIF(GQ$4:GT$4,$S20,GQ$5:GT$5),IF(GJ20=2,GM20*SUMIF(GQ$4:GT$4,$S20,GQ$5:GT$5)+GK20*SUMIF(GQ$4:GT$4,$S20,GQ$6:GT$6),0)))","v":0},1,0.88,1.4999999999999999E-2,2.0279999999999999E-3,{"$f":"IF(IF($Q20=1,GW20*$Q$10-GX20,GW20-GX20)<0,0,IF($Q20=1,GW20*$Q$10-GX20,GW20-GX20))","v":1.2971999999999999E-2},{"$f":"IFERROR(GY20/GW20,0)","v":0.86480000000000001},{"$f":"MIN(GO20,GD20,FS20,FH20,EW20,EL20,EA20,DP20,DE20,CX20,CQ20,CJ20,GZ20)","v":0},{"$f":"IF(AND(HA20>0.4,HE20>0),GY20*HB$11,0)","v":0},{"$f":"SUM(HD20:HE20)","v":0},{"$f":"HB20*SUMIF(HB$4:HE$4,$S20,HB$5:HE$5)","v":0},{"$f":"IF(GU20=1,SUMIF(HB$4:HE$4,$S20,HB$7:HE$7)*GV20,IF(GU20=\"ГН\",GX20*SUMIF(HB$4:HE$4,$S20,HB$5:HE$5),IF(GU20=2,GX20*SUMIF(HB$4:HE$4,$S20,HB$5:HE$5)+GV20*SUMIF(HB$4:HE$4,$S20,HB$6:HE$6),0)))","v":0},1,0.92,1.4999999999999999E-2,1.833E-3,{"$f":"IF(IF($Q20=1,HH20*$Q$10-HI20,HH20-HI20)<0,0,IF($Q20=1,HH20*$Q$10-HI20,HH20-HI20))","v":1.3167E-2},{"$f":"IFERROR(HJ20/HH20,0)","v":0.87780000000000002},{"$f":"MIN(GZ20,GO20,GD20,FS20,FH20,EW20,EL20,EA20,DP20,DE20,CX20,CQ20,HK20)","v":0.74553333333333327},{"$f":"IF(AND(HL20>0.4,HP20>0),HJ20*HM$11,0)","v":0},{"$f":"SUM(HO20:HP20)","v":0},{"$f":"HM20*SUMIF(HM$4:HP$4,$S20,HM$5:HP$5)","v":0},{"$f":"IF(HF20=1,SUMIF(HM$4:HP$4,$S20,HM$7:HP$7)*HG20,IF(HF20=\"ГН\",HI20*SUMIF(HM$4:HP$4,$S20,HM$5:HP$5),IF(HF20=2,HI20*SUMIF(HM$4:HP$4,$S20,HM$5:HP$5)+HG20*SUMIF(HM$4:HP$4,$S20,HM$6:HP$6),0)))","v":0},null,null,null,null,{"$f":"IF(IF($Q20=1,HS20*$Q$10-HT20,HS20-HT20)<0,0,IF($Q20=1,HS20*$Q$10-HT20,HS20-HT20))","v":0},{"$f":"IFERROR(HU20/HS20,0)","v":0},{"$f":"MIN(HK20,GZ20,GO20,GD20,FS20,FH20,EW20,EL20,EA20,DP20,DE20,CX20,HV20)","v":0},{"$f":"IF(AND(HW20>0.4,IA20>0),HU20*HX$11,0)","v":0},{"$f":"SUM(HZ20:IA20)","v":0},{"$f":"HX20*SUMIF(HX$4:IA$4,$S20,HX$5:IA$5)","v":0},{"$f":"IF(HQ20=1,SUMIF(HX$4:IA$4,$S20,HX$7:IA$7)*HR20,IF(HQ20=\"ГН\",HT20*SUMIF(HX$4:IA$4,$S20,HX$5:IA$5),IF(HQ20=2,HT20*SUMIF(HX$4:IA$4,$S20,HX$5:IA$5)+HR20*SUMIF(HX$4:IA$4,$S20,HX$6:IA$6),0)))","v":0},{"$f":"IFERROR(AVERAGE(HQ20,HF20,GU20,GJ20,FY20,FN20,FC20,ER20,EG20,DV20,DK20,CZ20),0)","v":1},{"$f":"SUM(HR20,HG20,GV20,GK20,FZ20,FO20,FD20,ES20,EH20,DW20,DL20,DA20)","v":7.92},{"$f":"IFERROR(AVERAGE(HS20,HH20,GW20,GL20,GA20,FP20,FE20,ET20,EI20,DX20,DM20,DB20),0)","v":1.5000000000000003E-2},{"$f":"IFERROR(AVERAGE(HT20,HI20,GX20,GM20,GB20,FQ20,FF20,EU20,EJ20,DY20,DN20,DC20),0)","v":1.9853636363636362E-3},{"$f":"IFERROR(AVERAGE(HU20,HJ20,GY20,GN20,GC20,FR20,FG20,EV20,EK20,DZ20,DO20,DD20),0)","v":1.1930083333333332E-2},{"$f":"IFERROR(IF20/ID20,0)","v":0.79533888888888871},{"$f":"IFERROR(AVERAGE(HX20,HM20,HB20,GQ20,GF20,FU20,FJ20,EY20,EN20,EC20,DR20,DG20),0)","v":0},{"$f":"IJ20+IK20","v":0},{"$f":"SUM(HZ20,HO20,HD20,GS20,GH20,FW20,FL20,FA20,EP20,EE20,DT20,DI20)","v":0},{"$f":"SUM(IA20,HP20,HE20,GT20,GI20,FX20,FM20,FB20,EQ20,EF20,DU20,DJ20)","v":0}]
["ООО \"МИП \"Кинешма\"","Ивановская область",null,"ПАО «МТС»","КТП№20 10/0,4кВ ООО \"МИП \"Кинешма\", ЩР-1 0,4кВ","Прочие","Прочие",null,null,null,null,"менее 670",5612042824,"АО \"ЭнергосбыТ Плюс\"",3703020510,"ООО \"МИП \"Кинешма\"",null,"Э","НН",null,null,null,null,0,0,0,null,null,null,null,0,0,0,null,null,null,null,0,0,0,null,null,null,null,0,0,0,null,null,null,null,0,0,0,null,null,null,null,0,0,0,null,null,null,null,0,0,0,null,null,null,null,0,0,0,null,null,null,null,0,0,0,null,null,null,null,0,0,0,2,3.851,5.0000000000000001E-3,6.0800000000000003E-3,0,0,9995.4885988000005,2,3.9689999999999999,5.0000000000000001E-3,6.0540000000000004E-3,0,0,0,2,3.9409999999999998,5.0000000000000001E-3,5.986E-3,0,0,0,0,0,0,0,2,3.6880000000000002,5.0000000000000001E-3,5.9360000000000003E-3,0,0,0,0,0,0,0,2,4.0220000000000002,5.0000000000000001E-3,5.999E-3,0,0,0,0,0,0,0,2,4.0259999999999998,5.0000000000000001E-3,6.3290000000000004E-3,0,0,0,0,0,0,0,2,4.2469999999999999,5.0000000000000001E-3,6.3920000000000001E-3,0,0,0,0,0,0,0,2,3.988,5.0000000000000001E-3,6.2989999999999999E-3,0,0,0,0,0,0,0,2,4.0789999999999997,5.0000000000000001E-3,6.1120000000000002E-3,0,0,0,0,0,0,0,2,4.008,5.0000000000000001E-3,6.0280000000000004E-3,0,0,0,0,0,0,0,2,3.8029999999999999,5.0000000000000001E-3,5.9080000000000001E-3,0,0,0,0,0,0,0,2,3.8559999999999999,5.0000000000000001E-3,5.7790000000000003E-3,0,0,0,0,0,0,0,2,3.6560000000000001,5.0000000000000001E-3,5.5840000000000004E-3,0,0,0,0,0,0,0,null,null,null,null,0,0,0,0,0,0,0,2,43.314000000000007,4.9999999999999992E-3,6.0320000000000009E-3,{"$f":"IFERROR(AVERAGE(HU21,HJ21,GY21,GN21,GC21,FR21,FG21,EV21,EK21,DZ21,DO21,DD21),0)","v":0},0,0,0,0,0]
["ООО \"МИП \"Кинешма\"","Ивановская область",null,"ООО «Партнер»","КТП№30 10/0,4кВ ООО \"МИП \"Кинешма\", РУ0,4кВ","Прочие","Прочие",null,null,null,null,"менее 670",5612042824,"АО \"ЭнергосбыТ Плюс\"",3703020510,"ООО \"МИП \"Кинешма\"",null,"Э","СН2",null,null,null,null,0,0,0,null,null,null,null,0,0,0,null,null,null,null,0,0,0,null,null,null,null,0,0,0,null,null,null,null,0,0,0,null,null,null,null,0,0,0,null,null,null,null,0,0,0,null,null,null,null,0,0,0,null,null,null,null,0,0,0,null,null,null,null,0,0,0,1,0.68200000000000005,0.01,2.9269999999999999E-3,7.0730000000000003E-3,0.70730000000000004,1401.0257800000002,1,0.89100000000000001,0.01,5.1859999999999996E-3,4.8140000000000006E-3,0.48140000000000005,0,1,0.92100000000000004,0.01,5.143E-3,4.8570000000000002E-3,0.48570000000000002,0,0,0,0,0,1,1.464,0.01,6.1910000000000003E-3,3.8089999999999999E-3,0.38089999999999996,0,0,0,0,0,1,1.0249999999999999,0.01,6.0309999999999999E-3,3.9690000000000003E-3,0.39690000000000003,0,0,0,0,0,1,1.135,0.01,4.9389999999999998E-3,5.0610000000000004E-3,0.50609999999999999,0,0,0,0,0,1,1.0309999999999999,0.01,5.5149999999999999E-3,4.4850000000000003E-3,0.44850000000000001,0,0,0,0,0,1,0.92300000000000004,0.01,4.6610000000000002E-3,5.339E-3,0.53390000000000004,0,0,0,0,0,1,0.94299999999999995,0.01,6.4609999999999997E-3,3.5390000000000005E-3,0.35390000000000005,0,0,0,0,0,1,1.0229999999999999,0.01,5.9170000000000004E-3,4.0829999999999998E-3,0.4083,0,0,0,0,0,1,1.087,0.01,5.2440000000000004E-3,4.7559999999999998E-3,0.47559999999999997,0,0,0,0,0,1,1.234,0.01,7.2820000000000003E-3,2.7179999999999999E-3,0.27179999999999999,0,0,0,0,0,1,1.1459999999999999,0.01,7.8829999999999994E-3,2.1170000000000008E-3,0.21170000000000008,0.21170000000000008,{"$f":"IF(AND(HL22>0.4,HP22>0),HJ22*HM$11,0)","v":0},0,0,0,null,null,null,null,0,0,0,0,0,0,0,1,11.931999999999999,9.9999999999999985E-3,5.9333636363636368E-3,3.7277500000000002E-3,0.37277500000000008,0,0,0,0]
["ООО \"МИП \"Кинешма\"","Ивановская область",null,"Григорян Н.Х.","КТП№30 10/0,4кВ ООО \"МИП \"Кинешма\"  РУ0,4кВ","Прочие","Прочие",null,null,null,null,"менее 670",5612042824,"АО \"ЭнергосбыТ Плюс\"",3703020510,"ООО \"МИП \"Кинешма\"",null,"Э","СН2",null,null,null,null,0,0,0,null,null,null,null,0,0,0,null,null,null,null,0,0,0,null,null,null,null,0,0,0,null,null,null,null,0,0,0,null,null,null,null,0,0,0,null,null,null,null,0,0,0,null,null,null,null,0,0,0,null,null,null,null,0,0,0,null,null,null,null,0,0,0,1,1.74,1.4999999999999999E-2,6.012E-3,8.9879999999999995E-3,0.59919999999999995,3574.4645999999998,1,3.7050000000000001,1.4999999999999999E-2,8.6269999999999993E-3,6.3730000000000002E-3,0.42486666666666667,0,1,1.0449999999999999,1.4999999999999999E-2,2.2260000000000001E-3,1.2773999999999999E-2,0.85159999999999991,0,0,0,0,0,1,0.76800000000000002,1.4999999999999999E-2,3.385E-3,1.1615E-2,0.77433333333333343,0,0,0,0,0,1,0.62,1.4999999999999999E-2,2.3410000000000002E-3,1.2659E-2,0.84393333333333342,0,0,0,0,0,1,0.628,1.4999999999999999E-2,2.013E-3,1.2986999999999999E-2,0.8657999999999999,0,0,0,0,0,1,0.31,1.4999999999999999E-2,9.8999999999999999E-4,1.401E-2,0.93400000000000005,0,0,0,0,0,1,0.32500000000000001,1.4999999999999999E-2,1.0280000000000001E-3,1.3972E-2,0.93146666666666667,0,0,0,0,0,1,0.32700000000000001,1.4999999999999999E-2,1.39E-3,1.3609999999999999E-2,0.90733333333333333,0,0,0,0,0,1,0.28499999999999998,1.4999999999999999E-2,1.1609999999999999E-3,1.3838999999999999E-2,0.92259999999999998,0,0,0,0,0,1,0.71099999999999997,1.4999999999999999E-2,3.555E-3,1.1445E-2,0.76300000000000001,0,0,0,0,0,1,1.099,1.4999999999999999E-2,5.3410000000000003E-3,9.6589999999999992E-3,0.64393333333333336,0,0,0,0,0,1,0.90200000000000002,1.4999999999999999E-2,4.4219999999999997E-3,1.0578000000000001E-2,0.70520000000000005,0.42486666666666667,0,0,0,{"$f":"IF(HF23=1,SUMIF(HM$4:HP$4,$S23,HM$7:HP$7)*HG23,IF(HF23=\"ГН\",HI23*SUMIF(HM$4:HP$4,$S23,HM$5:HP$5),IF(HF23=2,HI23*SUMIF(HM$4:HP$4,$S23,HM$5:HP$5)+HG23*SUMIF(HM$4:HP$4,$S23,HM$6:HP$6),0)))","v":0},null,null,null,null,0,0,0,0,0,0,0,1,7.02,1.5000000000000003E-2,2.532E-3,1.1429E-2,0.76193333333333313,0,0,0,0]
["ООО \"МИП \"Кинешма\"","Ивановская область",null,"ПАО \"ВымпелКом\"","КТП№20 ООО \"МИП \"Кинешма\"  ШР №1","Прочие","Прочие",null,null,null,null,"менее 670",5612042824,"АО \"ЭнергосбыТ Плюс\"",3703020510,"ООО \"МИП \"Кинешма\"",null,"Э","НН",null,null,null,null,{"$f":"IF(IF($Q24=1,V24*$Q$10-W24,V24-W24)<0,0,IF($Q24=1,V24*$Q$10-W24,V24-W24))","v":0},{"$f":"IFERROR(X24/V24,0)","v":0},{"$f":"IF(T24=1,SUMIF(W$4:Z$4,$S24,W$7:Z$7)*U24,IF(T24=\"ГН\",W24*SUMIF(W$4:Z$4,$S24,W$5:Z$5),IF(T24=2,W24*SUMIF(W$4:Z$4,$S24,W$5:Z$5)+U24*SUMIF(W$4:Z$4,$S24,W$6:Z$6),0)))","v":0},null,null,null,null,{"$f":"IF(IF($Q24=1,AC24*$Q$10-AD24,AC24-AD24)<0,0,IF($Q24=1,AC24*$Q$10-AD24,AC24-AD24))","v":0},{"$f":"IFERROR(AE24/AC24,0)","v":0},{"$f":"IF(AA24=1,SUMIF(AD$4:AG$4,$S24,AD$7:AG$7)*AB24,IF(AA24=\"ГН\",AD24*SUMIF(AD$4:AG$4,$S24,AD$5:AG$5),IF(AA24=2,AD24*SUMIF(AD$4:AG$4,$S24,AD$5:AG$5)+AB24*SUMIF(AD$4:AG$4,$S24,AD$6:AG$6),0)))","v":0},null,null,null,null,{"$f":"IF(IF($Q24=1,AJ24*$Q$10-AK24,AJ24-AK24)<0,0,IF($Q24=1,AJ24*$Q$10-AK24,AJ24-AK24))","v":0},{"$f":"IFERROR(AL24/AJ24,0)","v":0},{"$f":"IF(AH24=1,SUMIF(AK$4:AN$4,$S24,AK$7:AN$7)*AI24,IF(AH24=\"ГН\",AK24*SUMIF(AK$4:AN$4,$S24,AK$5:AN$5),IF(AH24=2,AK24*SUMIF(AK$4:AN$4,$S24,AK$5:AN$5)+AI24*SUMIF(AK$4:AN$4,$S24,AK$6:AN$6),0)))","v":0},null,null,null,null,{"$f":"IF(IF($Q24=1,AQ24*$Q$10-AR24,AQ24-AR24)<0,0,IF($Q24=1,AQ24*$Q$10-AR24,AQ24-AR24))","v":0},{"$f":"IFERROR(AS24/AQ24,0)","v":0},{"$f":"IF(AO24=1,SUMIF(AR$4:AU$4,$S24,AR$7:AU$7)*AP24,IF(AO24=\"ГН\",AR24*SUMIF(AR$4:AU$4,$S24,AR$5:AU$5),IF(AO24=2,AR24*SUMIF(AR$4:AU$4,$S24,AR$5:AU$5)+AP24*SUMIF(AR$4:AU$4,$S24,AR$6:AU$6),0)))","v":0},null,null,null,null,{"$f":"IF(IF($Q24=1,AX24*$Q$10-AY24,AX24-AY24)<0,0,IF($Q24=1,AX24*$Q$10-AY24,AX24-AY24))","v":0},{"$f":"IFERROR(AZ24/AX24,0)","v":0},{"$f":"IF(AV24=1,SUMIF(AY$4:BB$4,$S24,AY$7:BB$7)*AW24,IF(AV24=\"ГН\",AY24*SUMIF(AY$4:BB$4,$S24,AY$5:BB$5),IF(AV24=2,AY24*SUMIF(AY$4:BB$4,$S24,AY$5:BB$5)+AW24*SUMIF(AY$4:BB$4,$S24,AY$6:BB$6),0)))","v":0},null,null,null,null,{"$f":"IF(IF($Q24=1,BE24*$Q$10-BF24,BE24-BF24)<0,0,IF($Q24=1,BE24*$Q$10-BF24,BE24-BF24))","v":0},{"$f":"IFERROR(BG24/BE24,0)","v":0},{"$f":"IF(BC24=1,SUMIF(BF$4:BI$4,$S24,BF$7:BI$7)*BD24,IF(BC24=\"ГН\",BF24*SUMIF(BF$4:BI$4,$S24,BF$5:BI$5),IF(BC24=2,BF24*SUMIF(BF$4:BI$4,$S24,BF$5:BI$5)+BD24*SUMIF(BF$4:BI$4,$S24,BF$6:BI$6),0)))","v":0},null,null,null,null,{"$f":"IF(IF($Q24=1,BL24*$Q$10-BM24,BL24-BM24)<0,0,IF($Q24=1,BL24*$Q$10-BM24,BL24-BM24))","v":0},{"$f":"IFERROR(BN24/BL24,0)","v":0},{"$f":"IF(BJ24=1,SUMIF(BM$4:BP$4,$S24,BM$7:BP$7)*BK24,IF(BJ24=\"ГН\",BM24*SUMIF(BM$4:BP$4,$S24,BM$5:BP$5),IF(BJ24=2,BM24*SUMIF(BM$4:BP$4,$S24,BM$5:BP$5)+BK24*SUMIF(BM$4:BP$4,$S24,BM$6:BP$6),0)))","v":0},null,null,null,null,{"$f":"IF(IF($Q24=1,BS24*$Q$10-BT24,BS24-BT24)<0,0,IF($Q24=1,BS24*$Q$10-BT24,BS24-BT24))","v":0},{"$f":"IFERROR(BU24/BS24,0)","v":0},{"$f":"IF(BQ24=1,SUMIF(BT$4:BW$4,$S24,BT$7:BW$7)*BR24,IF(BQ24=\"ГН\",BT24*SUMIF(BT$4:BW$4,$S24,BT$5:BW$5),IF(BQ24=2,BT24*SUMIF(BT$4:BW$4,$S24,BT$5:BW$5)+BR24*SUMIF(BT$4:BW$4,$S24,BT$6:BW$6),0)))","v":0},null,null,null,null,{"$f":"IF(IF($Q24=1,BZ24*$Q$10-CA24,BZ24-CA24)<0,0,IF($Q24=1,BZ24*$Q$10-CA24,BZ24-CA24))","v":0},{"$f":"IFERROR(CB24/BZ24,0)","v":0},{"$f":"IF(BX24=1,SUMIF(CA$4:CD$4,$S24,CA$7:CD$7)*BY24,IF(BX24=\"ГН\",CA24*SUMIF(CA$4:CD$4,$S24,CA$5:CD$5),IF(BX24=2,CA24*SUMIF(CA$4:CD$4,$S24,CA$5:CD$5)+BY24*SUMIF(CA$4:CD$4,$S24,CA$6:CD$6),0)))","v":0},null,null,null,null,{"$f":"IF(IF($Q24=1,CG24*$Q$10-CH24,CG24-CH24)<0,0,IF($Q24=1,CG24*$Q$10-CH24,CG24-CH24))","v":0},{"$f":"IFERROR(CI24/CG24,0)","v":0},{"$f":"IF(CE24=1,SUMIF(CH$4:CK$4,$S24,CH$7:CK$7)*CF24,IF(CE24=\"ГН\",CH24*SUMIF(CH$4:CK$4,$S24,CH$5:CK$5),IF(CE24=2,CH24*SUMIF(CH$4:CK$4,$S24,CH$5:CK$5)+CF24*SUMIF(CH$4:CK$4,$S24,CH$6:CK$6),0)))","v":0},2,1.786,0.01,2.5669999999999998E-3,{"$f":"IF(IF($Q24=1,CN24*$Q$10-CO24,CN24-CO24)<0,0,IF($Q24=1,CN24*$Q$10-CO24,CN24-CO24))","v":7.4330000000000004E-3},{"$f":"IFERROR(CP24/CN24,0)","v":0.74330000000000007},{"$f":"IF(CL24=1,SUMIF(CO$4:CR$4,$S24,CO$7:CR$7)*CM24,IF(CL24=\"ГН\",CO24*SUMIF(CO$4:CR$4,$S24,CO$5:CR$5),IF(CL24=2,CO24*SUMIF(CO$4:CR$4,$S24,CO$5:CR$5)+CM24*SUMIF(CO$4:CR$4,$S24,CO$6:CR$6),0)))","v":4325.1859046200007},2,1.8420000000000001,0.01,2.5460000000000001E-3,{"$f":"IF(IF($Q24=1,CU24*$Q$10-CV24,CU24-CV24)<0,0,IF($Q24=1,CU24*$Q$10-CV24,CU24-CV24))","v":7.4540000000000006E-3},{"$f":"IFERROR(CW24/CU24,0)","v":0.74540000000000006},{"$f":"IF(CS24=1,SUMIF(CV$4:CY$4,$S24,CV$7:CY$7)*CT24,IF(CS24=\"ГН\",CV24*SUMIF(CV$4:CY$4,$S24,CV$5:CY$5),IF(CS24=2,CV24*SUMIF(CV$4:CY$4,$S24,CV$5:CY$5)+CT24*SUMIF(CV$4:CY$4,$S24,CV$6:CY$6),0)))","v":0},2,1.8360000000000001,0.01,2.5530000000000001E-3,{"$f":"IF(IF($Q24=1,DB24*$Q$10-DC24,DB24-DC24)<0,0,IF($Q24=1,DB24*$Q$10-DC24,DB24-DC24))","v":7.4470000000000005E-3},{"$f":"IFERROR(DD24/DB24,0)","v":0.74470000000000003},{"$f":"MIN(CX24,CQ24,CJ24,CC24,BV24,BO24,BH24,BA24,AT24,AM24,AF24,Y24,DE24)","v":0},{"$f":"IF(AND(DF24>0.4,DJ24>0),DD24*DG$11,0)","v":0},{"$f":"SUM(DI24:DJ24)","v":0},{"$f":"DG24*SUMIF(DG$4:DJ$4,$S24,DG$5:DJ$5)","v":0},{"$f":"IF(CZ24=1,SUMIF(DG$4:DJ$4,$S24,DG$7:DJ$7)*DA24,IF(CZ24=\"ГН\",DC24*SUMIF(DG$4:DJ$4,$S24,DG$5:DJ$5),IF(CZ24=2,DC24*SUMIF(DG$4:DJ$4,$S24,DG$5:DJ$5)+DA24*SUMIF(DG$4:DJ$4,$S24,DG$6:DJ$6),0)))","v":0},2,1.734,0.01,2.5469999999999998E-3,{"$f":"IF(IF($Q24=1,DM24*$Q$10-DN24,DM24-DN24)<0,0,IF($Q24=1,DM24*$Q$10-DN24,DM24-DN24))","v":7.4530000000000004E-3},{"$f":"IFERROR(DO24/DM24,0)","v":0.74530000000000007},{"$f":"MIN(DE24,CX24,CQ24,CJ24,CC24,BV24,BO24,BH24,BA24,AT24,AM24,AF24,DP24)","v":0},{"$f":"IF(AND(DQ24>0.4,DU24>0),DO24*DR$11,0)","v":0},{"$f":"SUM(DT24:DU24)","v":0},{"$f":"DR24*SUMIF(DR$4:DU$4,$S24,DR$5:DU$5)","v":0},{"$f":"IF(DK24=1,SUMIF(DR$4:DU$4,$S24,DR$7:DU$7)*DL24,IF(DK24=\"ГН\",DN24*SUMIF(DR$4:DU$4,$S24,DR$5:DU$5),IF(DK24=2,DN24*SUMIF(DR$4:DU$4,$S24,DR$5:DU$5)+DL24*SUMIF(DR$4:DU$4,$S24,DR$6:DU$6),0)))","v":0},2,1.843,0.01,2.552E-3,{"$f":"IF(IF($Q24=1,DX24*$Q$10-DY24,DX24-DY24)<0,0,IF($Q24=1,DX24*$Q$10-DY24,DX24-DY24))","v":7.4479999999999998E-3},{"$f":"IFERROR(DZ24/DX24,0)","v":0.74479999999999991},{"$f":"MIN(DP24,DE24,CX24,CQ24,CJ24,CC24,BV24,BO24,BH24,BA24,AT24,AM24,EA24)","v":0},{"$f":"IF(AND(EB24>0.4,EF24>0),DZ24*EC$11,0)","v":0},{"$f":"SUM(EE24:EF24)","v":0},{"$f":"EC24*SUMIF(EC$4:EF$4,$S24,EC$5:EF$5)","v":0},{"$f":"IF(DV24=1,SUMIF(EC$4:EF$4,$S24,EC$7:EF$7)*DW24,IF(DV24=\"ГН\",DY24*SUMIF(EC$4:EF$4,$S24,EC$5:EF$5),IF(DV24=2,DY24*SUMIF(EC$4:EF$4,$S24,EC$5:EF$5)+DW24*SUMIF(EC$4:EF$4,$S24,EC$6:EF$6),0)))","v":0},2,1.7370000000000001,0.01,2.5110000000000002E-3,{"$f":"IF(IF($Q24=1,EI24*$Q$10-EJ24,EI24-EJ24)<0,0,IF($Q24=1,EI24*$Q$10-EJ24,EI24-EJ24))","v":7.489E-3},{"$f":"IFERROR(EK24/EI24,0)","v":0.74890000000000001},{"$f":"MIN(EA24,DP24,DE24,CX24,CQ24,CJ24,CC24,BV24,BO24,BH24,BA24,AT24,EL24)","v":0},{"$f":"IF(AND(EM24>0.4,EQ24>0),EK24*EN$11,0)","v":0},{"$f":"SUM(EP24:EQ24)","v":0},{"$f":"EN24*SUMIF(EN$4:EQ$4,$S24,EN$5:EQ$5)","v":0},{"$f":"IF(EG24=1,SUMIF(EN$4:EQ$4,$S24,EN$7:EQ$7)*EH24,IF(EG24=\"ГН\",EJ24*SUMIF(EN$4:EQ$4,$S24,EN$5:EQ$5),IF(EG24=2,EJ24*SUMIF(EN$4:EQ$4,$S24,EN$5:EQ$5)+EH24*SUMIF(EN$4:EQ$4,$S24,EN$6:EQ$6),0)))","v":0},2,1.7989999999999999,0.01,2.5509999999999999E-3,{"$f":"IF(IF($Q24=1,ET24*$Q$10-EU24,ET24-EU24)<0,0,IF($Q24=1,ET24*$Q$10-EU24,ET24-EU24))","v":7.4490000000000008E-3},{"$f":"IFERROR(EV24/ET24,0)","v":0.74490000000000001},{"$f":"MIN(EL24,EA24,DP24,DE24,CX24,CQ24,CJ24,CC24,BV24,BO24,BH24,BA24,EW24)","v":0},{"$f":"IF(AND(EX24>0.4,FB24>0),EV24*EY$11,0)","v":0},{"$f":"SUM(FA24:FB24)","v":0},{"$f":"EY24*SUMIF(EY$4:FB$4,$S24,EY$5:FB$5)","v":0},{"$f":"IF(ER24=1,SUMIF(EY$4:FB$4,$S24,EY$7:FB$7)*ES24,IF(ER24=\"ГН\",EU24*SUMIF(EY$4:FB$4,$S24,EY$5:FB$5),IF(ER24=2,EU24*SUMIF(EY$4:FB$4,$S24,EY$5:FB$5)+ES24*SUMIF(EY$4:FB$4,$S24,EY$6:FB$6),0)))","v":0},2,1.831,0.01,2.8240000000000001E-3,{"$f":"IF(IF($Q24=1,FE24*$Q$10-FF24,FE24-FF24)<0,0,IF($Q24=1,FE24*$Q$10-FF24,FE24-FF24))","v":7.1760000000000001E-3},{"$f":"IFERROR(FG24/FE24,0)","v":0.71760000000000002},{"$f":"MIN(EW24,EL24,EA24,DP24,DE24,CX24,CQ24,CJ24,CC24,BV24,BO24,BH24,FH24)","v":0},{"$f":"IF(AND(FI24>0.4,FM24>0),FG24*FJ$11,0)","v":0},{"$f":"SUM(FL24:FM24)","v":0},{"$f":"FJ24*SUMIF(FJ$4:FM$4,$S24,FJ$5:FM$5)","v":0},{"$f":"IF(FC24=1,SUMIF(FJ$4:FM$4,$S24,FJ$7:FM$7)*FD24,IF(FC24=\"ГН\",FF24*SUMIF(FJ$4:FM$4,$S24,FJ$5:FM$5),IF(FC24=2,FF24*SUMIF(FJ$4:FM$4,$S24,FJ$5:FM$5)+FD24*SUMIF(FJ$4:FM$4,$S24,FJ$6:FM$6),0)))","v":0},2,1.8660000000000001,0.01,2.813E-3,{"$f":"IF(IF($Q24=1,FP24*$Q$10-FQ24,FP24-FQ24)<0,0,IF($Q24=1,FP24*$Q$10-FQ24,FP24-FQ24))","v":7.1870000000000007E-3},{"$f":"IFERROR(FR24/FP24,0)","v":0.71870000000000001},{"$f":"MIN(FH24,EW24,EL24,EA24,DP24,DE24,CX24,CQ24,CJ24,CC24,BV24,BO24,FS24)","v":0},{"$f":"IF(AND(FT24>0.4,FX24>0),FR24*FU$11,0)","v":0},{"$f":"SUM(FW24:FX24)","v":0},{"$f":"FU24*SUMIF(FU$4:FX$4,$S24,FU$5:FX$5)","v":0},{"$f":"IF(FN24=1,SUMIF(FU$4:FX$4,$S24,FU$7:FX$7)*FO24,IF(FN24=\"ГН\",FQ24*SUMIF(FU$4:FX$4,$S24,FU$5:FX$5),IF(FN24=2,FQ24*SUMIF(FU$4:FX$4,$S24,FU$5:FX$5)+FO24*SUMIF(FU$4:FX$4,$S24,FU$6:FX$6),0)))","v":0},2,1.798,0.01,2.7360000000000002E-3,{"$f":"IF(IF($Q24=1,GA24*$Q$10-GB24,GA24-GB24)<0,0,IF($Q24=1,GA24*$Q$10-GB24,GA24-GB24))","v":7.2639999999999996E-3},{"$f":"IFERROR(GC24/GA24,0)","v":0.72639999999999993},{"$f":"MIN(FS24,FH24,EW24,EL24,EA24,DP24,DE24,CX24,CQ24,CJ24,CC24,BV24,GD24)","v":0},{"$f":"IF(AND(GE24>0.4,GI24>0),GC24*GF$11,0)","v":0},{"$f":"SUM(GH24:GI24)","v":0},{"$f":"GF24*SUMIF(GF$4:GI$4,$S24,GF$5:GI$5)","v":0},{"$f":"IF(FY24=1,SUMIF(GF$4:GI$4,$S24,GF$7:GI$7)*FZ24,IF(FY24=\"ГН\",GB24*SUMIF(GF$4:GI$4,$S24,GF$5:GI$5),IF(FY24=2,GB24*SUMIF(GF$4:GI$4,$S24,GF$5:GI$5)+FZ24*SUMIF(GF$4:GI$4,$S24,GF$6:GI$6),0)))","v":0},2,1.752,0.01,2.8440000000000002E-3,{"$f":"IF(IF($Q24=1,GL24*$Q$10-GM24,GL24-GM24)<0,0,IF($Q24=1,GL24*$Q$10-GM24,GL24-GM24))","v":7.156E-3},{"$f":"IFERROR(GN24/GL24,0)","v":0.71560000000000001},{"$f":"MIN(GD24,FS24,FH24,EW24,EL24,EA24,DP24,DE24,CX24,CQ24,CJ24,CC24,GO24)","v":0},{"$f":"IF(AND(GP24>0.4,GT24>0),GN24*GQ$11,0)","v":0},{"$f":"SUM(GS24:GT24)","v":0},{"$f":"GQ24*SUMIF(GQ$4:GT$4,$S24,GQ$5:GT$5)","v":0},{"$f":"IF(GJ24=1,SUMIF(GQ$4:GT$4,$S24,GQ$7:GT$7)*GK24,IF(GJ24=\"ГН\",GM24*SUMIF(GQ$4:GT$4,$S24,GQ$5:GT$5),IF(GJ24=2,GM24*SUMIF(GQ$4:GT$4,$S24,GQ$5:GT$5)+GK24*SUMIF(GQ$4:GT$4,$S24,GQ$6:GT$6),0)))","v":0},2,1.905,0.01,2.7200000000000002E-3,{"$f":"IF(IF($Q24=1,GW24*$Q$10-GX24,GW24-GX24)<0,0,IF($Q24=1,GW24*$Q$10-GX24,GW24-GX24))","v":7.28E-3},{"$f":"IFERROR(GY24/GW24,0)","v":0.72799999999999998},{"$f":"MIN(GO24,GD24,FS24,FH24,EW24,EL24,EA24,DP24,DE24,CX24,CQ24,CJ24,GZ24)","v":0},{"$f":"IF(AND(HA24>0.4,HE24>0),GY24*HB$11,0)","v":0},{"$f":"SUM(HD24:HE24)","v":0},{"$f":"HB24*SUMIF(HB$4:HE$4,$S24,HB$5:HE$5)","v":0},{"$f":"IF(GU24=1,SUMIF(HB$4:HE$4,$S24,HB$7:HE$7)*GV24,IF(GU24=\"ГН\",GX24*SUMIF(HB$4:HE$4,$S24,HB$5:HE$5),IF(GU24=2,GX24*SUMIF(HB$4:HE$4,$S24,HB$5:HE$5)+GV24*SUMIF(HB$4:HE$4,$S24,HB$6:HE$6),0)))","v":0},2,1.798,0.01,2.5769999999999999E-3,{"$f":"IF(IF($Q24=1,HH24*$Q$10-HI24,HH24-HI24)<0,0,IF($Q24=1,HH24*$Q$10-HI24,HH24-HI24))","v":7.4230000000000008E-3},{"$f":"IFERROR(HJ24/HH24,0)","v":0.74230000000000007},{"$f":"MIN(GZ24,GO24,GD24,FS24,FH24,EW24,EL24,EA24,DP24,DE24,CX24,CQ24,HK24)","v":0.71560000000000001},{"$f":"IF(AND(HL24>0.4,HP24>0),HJ24*HM$11,0)","v":0},{"$f":"SUM(HO24:HP24)","v":0},{"$f":"HM24*SUMIF(HM$4:HP$4,$S24,HM$5:HP$5)","v":0},{"$f":"IF(HF24=1,SUMIF(HM$4:HP$4,$S24,HM$7:HP$7)*HG24,IF(HF24=\"ГН\",HI24*SUMIF(HM$4:HP$4,$S24,HM$5:HP$5),IF(HF24=2,HI24*SUMIF(HM$4:HP$4,$S24,HM$5:HP$5)+HG24*SUMIF(HM$4:HP$4,$S24,HM$6:HP$6),0)))","v":0},null,null,null,null,{"$f":"IF(IF($Q24=1,HS24*$Q$10-HT24,HS24-HT24)<0,0,IF($Q24=1,HS24*$Q$10-HT24,HS24-HT24))","v":0},{"$f":"IFERROR(HU24/HS24,0)","v":0},{"$f":"MIN(HK24,GZ24,GO24,GD24,FS24,FH24,EW24,EL24,EA24,DP24,DE24,CX24,HV24)","v":0},{"$f":"IF(AND(HW24>0.4,IA24>0),HU24*HX$11,0)","v":0},{"$f":"SUM(HZ24:IA24)","v":0},{"$f":"HX24*SUMIF(HX$4:IA$4,$S24,HX$5:IA$5)","v":0},{"$f":"IF(HQ24=1,SUMIF(HX$4:IA$4,$S24,HX$7:IA$7)*HR24,IF(HQ24=\"ГН\",HT24*SUMIF(HX$4:IA$4,$S24,HX$5:IA$5),IF(HQ24=2,HT24*SUMIF(HX$4:IA$4,$S24,HX$5:IA$5)+HR24*SUMIF(HX$4:IA$4,$S24,HX$6:IA$6),0)))","v":0},{"$f":"IFERROR(AVERAGE(HQ24,HF24,GU24,GJ24,FY24,FN24,FC24,ER24,EG24,DV24,DK24,CZ24),0)","v":2},{"$f":"SUM(HR24,HG24,GV24,GK24,FZ24,FO24,FD24,ES24,EH24,DW24,DL24,DA24)","v":19.899000000000001},{"$f":"IFERROR(AVERAGE(HS24,HH24,GW24,GL24,GA24,FP24,FE24,ET24,EI24,DX24,DM24,DB24),0)","v":9.9999999999999985E-3},{"$f":"IFERROR(AVERAGE(HT24,HI24,GX24,GM24,GB24,FQ24,FF24,EU24,EJ24,DY24,DN24,DC24),0)","v":2.6570909090909093E-3},{"$f":"IFERROR(AVERAGE(HU24,HJ24,GY24,GN24,GC24,FR24,FG24,EV24,EK24,DZ24,DO24,DD24),0)","v":6.7310000000000009E-3},{"$f":"IFERROR(IF24/ID24,0)","v":0.67310000000000014},{"$f":"IFERROR(AVERAGE(HX24,HM24,HB24,GQ24,GF24,FU24,FJ24,EY24,EN24,EC24,DR24,DG24),0)","v":0},{"$f":"IJ24+IK24","v":0},{"$f":"SUM(HZ24,HO24,HD24,GS24,GH24,FW24,FL24,FA24,EP24,EE24,DT24,DI24)","v":0},{"$f":"SUM(IA24,HP24,HE24,GT24,GI24,FX24,FM24,FB24,EQ24,EF24,DU24,DJ24)","v":0}]
["ООО \"МИП \"Кинешма\"","Ивановская область",null,"ООО \"Авангард \"","ГПП \"Автозаводская\" ООО \"МИП \"Кинешма\", яч.29 ф.№122","Прочие","Прочие",null,null,null,null,"670 и выше",5612042824,"АО \"ЭнергосбыТ Плюс\"",3703020510,"ООО \"МИП \"Кинешма\"",null,"Э","ВН",null,null,null,null,{"$f":"IF(IF($Q25=1,V25*$Q$10-W25,V25-W25)<0,0,IF($Q25=1,V25*$Q$10-W25,V25-W25))","v":0},{"$f":"IFERROR(X25/V25,0)","v":0},{"$f":"IF(T25=1,SUMIF(W$4:Z$4,$S25,W$7:Z$7)*U25,IF(T25=\"ГН\",W25*SUMIF(W$4:Z$4,$S25,W$5:Z$5),IF(T25=2,W25*SUMIF(W$4:Z$4,$S25,W$5:Z$5)+U25*SUMIF(W$4:Z$4,$S25,W$6:Z$6),0)))","v":0},null,null,null,null,0,0,0,null,null,null,null,0,0,0,null,null,null,null,{"$f":"IF(IF($Q25=1,AQ25*$Q$10-AR25,AQ25-AR25)<0,0,IF($Q25=1,AQ25*$Q$10-AR25,AQ25-AR25))","v":0},{"$f":"IFERROR(AS25/AQ25,0)","v":0},{"$f":"IF(AO25=1,SUMIF(AR$4:AU$4,$S25,AR$7:AU$7)*AP25,IF(AO25=\"ГН\",AR25*SUMIF(AR$4:AU$4,$S25,AR$5:AU$5),IF(AO25=2,AR25*SUMIF(AR$4:AU$4,$S25,AR$5:AU$5)+AP25*SUMIF(AR$4:AU$4,$S25,AR$6:AU$6),0)))","v":0},null,null,null,null,{"$f":"IF(IF($Q25=1,AX25*$Q$10-AY25,AX25-AY25)<0,0,IF($Q25=1,AX25*$Q$10-AY25,AX25-AY25))","v":0},{"$f":"IFERROR(AZ25/AX25,0)","v":0},{"$f":"IF(AV25=1,SUMIF(AY$4:BB$4,$S25,AY$7:BB$7)*AW25,IF(AV25=\"ГН\",AY25*SUMIF(AY$4:BB$4,$S25,AY$5:BB$5),IF(AV25=2,AY25*SUMIF(AY$4:BB$4,$S25,AY$5:BB$5)+AW25*SUMIF(AY$4:BB$4,$S25,AY$6:BB$6),0)))","v":0},null,null,null,null,{"$f":"IF(IF($Q25=1,BE25*$Q$10-BF25,BE25-BF25)<0,0,IF($Q25=1,BE25*$Q$10-BF25,BE25-BF25))","v":0},{"$f":"IFERROR(BG25/BE25,0)","v":0},{"$f":"IF(BC25=1,SUMIF(BF$4:BI$4,$S25,BF$7:BI$7)*BD25,IF(BC25=\"ГН\",BF25*SUMIF(BF$4:BI$4,$S25,BF$5:BI$5),IF(BC25=2,BF25*SUMIF(BF$4:BI$4,$S25,BF$5:BI$5)+BD25*SUMIF(BF$4:BI$4,$S25,BF$6:BI$6),0)))","v":0},null,null,null,null,{"$f":"IF(IF($Q25=1,BL25*$Q$10-BM25,BL25-BM25)<0,0,IF($Q25=1,BL25*$Q$10-BM25,BL25-BM25))","v":0},{"$f":"IFERROR(BN25/BL25,0)","v":0},{"$f":"IF(BJ25=1,SUMIF(BM$4:BP$4,$S25,BM$7:BP$7)*BK25,IF(BJ25=\"ГН\",BM25*SUMIF(BM$4:BP$4,$S25,BM$5:BP$5),IF(BJ25=2,BM25*SUMIF(BM$4:BP$4,$S25,BM$5:BP$5)+BK25*SUMIF(BM$4:BP$4,$S25,BM$6:BP$6),0)))","v":0},null,null,null,null,{"$f":"IF(IF($Q25=1,BS25*$Q$10-BT25,BS25-BT25)<0,0,IF($Q25=1,BS25*$Q$10-BT25,BS25-BT25))","v":0},{"$f":"IFERROR(BU25/BS25,0)","v":0},{"$f":"IF(BQ25=1,SUMIF(BT$4:BW$4,$S25,BT$7:BW$7)*BR25,IF(BQ25=\"ГН\",BT25*SUMIF(BT$4:BW$4,$S25,BT$5:BW$5),IF(BQ25=2,BT25*SUMIF(BT$4:BW$4,$S25,BT$5:BW$5)+BR25*SUMIF(BT$4:BW$4,$S25,BT$6:BW$6),0)))","v":0},null,null,null,null,{"$f":"IF(IF($Q25=1,BZ25*$Q$10-CA25,BZ25-CA25)<0,0,IF($Q25=1,BZ25*$Q$10-CA25,BZ25-CA25))","v":0},{"$f":"IFERROR(CB25/BZ25,0)","v":0},{"$f":"IF(BX25=1,SUMIF(CA$4:CD$4,$S25,CA$7:CD$7)*BY25,IF(BX25=\"ГН\",CA25*SUMIF(CA$4:CD$4,$S25,CA$5:CD$5),IF(BX25=2,CA25*SUMIF(CA$4:CD$4,$S25,CA$5:CD$5)+BY25*SUMIF(CA$4:CD$4,$S25,CA$6:CD$6),0)))","v":0},null,null,null,null,{"$f":"IF(IF($Q25=1,CG25*$Q$10-CH25,CG25-CH25)<0,0,IF($Q25=1,CG25*$Q$10-CH25,CG25-CH25))","v":0},{"$f":"IFERROR(CI25/CG25,0)","v":0},{"$f":"IF(CE25=1,SUMIF(CH$4:CK$4,$S25,CH$7:CK$7)*CF25,IF(CE25=\"ГН\",CH25*SUMIF(CH$4:CK$4,$S25,CH$5:CK$5),IF(CE25=2,CH25*SUMIF(CH$4:CK$4,$S25,CH$5:CK$5)+CF25*SUMIF(CH$4:CK$4,$S25,CH$6:CK$6),0)))","v":0},2,160.37899999999999,1.2,0.28325800000000001,{"$f":"IF(IF($Q25=1,CN25*$Q$10-CO25,CN25-CO25)<0,0,IF($Q25=1,CN25*$Q$10-CO25,CN25-CO25))","v":0.91674199999999995},{"$f":"IFERROR(CP25/CN25,0)","v":0.7639516666666667},{"$f":"IF(CL25=1,SUMIF(CO$4:CR$4,$S25,CO$7:CR$7)*CM25,IF(CL25=\"ГН\",CO25*SUMIF(CO$4:CR$4,$S25,CO$5:CR$5),IF(CL25=2,CO25*SUMIF(CO$4:CR$4,$S25,CO$5:CR$5)+CM25*SUMIF(CO$4:CR$4,$S25,CO$6:CR$6),0)))","v":395955.68860515999},2,173.607,1.2,0.297209,{"$f":"IF(IF($Q25=1,CU25*$Q$10-CV25,CU25-CV25)<0,0,IF($Q25=1,CU25*$Q$10-CV25,CU25-CV25))","v":0.9027909999999999},{"$f":"IFERROR(CW25/CU25,0)","v":0.75232583333333325},{"$f":"IF(CS25=1,SUMIF(CV$4:CY$4,$S25,CV$7:CY$7)*CT25,IF(CS25=\"ГН\",CV25*SUMIF(CV$4:CY$4,$S25,CV$5:CY$5),IF(CS25=2,CV25*SUMIF(CV$4:CY$4,$S25,CV$5:CY$5)+CT25*SUMIF(CV$4:CY$4,$S25,CV$6:CY$6),0)))","v":0},2,168.267,1.2,0.28982200000000002,{"$f":"IF(IF($Q25=1,DB25*$Q$10-DC25,DB25-DC25)<0,0,IF($Q25=1,DB25*$Q$10-DC25,DB25-DC25))","v":0.91017799999999993},{"$f":"IFERROR(DD25/DB25,0)","v":0.75848166666666661},{"$f":"MIN(CX25,CQ25,CJ25,CC25,BV25,BO25,BH25,BA25,AT25,AM25,AF25,Y25,DE25)","v":0},{"$f":"IF(AND(DF25>0.4,DJ25>0),DD25*DG$11,0)","v":0},{"$f":"SUM(DI25:DJ25)","v":0},{"$f":"DG25*SUMIF(DG$4:DJ$4,$S25,DG$5:DJ$5)","v":0},{"$f":"IF(CZ25=1,SUMIF(DG$4:DJ$4,$S25,DG$7:DJ$7)*DA25,IF(CZ25=\"ГН\",DC25*SUMIF(DG$4:DJ$4,$S25,DG$5:DJ$5),IF(CZ25=2,DC25*SUMIF(DG$4:DJ$4,$S25,DG$5:DJ$5)+DA25*SUMIF(DG$4:DJ$4,$S25,DG$6:DJ$6),0)))","v":0},2,145.06899999999999,1.2,0.26690399999999997,{"$f":"IF(IF($Q25=1,DM25*$Q$10-DN25,DM25-DN25)<0,0,IF($Q25=1,DM25*$Q$10-DN25,DM25-DN25))","v":0.93309599999999993},{"$f":"IFERROR(DO25/DM25,0)","v":0.77757999999999994},{"$f":"MIN(DE25,CX25,CQ25,CJ25,CC25,BV25,BO25,BH25,BA25,AT25,AM25,AF25,DP25)","v":0},{"$f":"IF(AND(DQ25>0.4,DU25>0),DO25*DR$11,0)","v":0},{"$f":"SUM(DT25:DU25)","v":0},{"$f":"DR25*SUMIF(DR$4:DU$4,$S25,DR$5:DU$5)","v":0},{"$f":"IF(DK25=1,SUMIF(DR$4:DU$4,$S25,DR$7:DU$7)*DL25,IF(DK25=\"ГН\",DN25*SUMIF(DR$4:DU$4,$S25,DR$5:DU$5),IF(DK25=2,DN25*SUMIF(DR$4:DU$4,$S25,DR$5:DU$5)+DL25*SUMIF(DR$4:DU$4,$S25,DR$6:DU$6),0)))","v":0},2,157.38800000000001,1.2,0.28250599999999998,{"$f":"IF(IF($Q25=1,DX25*$Q$10-DY25,DX25-DY25)<0,0,IF($Q25=1,DX25*$Q$10-DY25,DX25-DY25))","v":0.91749400000000003},{"$f":"IFERROR(DZ25/DX25,0)","v":0.76457833333333336},{"$f":"MIN(DP25,DE25,CX25,CQ25,CJ25,CC25,BV25,BO25,BH25,BA25,AT25,AM25,EA25)","v":0},{"$f":"IF(AND(EB25>0.4,EF25>0),DZ25*EC$11,0)","v":0},{"$f":"SUM(EE25:EF25)","v":0},{"$f":"EC25*SUMIF(EC$4:EF$4,$S25,EC$5:EF$5)","v":0},{"$f":"IF(DV25=1,SUMIF(EC$4:EF$4,$S25,EC$7:EF$7)*DW25,IF(DV25=\"ГН\",DY25*SUMIF(EC$4:EF$4,$S25,EC$5:EF$5),IF(DV25=2,DY25*SUMIF(EC$4:EF$4,$S25,EC$5:EF$5)+DW25*SUMIF(EC$4:EF$4,$S25,EC$6:EF$6),0)))","v":0},2,121.053,1.2,0.20905499999999999,{"$f":"IF(IF($Q25=1,EI25*$Q$10-EJ25,EI25-EJ25)<0,0,IF($Q25=1,EI25*$Q$10-EJ25,EI25-EJ25))","v":0.99094499999999996},{"$f":"IFERROR(EK25/EI25,0)","v":0.82578750000000001},{"$f":"MIN(EA25,DP25,DE25,CX25,CQ25,CJ25,CC25,BV25,BO25,BH25,BA25,AT25,EL25)","v":0},{"$f":"IF(AND(EM25>0.4,EQ25>0),EK25*EN$11,0)","v":0},{"$f":"SUM(EP25:EQ25)","v":0},{"$f":"EN25*SUMIF(EN$4:EQ$4,$S25,EN$5:EQ$5)","v":0},{"$f":"IF(EG25=1,SUMIF(EN$4:EQ$4,$S25,EN$7:EQ$7)*EH25,IF(EG25=\"ГН\",EJ25*SUMIF(EN$4:EQ$4,$S25,EN$5:EQ$5),IF(EG25=2,EJ25*SUMIF(EN$4:EQ$4,$S25,EN$5:EQ$5)+EH25*SUMIF(EN$4:EQ$4,$S25,EN$6:EQ$6),0)))","v":0},2,136.93299999999999,1.2,0.23641100000000001,{"$f":"IF(IF($Q25=1,ET25*$Q$10-EU25,ET25-EU25)<0,0,IF($Q25=1,ET25*$Q$10-EU25,ET25-EU25))","v":0.96358899999999992},{"$f":"IFERROR(EV25/ET25,0)","v":0.80299083333333332},{"$f":"MIN(EL25,EA25,DP25,DE25,CX25,CQ25,CJ25,CC25,BV25,BO25,BH25,BA25,EW25)","v":0},{"$f":"IF(AND(EX25>0.4,FB25>0),EV25*EY$11,0)","v":0},{"$f":"SUM(FA25:FB25)","v":0},{"$f":"EY25*SUMIF(EY$4:FB$4,$S25,EY$5:FB$5)","v":0},{"$f":"IF(ER25=1,SUMIF(EY$4:FB$4,$S25,EY$7:FB$7)*ES25,IF(ER25=\"ГН\",EU25*SUMIF(EY$4:FB$4,$S25,EY$5:FB$5),IF(ER25=2,EU25*SUMIF(EY$4:FB$4,$S25,EY$5:FB$5)+ES25*SUMIF(EY$4:FB$4,$S25,EY$6:FB$6),0)))","v":0},2,144.38399999999999,1.2,0.25356099999999998,{"$f":"IF(IF($Q25=1,FE25*$Q$10-FF25,FE25-FF25)<0,0,IF($Q25=1,FE25*$Q$10-FF25,FE25-FF25))","v":0.94643900000000003},{"$f":"IFERROR(FG25/FE25,0)","v":0.78869916666666673},{"$f":"MIN(EW25,EL25,EA25,DP25,DE25,CX25,CQ25,CJ25,CC25,BV25,BO25,BH25,FH25)","v":0},{"$f":"IF(AND(FI25>0.4,FM25>0),FG25*FJ$11,0)","v":0},{"$f":"SUM(FL25:FM25)","v":0},{"$f":"FJ25*SUMIF(FJ$4:FM$4,$S25,FJ$5:FM$5)","v":0},{"$f":"IF(FC25=1,SUMIF(FJ$4:FM$4,$S25,FJ$7:FM$7)*FD25,IF(FC25=\"ГН\",FF25*SUMIF(FJ$4:FM$4,$S25,FJ$5:FM$5),IF(FC25=2,FF25*SUMIF(FJ$4:FM$4,$S25,FJ$5:FM$5)+FD25*SUMIF(FJ$4:FM$4,$S25,FJ$6:FM$6),0)))","v":0},2,173.321,1.2,0.29413299999999998,{"$f":"IF(IF($Q25=1,FP25*$Q$10-FQ25,FP25-FQ25)<0,0,IF($Q25=1,FP25*$Q$10-FQ25,FP25-FQ25))","v":0.90586699999999998},{"$f":"IFERROR(FR25/FP25,0)","v":0.75488916666666672},{"$f":"MIN(FH25,EW25,EL25,EA25,DP25,DE25,CX25,CQ25,CJ25,CC25,BV25,BO25,FS25)","v":0},{"$f":"IF(AND(FT25>0.4,FX25>0),FR25*FU$11,0)","v":0},{"$f":"SUM(FW25:FX25)","v":0},{"$f":"FU25*SUMIF(FU$4:FX$4,$S25,FU$5:FX$5)","v":0},{"$f":"IF(FN25=1,SUMIF(FU$4:FX$4,$S25,FU$7:FX$7)*FO25,IF(FN25=\"ГН\",FQ25*SUMIF(FU$4:FX$4,$S25,FU$5:FX$5),IF(FN25=2,FQ25*SUMIF(FU$4:FX$4,$S25,FU$5:FX$5)+FO25*SUMIF(FU$4:FX$4,$S25,FU$6:FX$6),0)))","v":0},2,165.185,1.2,0.287221,{"$f":"IF(IF($Q25=1,GA25*$Q$10-GB25,GA25-GB25)<0,0,IF($Q25=1,GA25*$Q$10-GB25,GA25-GB25))","v":0.91277900000000001},{"$f":"IFERROR(GC25/GA25,0)","v":0.76064916666666671},{"$f":"MIN(FS25,FH25,EW25,EL25,EA25,DP25,DE25,CX25,CQ25,CJ25,CC25,BV25,GD25)","v":0},{"$f":"IF(AND(GE25>0.4,GI25>0),GC25*GF$11,0)","v":0},{"$f":"SUM(GH25:GI25)","v":0},{"$f":"GF25*SUMIF(GF$4:GI$4,$S25,GF$5:GI$5)","v":0},{"$f":"IF(FY25=1,SUMIF(GF$4:GI$4,$S25,GF$7:GI$7)*FZ25,IF(FY25=\"ГН\",GB25*SUMIF(GF$4:GI$4,$S25,GF$5:GI$5),IF(FY25=2,GB25*SUMIF(GF$4:GI$4,$S25,GF$5:GI$5)+FZ25*SUMIF(GF$4:GI$4,$S25,GF$6:GI$6),0)))","v":0},2,56.930999999999997,1.2,0.121018,{"$f":"IF(IF($Q25=1,GL25*$Q$10-GM25,GL25-GM25)<0,0,IF($Q25=1,GL25*$Q$10-GM25,GL25-GM25))","v":1.0789819999999999},{"$f":"IFERROR(GN25/GL25,0)","v":0.89915166666666657},{"$f":"MIN(GD25,FS25,FH25,EW25,EL25,EA25,DP25,DE25,CX25,CQ25,CJ25,CC25,GO25)","v":0},{"$f":"IF(AND(GP25>0.4,GT25>0),GN25*GQ$11,0)","v":0},{"$f":"SUM(GS25:GT25)","v":0},{"$f":"GQ25*SUMIF(GQ$4:GT$4,$S25,GQ$5:GT$5)","v":0},{"$f":"IF(GJ25=1,SUMIF(GQ$4:GT$4,$S25,GQ$7:GT$7)*GK25,IF(GJ25=\"ГН\",GM25*SUMIF(GQ$4:GT$4,$S25,GQ$5:GT$5),IF(GJ25=2,GM25*SUMIF(GQ$4:GT$4,$S25,GQ$5:GT$5)+GK25*SUMIF(GQ$4:GT$4,$S25,GQ$6:GT$6),0)))","v":0},2,67.069999999999993,1.2,0.123447,{"$f":"IF(IF($Q25=1,GW25*$Q$10-GX25,GW25-GX25)<0,0,IF($Q25=1,GW25*$Q$10-GX25,GW25-GX25))","v":1.0765529999999999},{"$f":"IFERROR(GY25/GW25,0)","v":0.89712749999999997},{"$f":"MIN(GO25,GD25,FS25,FH25,EW25,EL25,EA25,DP25,DE25,CX25,CQ25,CJ25,GZ25)","v":0},{"$f":"IF(AND(HA25>0.4,HE25>0),GY25*HB$11,0)","v":0},{"$f":"SUM(HD25:HE25)","v":0},{"$f":"HB25*SUMIF(HB$4:HE$4,$S25,HB$5:HE$5)","v":0},{"$f":"IF(GU25=1,SUMIF(HB$4:HE$4,$S25,HB$7:HE$7)*GV25,IF(GU25=\"ГН\",GX25*SUMIF(HB$4:HE$4,$S25,HB$5:HE$5),IF(GU25=2,GX25*SUMIF(HB$4:HE$4,$S25,HB$5:HE$5)+GV25*SUMIF(HB$4:HE$4,$S25,HB$6:HE$6),0)))","v":0},2,160.3057,1.2,0.27912999999999999,{"$f":"IF(IF($Q25=1,HH25*$Q$10-HI25,HH25-HI25)<0,0,IF($Q25=1,HH25*$Q$10-HI25,HH25-HI25))","v":0.92086999999999997},{"$f":"IFERROR(HJ25/HH25,0)","v":0.76739166666666669},{"$f":"MIN(GZ25,GO25,GD25,FS25,FH25,EW25,EL25,EA25,DP25,DE25,CX25,CQ25,HK25)","v":0.75232583333333325},{"$f":"IF(AND(HL25>0.4,HP25>0),HJ25*HM$11,0)","v":0},{"$f":"SUM(HO25:HP25)","v":0},{"$f":"HM25*SUMIF(HM$4:HP$4,$S25,HM$5:HP$5)","v":0},{"$f":"IF(HF25=1,SUMIF(HM$4:HP$4,$S25,HM$7:HP$7)*HG25,IF(HF25=\"ГН\",HI25*SUMIF(HM$4:HP$4,$S25,HM$5:HP$5),IF(HF25=2,HI25*SUMIF(HM$4:HP$4,$S25,HM$5:HP$5)+HG25*SUMIF(HM$4:HP$4,$S25,HM$6:HP$6),0)))","v":0},null,null,null,null,{"$f":"IF(IF($Q25=1,HS25*$Q$10-HT25,HS25-HT25)<0,0,IF($Q25=1,HS25*$Q$10-HT25,HS25-HT25))","v":0},{"$f":"IFERROR(HU25/HS25,0)","v":0},{"$f":"MIN(HK25,GZ25,GO25,GD25,FS25,FH25,EW25,EL25,EA25,DP25,DE25,CX25,HV25)","v":0},{"$f":"IF(AND(HW25>0.4,IA25>0),HU25*HX$11,0)","v":0},{"$f":"SUM(HZ25:IA25)","v":0},{"$f":"HX25*SUMIF(HX$4:IA$4,$S25,HX$5:IA$5)","v":0},{"$f":"IF(HQ25=1,SUMIF(HX$4:IA$4,$S25,HX$7:IA$7)*HR25,IF(HQ25=\"ГН\",HT25*SUMIF(HX$4:IA$4,$S25,HX$5:IA$5),IF(HQ25=2,HT25*SUMIF(HX$4:IA$4,$S25,HX$5:IA$5)+HR25*SUMIF(HX$4:IA$4,$S25,HX$6:IA$6),0)))","v":0},{"$f":"IFERROR(AVERAGE(HQ25,HF25,GU25,GJ25,FY25,FN25,FC25,ER25,EG25,DV25,DK25,CZ25),0)","v":2},{"$f":"SUM(HR25,HG25,GV25,GK25,FZ25,FO25,FD25,ES25,EH25,DW25,DL25,DA25)","v":1495.9066999999998},{"$f":"IFERROR(AVERAGE(HS25,HH25,GW25,GL25,GA25,FP25,FE25,ET25,EI25,DX25,DM25,DB25),0)","v":1.1999999999999997},{"$f":"IFERROR(AVERAGE(HT25,HI25,GX25,GM25,GB25,FQ25,FF25,EU25,EJ25,DY25,DN25,DC25),0)","v":0.24029163636363632},{"$f":"IFERROR(AVERAGE(HU25,HJ25,GY25,GN25,GC25,FR25,FG25,EV25,EK25,DZ25,DO25,DD25),0)","v":0.87973266666666661},{"$f":"IFERROR(IF25/ID25,0)","v":0.73311055555555571},{"$f":"IFERROR(AVERAGE(HX25,HM25,HB25,GQ25,GF25,FU25,FJ25,EY25,EN25,EC25,DR25,DG25),0)","v":0},{"$f":"IJ25+IK25","v":0},{"$f":"SUM(HZ25,HO25,HD25,GS25,GH25,FW25,FL25,FA25,EP25,EE25,DT25,DI25)","v":0},{"$f":"SUM(IA25,HP25,HE25,GT25,GI25,FX25,FM25,FB25,EQ25,EF25,DU25,DJ25)","v":0}]
["ООО \"МИП \"Кинешма\"","Ивановская область",null,"ООО \"Авангард \"","ГПП \"Автозаводская\" ООО \"МИП \"Кинешма\", яч.34 ф.№130","Прочие","Прочие",null,null,null,null,"670 и выше",5612042824,"АО \"ЭнергосбыТ Плюс\"",3703020510,"ООО \"МИП \"Кинешма\"",1,"Э","ВН",null,null,null,null,0,0,0,null,null,null,null,{"$f":"IF(IF($Q26=1,AC26*$Q$10-AD26,AC26-AD26)<0,0,IF($Q26=1,AC26*$Q$10-AD26,AC26-AD26))","v":0},{"$f":"IFERROR(AE26/AC26,0)","v":0},{"$f":"IF(AA26=1,SUMIF(AD$4:AG$4,$S26,AD$7:AG$7)*AB26,IF(AA26=\"ГН\",AD26*SUMIF(AD$4:AG$4,$S26,AD$5:AG$5),IF(AA26=2,AD26*SUMIF(AD$4:AG$4,$S26,AD$5:AG$5)+AB26*SUMIF(AD$4:AG$4,$S26,AD$6:AG$6),0)))","v":0},null,null,null,null,{"$f":"IF(IF($Q26=1,AJ26*$Q$10-AK26,AJ26-AK26)<0,0,IF($Q26=1,AJ26*$Q$10-AK26,AJ26-AK26))","v":0},{"$f":"IFERROR(AL26/AJ26,0)","v":0},{"$f":"IF(AH26=1,SUMIF(AK$4:AN$4,$S26,AK$7:AN$7)*AI26,IF(AH26=\"ГН\",AK26*SUMIF(AK$4:AN$4,$S26,AK$5:AN$5),IF(AH26=2,AK26*SUMIF(AK$4:AN$4,$S26,AK$5:AN$5)+AI26*SUMIF(AK$4:AN$4,$S26,AK$6:AN$6),0)))","v":0},null,null,null,null,0,0,0,null,null,null,null,0,0,0,null,null,null,null,0,0,0,null,null,null,null,0,0,0,null,null,null,null,0,0,0,null,null,null,null,0,0,0,null,null,null,null,0,0,0,2,0,1.2,0,0.66,0.55000000000000004,0,2,0,1.2,0,0.66,0.55000000000000004,0,2,0,1.2,0,0.66,0.55000000000000004,0,0,0,0,0,2,0,1.2,0,0.66,0.55000000000000004,0,0,0,0,0,2,0,1.2,0,0.66,0.55000000000000004,0,0,0,0,0,2,0,1.2,0,0.66,0.55000000000000004,0,0,0,0,0,2,0,1.2,0,0.66,0.55000000000000004,0,0,0,0,0,2,0,1.2,0,0.66,0.55000000000000004,0,0,0,0,0,2,0,1.2,0,0.66,0.55000000000000004,0,0,0,0,0,2,0,1.2,0,0.66,0.55000000000000004,0,0,0,0,0,2,88.777000000000001,1.2,0.164215,0.49578500000000003,0.41315416666666671,0,0,0,0,0,2,96.457999999999998,1.2,0.176815,0.48318500000000003,0.4026541666666667,0,0,0,0,0,2,83.288600000000002,1.2,0.14797399999999999,0.51202600000000009,0.42668833333333345,0.4026541666666667,0,0,0,0,null,null,null,null,0,0,0,0,0,0,0,2,268.52359999999999,1.1999999999999997,4.4454909090909094E-2,0.56424966666666676,0.47020805555555573,0,0,0,0]
["ООО \"МИП \"Кинешма\"","Ивановская область",null,"ФКУ \"ИК №3\" УФСИН по Ив.обл.","ПС \"Автозаводская\" ООО \"МИП \"Кинешма\", РУ10кВ СШ2, яч.27, ф.№106 ","Гос. Учреждения","ГУ.Прочие","Федеральный",null,null,null,"670 и выше",5612042824,"АО \"ЭнергосбыТ Плюс\"",3703020510,"ООО \"МИП \"Кинешма\"",null,"Э","ВН",null,null,null,null,{"$f":"IF(IF($Q27=1,V27*$Q$10-W27,V27-W27)<0,0,IF($Q27=1,V27*$Q$10-W27,V27-W27))","v":0},{"$f":"IFERROR(X27/V27,0)","v":0},{"$f":"IF(T27=1,SUMIF(W$4:Z$4,$S27,W$7:Z$7)*U27,IF(T27=\"ГН\",W27*SUMIF(W$4:Z$4,$S27,W$5:Z$5),IF(T27=2,W27*SUMIF(W$4:Z$4,$S27,W$5:Z$5)+U27*SUMIF(W$4:Z$4,$S27,W$6:Z$6),0)))","v":0},null,null,null,null,{"$f":"IF(IF($Q27=1,AC27*$Q$10-AD27,AC27-AD27)<0,0,IF($Q27=1,AC27*$Q$10-AD27,AC27-AD27))","v":0},{"$f":"IFERROR(AE27/AC27,0)","v":0},{"$f":"IF(AA27=1,SUMIF(AD$4:AG$4,$S27,AD$7:AG$7)*AB27,IF(AA27=\"ГН\",AD27*SUMIF(AD$4:AG$4,$S27,AD$5:AG$5),IF(AA27=2,AD27*SUMIF(AD$4:AG$4,$S27,AD$5:AG$5)+AB27*SUMIF(AD$4:AG$4,$S27,AD$6:AG$6),0)))","v":0},null,null,null,null,{"$f":"IF(IF($Q27=1,AJ27*$Q$10-AK27,AJ27-AK27)<0,0,IF($Q27=1,AJ27*$Q$10-AK27,AJ27-AK27))","v":0},{"$f":"IFERROR(AL27/AJ27,0)","v":0},{"$f":"IF(AH27=1,SUMIF(AK$4:AN$4,$S27,AK$7:AN$7)*AI27,IF(AH27=\"ГН\",AK27*SUMIF(AK$4:AN$4,$S27,AK$5:AN$5),IF(AH27=2,AK27*SUMIF(AK$4:AN$4,$S27,AK$5:AN$5)+AI27*SUMIF(AK$4:AN$4,$S27,AK$6:AN$6),0)))","v":0},null,null,null,null,{"$f":"IF(IF($Q27=1,AQ27*$Q$10-AR27,AQ27-AR27)<0,0,IF($Q27=1,AQ27*$Q$10-AR27,AQ27-AR27))","v":0},{"$f":"IFERROR(AS27/AQ27,0)","v":0},{"$f":"IF(AO27=1,SUMIF(AR$4:AU$4,$S27,AR$7:AU$7)*AP27,IF(AO27=\"ГН\",AR27*SUMIF(AR$4:AU$4,$S27,AR$5:AU$5),IF(AO27=2,AR27*SUMIF(AR$4:AU$4,$S27,AR$5:AU$5)+AP27*SUMIF(AR$4:AU$4,$S27,AR$6:AU$6),0)))","v":0},null,null,null,null,{"$f":"IF(IF($Q27=1,AX27*$Q$10-AY27,AX27-AY27)<0,0,IF($Q27=1,AX27*$Q$10-AY27,AX27-AY27))","v":0},{"$f":"IFERROR(AZ27/AX27,0)","v":0},{"$f":"IF(AV27=1,SUMIF(AY$4:BB$4,$S27,AY$7:BB$7)*AW27,IF(AV27=\"ГН\",AY27*SUMIF(AY$4:BB$4,$S27,AY$5:BB$5),IF(AV27=2,AY27*SUMIF(AY$4:BB$4,$S27,AY$5:BB$5)+AW27*SUMIF(AY$4:BB$4,$S27,AY$6:BB$6),0)))","v":0},null,null,null,null,{"$f":"IF(IF($Q27=1,BE27*$Q$10-BF27,BE27-BF27)<0,0,IF($Q27=1,BE27*$Q$10-BF27,BE27-BF27))","v":0},{"$f":"IFERROR(BG27/BE27,0)","v":0},{"$f":"IF(BC27=1,SUMIF(BF$4:BI$4,$S27,BF$7:BI$7)*BD27,IF(BC27=\"ГН\",BF27*SUMIF(BF$4:BI$4,$S27,BF$5:BI$5),IF(BC27=2,BF27*SUMIF(BF$4:BI$4,$S27,BF$5:BI$5)+BD27*SUMIF(BF$4:BI$4,$S27,BF$6:BI$6),0)))","v":0},null,null,null,null,{"$f":"IF(IF($Q27=1,BL27*$Q$10-BM27,BL27-BM27)<0,0,IF($Q27=1,BL27*$Q$10-BM27,BL27-BM27))","v":0},{"$f":"IFERROR(BN27/BL27,0)","v":0},{"$f":"IF(BJ27=1,SUMIF(BM$4:BP$4,$S27,BM$7:BP$7)*BK27,IF(BJ27=\"ГН\",BM27*SUMIF(BM$4:BP$4,$S27,BM$5:BP$5),IF(BJ27=2,BM27*SUMIF(BM$4:BP$4,$S27,BM$5:BP$5)+BK27*SUMIF(BM$4:BP$4,$S27,BM$6:BP$6),0)))","v":0},null,null,null,null,{"$f":"IF(IF($Q27=1,BS27*$Q$10-BT27,BS27-BT27)<0,0,IF($Q27=1,BS27*$Q$10-BT27,BS27-BT27))","v":0},{"$f":"IFERROR(BU27/BS27,0)","v":0},{"$f":"IF(BQ27=1,SUMIF(BT$4:BW$4,$S27,BT$7:BW$7)*BR27,IF(BQ27=\"ГН\",BT27*SUMIF(BT$4:BW$4,$S27,BT$5:BW$5),IF(BQ27=2,BT27*SUMIF(BT$4:BW$4,$S27,BT$5:BW$5)+BR27*SUMIF(BT$4:BW$4,$S27,BT$6:BW$6),0)))","v":0},null,null,null,null,{"$f":"IF(IF($Q27=1,BZ27*$Q$10-CA27,BZ27-CA27)<0,0,IF($Q27=1,BZ27*$Q$10-CA27,BZ27-CA27))","v":0},{"$f":"IFERROR(CB27/BZ27,0)","v":0},{"$f":"IF(BX27=1,SUMIF(CA$4:CD$4,$S27,CA$7:CD$7)*BY27,IF(BX27=\"ГН\",CA27*SUMIF(CA$4:CD$4,$S27,CA$5:CD$5),IF(BX27=2,CA27*SUMIF(CA$4:CD$4,$S27,CA$5:CD$5)+BY27*SUMIF(CA$4:CD$4,$S27,CA$6:CD$6),0)))","v":0},null,null,null,null,{"$f":"IF(IF($Q27=1,CG27*$Q$10-CH27,CG27-CH27)<0,0,IF($Q27=1,CG27*$Q$10-CH27,CG27-CH27))","v":0},{"$f":"IFERROR(CI27/CG27,0)","v":0},{"$f":"IF(CE27=1,SUMIF(CH$4:CK$4,$S27,CH$7:CK$7)*CF27,IF(CE27=\"ГН\",CH27*SUMIF(CH$4:CK$4,$S27,CH$5:CK$5),IF(CE27=2,CH27*SUMIF(CH$4:CK$4,$S27,CH$5:CK$5)+CF27*SUMIF(CH$4:CK$4,$S27,CH$6:CK$6),0)))","v":0},1,{"$f":"111.429-CM20-13.5","v":96.808999999999997},{"$f":"(0.68-CN29)/2","v":0.30500000000000005},{"$f":"0.240345-CO20-CO29","v":0.2147},{"$f":"IF(IF($Q27=1,CN27*$Q$10-CO27,CN27-CO27)<0,0,IF($Q27=1,CN27*$Q$10-CO27,CN27-CO27))","v":9.0300000000000047E-2},{"$f":"IFERROR(CP27/CN27,0)","v":0.29606557377049192},{"$f":"IF(CL27=1,SUMIF(CO$4:CR$4,$S27,CO$7:CR$7)*CM27,IF(CL27=\"ГН\",CO27*SUMIF(CO$4:CR$4,$S27,CO$5:CR$5),IF(CL27=2,CO27*SUMIF(CO$4:CR$4,$S27,CO$5:CR$5)+CM27*SUMIF(CO$4:CR$4,$S27,CO$6:CR$6),0)))","v":191613.08560999998},1,{"$f":"120.655-CT20-25.05","v":94.885000000000005},{"$f":"(0.68-CU29)/2","v":0.30500000000000005},{"$f":"0.249682-CV20-CV29","v":0.20526299999999997},{"$f":"IF(IF($Q27=1,CU27*$Q$10-CV27,CU27-CV27)<0,0,IF($Q27=1,CU27*$Q$10-CV27,CU27-CV27))","v":9.9737000000000076E-2},{"$f":"IFERROR(CW27/CU27,0)","v":0.32700655737704937},{"$f":"IF(CS27=1,SUMIF(CV$4:CY$4,$S27,CV$7:CY$7)*CT27,IF(CS27=\"ГН\",CV27*SUMIF(CV$4:CY$4,$S27,CV$5:CY$5),IF(CS27=2,CV27*SUMIF(CV$4:CY$4,$S27,CV$5:CY$5)+CT27*SUMIF(CV$4:CY$4,$S27,CV$6:CY$6),0)))","v":0},1,{"$f":"116.028-DA20-DA29","v":104.23800000000001},0.30500000000000005,{"$f":"0.239206-DC20-DC29","v":0.21855000000000002},{"$f":"IF(IF($Q27=1,DB27*$Q$10-DC27,DB27-DC27)<0,0,IF($Q27=1,DB27*$Q$10-DC27,DB27-DC27))","v":8.6450000000000027E-2},{"$f":"IFERROR(DD27/DB27,0)","v":0.28344262295081973},{"$f":"MIN(CX27,CQ27,CJ27,CC27,BV27,BO27,BH27,BA27,AT27,AM27,AF27,Y27,DE27)","v":0},{"$f":"IF(AND(DF27>0.4,DJ27>0),DD27*DG$11,0)","v":0},{"$f":"SUM(DI27:DJ27)","v":0},{"$f":"DG27*SUMIF(DG$4:DJ$4,$S27,DG$5:DJ$5)","v":0},{"$f":"IF(CZ27=1,SUMIF(DG$4:DJ$4,$S27,DG$7:DJ$7)*DA27,IF(CZ27=\"ГН\",DC27*SUMIF(DG$4:DJ$4,$S27,DG$5:DJ$5),IF(CZ27=2,DC27*SUMIF(DG$4:DJ$4,$S27,DG$5:DJ$5)+DA27*SUMIF(DG$4:DJ$4,$S27,DG$6:DJ$6),0)))","v":0},1,{"$f":"107.116-DL20-DL29","v":95.925999999999988},0.30500000000000005,{"$f":"0.228268-DN20-DN29","v":0.20866999999999999},{"$f":"IF(IF($Q27=1,DM27*$Q$10-DN27,DM27-DN27)<0,0,IF($Q27=1,DM27*$Q$10-DN27,DM27-DN27))","v":9.6330000000000054E-2},{"$f":"IFERROR(DO27/DM27,0)","v":0.31583606557377064},{"$f":"MIN(DE27,CX27,CQ27,CJ27,CC27,BV27,BO27,BH27,BA27,AT27,AM27,AF27,DP27)","v":0},{"$f":"IF(AND(DQ27>0.4,DU27>0),DO27*DR$11,0)","v":0},{"$f":"SUM(DT27:DU27)","v":0},{"$f":"DR27*SUMIF(DR$4:DU$4,$S27,DR$5:DU$5)","v":0},{"$f":"IF(DK27=1,SUMIF(DR$4:DU$4,$S27,DR$7:DU$7)*DL27,IF(DK27=\"ГН\",DN27*SUMIF(DR$4:DU$4,$S27,DR$5:DU$5),IF(DK27=2,DN27*SUMIF(DR$4:DU$4,$S27,DR$5:DU$5)+DL27*SUMIF(DR$4:DU$4,$S27,DR$6:DU$6),0)))","v":0},1,{"$f":"109.878-DW20-DW29","v":98.227999999999994},0.30500000000000005,{"$f":"0.229516-DY20-DY29","v":0.208152},{"$f":"IF(IF($Q27=1,DX27*$Q$10-DY27,DX27-DY27)<0,0,IF($Q27=1,DX27*$Q$10-DY27,DX27-DY27))","v":9.6848000000000045E-2},{"$f":"IFERROR(DZ27/DX27,0)","v":0.31753442622950828},{"$f":"MIN(DP27,DE27,CX27,CQ27,CJ27,CC27,BV27,BO27,BH27,BA27,AT27,AM27,EA27)","v":0},{"$f":"IF(AND(EB27>0.4,EF27>0),DZ27*EC$11,0)","v":0},{"$f":"SUM(EE27:EF27)","v":0},{"$f":"EC27*SUMIF(EC$4:EF$4,$S27,EC$5:EF$5)","v":0},{"$f":"IF(DV27=1,SUMIF(EC$4:EF$4,$S27,EC$7:EF$7)*DW27,IF(DV27=\"ГН\",DY27*SUMIF(EC$4:EF$4,$S27,EC$5:EF$5),IF(DV27=2,DY27*SUMIF(EC$4:EF$4,$S27,EC$5:EF$5)+DW27*SUMIF(EC$4:EF$4,$S27,EC$6:EF$6),0)))","v":0},1,{"$f":"103.756-EH20-EH29","v":93.436000000000007},0.30500000000000005,{"$f":"0.22335-EJ20-EJ29","v":0.20486000000000001},{"$f":"IF(IF($Q27=1,EI27*$Q$10-EJ27,EI27-EJ27)<0,0,IF($Q27=1,EI27*$Q$10-EJ27,EI27-EJ27))","v":0.10014000000000003},{"$f":"IFERROR(EK27/EI27,0)","v":0.32832786885245907},{"$f":"MIN(EA27,DP27,DE27,CX27,CQ27,CJ27,CC27,BV27,BO27,BH27,BA27,AT27,EL27)","v":0},{"$f":"IF(AND(EM27>0.4,EQ27>0),EK27*EN$11,0)","v":0},{"$f":"SUM(EP27:EQ27)","v":0},{"$f":"EN27*SUMIF(EN$4:EQ$4,$S27,EN$5:EQ$5)","v":0},{"$f":"IF(EG27=1,SUMIF(EN$4:EQ$4,$S27,EN$7:EQ$7)*EH27,IF(EG27=\"ГН\",EJ27*SUMIF(EN$4:EQ$4,$S27,EN$5:EQ$5),IF(EG27=2,EJ27*SUMIF(EN$4:EQ$4,$S27,EN$5:EQ$5)+EH27*SUMIF(EN$4:EQ$4,$S27,EN$6:EQ$6),0)))","v":0},1,{"$f":"109.805-ES20-ES29","v":96.115000000000009},0.30500000000000005,{"$f":"0.247765-EU20-EU29","v":0.223495},{"$f":"IF(IF($Q27=1,ET27*$Q$10-EU27,ET27-EU27)<0,0,IF($Q27=1,ET27*$Q$10-EU27,ET27-EU27))","v":8.150500000000005E-2},{"$f":"IFERROR(EV27/ET27,0)","v":0.26722950819672142},{"$f":"MIN(EL27,EA27,DP27,DE27,CX27,CQ27,CJ27,CC27,BV27,BO27,BH27,BA27,EW27)","v":0},{"$f":"IF(AND(EX27>0.4,FB27>0),EV27*EY$11,0)","v":0},{"$f":"SUM(FA27:FB27)","v":0},{"$f":"EY27*SUMIF(EY$4:FB$4,$S27,EY$5:FB$5)","v":0},{"$f":"IF(ER27=1,SUMIF(EY$4:FB$4,$S27,EY$7:FB$7)*ES27,IF(ER27=\"ГН\",EU27*SUMIF(EY$4:FB$4,$S27,EY$5:FB$5),IF(ER27=2,EU27*SUMIF(EY$4:FB$4,$S27,EY$5:FB$5)+ES27*SUMIF(EY$4:FB$4,$S27,EY$6:FB$6),0)))","v":0},1,{"$f":"97.267-FD20-FD29","v":82.296999999999997},0.30500000000000005,{"$f":"0.223395-FF20-FF29","v":0.19680300000000001},{"$f":"IF(IF($Q27=1,FE27*$Q$10-FF27,FE27-FF27)<0,0,IF($Q27=1,FE27*$Q$10-FF27,FE27-FF27))","v":0.10819700000000004},{"$f":"IFERROR(FG27/FE27,0)","v":0.35474426229508205},{"$f":"MIN(EW27,EL27,EA27,DP27,DE27,CX27,CQ27,CJ27,CC27,BV27,BO27,BH27,FH27)","v":0},{"$f":"IF(AND(FI27>0.4,FM27>0),FG27*FJ$11,0)","v":0},{"$f":"SUM(FL27:FM27)","v":0},{"$f":"FJ27*SUMIF(FJ$4:FM$4,$S27,FJ$5:FM$5)","v":0},{"$f":"IF(FC27=1,SUMIF(FJ$4:FM$4,$S27,FJ$7:FM$7)*FD27,IF(FC27=\"ГН\",FF27*SUMIF(FJ$4:FM$4,$S27,FJ$5:FM$5),IF(FC27=2,FF27*SUMIF(FJ$4:FM$4,$S27,FJ$5:FM$5)+FD27*SUMIF(FJ$4:FM$4,$S27,FJ$6:FM$6),0)))","v":0},1,{"$f":"54.871-FO20-FO29","v":40.100999999999999},0.30500000000000005,{"$f":"0.120532-FQ20-FQ29","v":9.4214000000000006E-2},{"$f":"IF(IF($Q27=1,FP27*$Q$10-FQ27,FP27-FQ27)<0,0,IF($Q27=1,FP27*$Q$10-FQ27,FP27-FQ27))","v":0.21078600000000003},{"$f":"IFERROR(FR27/FP27,0)","v":0.69110163934426228},{"$f":"MIN(FH27,EW27,EL27,EA27,DP27,DE27,CX27,CQ27,CJ27,CC27,BV27,BO27,FS27)","v":0},{"$f":"IF(AND(FT27>0.4,FX27>0),FR27*FU$11,0)","v":0},{"$f":"SUM(FW27:FX27)","v":0},{"$f":"FU27*SUMIF(FU$4:FX$4,$S27,FU$5:FX$5)","v":0},{"$f":"IF(FN27=1,SUMIF(FU$4:FX$4,$S27,FU$7:FX$7)*FO27,IF(FN27=\"ГН\",FQ27*SUMIF(FU$4:FX$4,$S27,FU$5:FX$5),IF(FN27=2,FQ27*SUMIF(FU$4:FX$4,$S27,FU$5:FX$5)+FO27*SUMIF(FU$4:FX$4,$S27,FU$6:FX$6),0)))","v":0},1,8.2000000000000003E-2,0.30500000000000005,2.9999999999999997E-4,{"$f":"IF(IF($Q27=1,GA27*$Q$10-GB27,GA27-GB27)<0,0,IF($Q27=1,GA27*$Q$10-GB27,GA27-GB27))","v":0.30470000000000003},{"$f":"IFERROR(GC27/GA27,0)","v":0.99901639344262283},{"$f":"MIN(FS27,FH27,EW27,EL27,EA27,DP27,DE27,CX27,CQ27,CJ27,CC27,BV27,GD27)","v":0},{"$f":"IF(AND(GE27>0.4,GI27>0),GC27*GF$11,0)","v":0},{"$f":"SUM(GH27:GI27)","v":0},{"$f":"GF27*SUMIF(GF$4:GI$4,$S27,GF$5:GI$5)","v":0},{"$f":"IF(FY27=1,SUMIF(GF$4:GI$4,$S27,GF$7:GI$7)*FZ27,IF(FY27=\"ГН\",GB27*SUMIF(GF$4:GI$4,$S27,GF$5:GI$5),IF(FY27=2,GB27*SUMIF(GF$4:GI$4,$S27,GF$5:GI$5)+FZ27*SUMIF(GF$4:GI$4,$S27,GF$6:GI$6),0)))","v":0},1,0.14499999999999999,0.30500000000000005,3.382E-3,{"$f":"IF(IF($Q27=1,GL27*$Q$10-GM27,GL27-GM27)<0,0,IF($Q27=1,GL27*$Q$10-GM27,GL27-GM27))","v":0.30161800000000005},{"$f":"IFERROR(GN27/GL27,0)","v":0.98891147540983604},{"$f":"MIN(GD27,FS27,FH27,EW27,EL27,EA27,DP27,DE27,CX27,CQ27,CJ27,CC27,GO27)","v":0},{"$f":"IF(AND(GP27>0.4,GT27>0),GN27*GQ$11,0)","v":0},{"$f":"SUM(GS27:GT27)","v":0},{"$f":"GQ27*SUMIF(GQ$4:GT$4,$S27,GQ$5:GT$5)","v":0},{"$f":"IF(GJ27=1,SUMIF(GQ$4:GT$4,$S27,GQ$7:GT$7)*GK27,IF(GJ27=\"ГН\",GM27*SUMIF(GQ$4:GT$4,$S27,GQ$5:GT$5),IF(GJ27=2,GM27*SUMIF(GQ$4:GT$4,$S27,GQ$5:GT$5)+GK27*SUMIF(GQ$4:GT$4,$S27,GQ$6:GT$6),0)))","v":0},1,7.9000000000000001E-2,0.30500000000000005,2.9999999999999997E-4,{"$f":"IF(IF($Q27=1,GW27*$Q$10-GX27,GW27-GX27)<0,0,IF($Q27=1,GW27*$Q$10-GX27,GW27-GX27))","v":0.30470000000000003},{"$f":"IFERROR(GY27/GW27,0)","v":0.99901639344262283},{"$f":"MIN(GO27,GD27,FS27,FH27,EW27,EL27,EA27,DP27,DE27,CX27,CQ27,CJ27,GZ27)","v":0},{"$f":"IF(AND(HA27>0.4,HE27>0),GY27*HB$11,0)","v":0},{"$f":"SUM(HD27:HE27)","v":0},{"$f":"HB27*SUMIF(HB$4:HE$4,$S27,HB$5:HE$5)","v":0},{"$f":"IF(GU27=1,SUMIF(HB$4:HE$4,$S27,HB$7:HE$7)*GV27,IF(GU27=\"ГН\",GX27*SUMIF(HB$4:HE$4,$S27,HB$5:HE$5),IF(GU27=2,GX27*SUMIF(HB$4:HE$4,$S27,HB$5:HE$5)+GV27*SUMIF(HB$4:HE$4,$S27,HB$6:HE$6),0)))","v":0},1,7.4999999999999997E-2,0.30500000000000005,3.1500000000000001E-4,{"$f":"IF(IF($Q27=1,HH27*$Q$10-HI27,HH27-HI27)<0,0,IF($Q27=1,HH27*$Q$10-HI27,HH27-HI27))","v":0.30468500000000004},{"$f":"IFERROR(HJ27/HH27,0)","v":0.99896721311475412},{"$f":"MIN(GZ27,GO27,GD27,FS27,FH27,EW27,EL27,EA27,DP27,DE27,CX27,CQ27,HK27)","v":0.26722950819672142},{"$f":"IF(AND(HL27>0.4,HP27>0),HJ27*HM$11,0)","v":0},{"$f":"SUM(HO27:HP27)","v":0},{"$f":"HM27*SUMIF(HM$4:HP$4,$S27,HM$5:HP$5)","v":0},{"$f":"IF(HF27=1,SUMIF(HM$4:HP$4,$S27,HM$7:HP$7)*HG27,IF(HF27=\"ГН\",HI27*SUMIF(HM$4:HP$4,$S27,HM$5:HP$5),IF(HF27=2,HI27*SUMIF(HM$4:HP$4,$S27,HM$5:HP$5)+HG27*SUMIF(HM$4:HP$4,$S27,HM$6:HP$6),0)))","v":0},null,null,null,null,{"$f":"IF(IF($Q27=1,HS27*$Q$10-HT27,HS27-HT27)<0,0,IF($Q27=1,HS27*$Q$10-HT27,HS27-HT27))","v":0},{"$f":"IFERROR(HU27/HS27,0)","v":0},{"$f":"MIN(HK27,GZ27,GO27,GD27,FS27,FH27,EW27,EL27,EA27,DP27,DE27,CX27,HV27)","v":0},{"$f":"IF(AND(HW27>0.4,IA27>0),HU27*HX$11,0)","v":0},{"$f":"SUM(HZ27:IA27)","v":0},{"$f":"HX27*SUMIF(HX$4:IA$4,$S27,HX$5:IA$5)","v":0},{"$f":"IF(HQ27=1,SUMIF(HX$4:IA$4,$S27,HX$7:IA$7)*HR27,IF(HQ27=\"ГН\",HT27*SUMIF(HX$4:IA$4,$S27,HX$5:IA$5),IF(HQ27=2,HT27*SUMIF(HX$4:IA$4,$S27,HX$5:IA$5)+HR27*SUMIF(HX$4:IA$4,$S27,HX$6:IA$6),0)))","v":0},{"$f":"IFERROR(AVERAGE(HQ27,HF27,GU27,GJ27,FY27,FN27,FC27,ER27,EG27,DV27,DK27,CZ27),0)","v":1},{"$f":"SUM(HR27,HG27,GV27,GK27,FZ27,FO27,FD27,ES27,EH27,DW27,DL27,DA27)","v":610.72200000000009},{"$f":"IFERROR(AVERAGE(HS27,HH27,GW27,GL27,GA27,FP27,FE27,ET27,EI27,DX27,DM27,DB27),0)","v":0.3050000000000001},{"$f":"IFERROR(AVERAGE(HT27,HI27,GX27,GM27,GB27,FQ27,FF27,EU27,EJ27,DY27,DN27,DC27),0)","v":0.12354918181818184},{"$f":"IFERROR(AVERAGE(HU27,HJ27,GY27,GN27,GC27,FR27,FG27,EV27,EK27,DZ27,DO27,DD27),0)","v":0.16632991666666672},{"$f":"IFERROR(IF27/ID27,0)","v":0.5453439890710382},{"$f":"IFERROR(AVERAGE(HX27,HM27,HB27,GQ27,GF27,FU27,FJ27,EY27,EN27,EC27,DR27,DG27),0)","v":0},{"$f":"IJ27+IK27","v":0},{"$f":"SUM(HZ27,HO27,HD27,GS27,GH27,FW27,FL27,FA27,EP27,EE27,DT27,DI27)","v":0},{"$f":"SUM(IA27,HP27,HE27,GT27,GI27,FX27,FM27,FB27,EQ27,EF27,DU27,DJ27)","v":0}]
["ООО \"МИП \"Кинешма\"","Ивановская область",null,"ФКУ \"ИК №3\" УФСИН по Ив.обл.","ПС \"Автозаводская\" ООО \"МИП \"Кинешма\", РУ10кВ СШ2, яч.20, №110","Гос. Учреждения","ГУ.Прочие","Федеральный",null,null,null,"670 и выше",5612042824,"АО \"ЭнергосбыТ Плюс\"",3703020510,"ООО \"МИП \"Кинешма\"",null,"Э","ВН",null,null,null,null,0,0,0,null,null,null,null,0,0,0,null,null,null,null,0,0,0,null,null,null,null,0,0,0,null,null,null,null,0,0,0,null,null,null,null,0,0,0,null,null,null,null,0,0,0,null,null,null,null,0,0,0,null,null,null,null,0,0,0,null,null,null,null,0,0,0,1,0.15,{"$f":"(0.68-CN29)/2","v":0.30500000000000005},2.9999999999999997E-4,{"$f":"IF(IF($Q28=1,CN28*$Q$10-CO28,CN28-CO28)<0,0,IF($Q28=1,CN28*$Q$10-CO28,CN28-CO28))","v":0.30470000000000003},{"$f":"IFERROR(CP28/CN28,0)","v":0.99901639344262283},{"$f":"IF(CL28=1,SUMIF(CO$4:CR$4,$S28,CO$7:CR$7)*CM28,IF(CL28=\"ГН\",CO28*SUMIF(CO$4:CR$4,$S28,CO$5:CR$5),IF(CL28=2,CO28*SUMIF(CO$4:CR$4,$S28,CO$5:CR$5)+CM28*SUMIF(CO$4:CR$4,$S28,CO$6:CR$6),0)))","v":296.89349999999996},1,0.151,{"$f":"(0.68-CU29)/2","v":0.30500000000000005},2.9999999999999997E-4,{"$f":"IF(IF($Q28=1,CU28*$Q$10-CV28,CU28-CV28)<0,0,IF($Q28=1,CU28*$Q$10-CV28,CU28-CV28))","v":0.30470000000000003},{"$f":"IFERROR(CW28/CU28,0)","v":0.99901639344262283},{"$f":"IF(CS28=1,SUMIF(CV$4:CY$4,$S28,CV$7:CY$7)*CT28,IF(CS28=\"ГН\",CV28*SUMIF(CV$4:CY$4,$S28,CV$5:CY$5),IF(CS28=2,CV28*SUMIF(CV$4:CY$4,$S28,CV$5:CY$5)+CT28*SUMIF(CV$4:CY$4,$S28,CV$6:CY$6),0)))","v":0},1,0.153,0.30500000000000005,2.9999999999999997E-4,{"$f":"IF(IF($Q28=1,DB28*$Q$10-DC28,DB28-DC28)<0,0,IF($Q28=1,DB28*$Q$10-DC28,DB28-DC28))","v":0.30470000000000003},{"$f":"IFERROR(DD28/DB28,0)","v":0.99901639344262283},{"$f":"MIN(CX28,CQ28,CJ28,CC28,BV28,BO28,BH28,BA28,AT28,AM28,AF28,Y28,DE28)","v":0},{"$f":"IF(AND(DF28>0.4,DJ28>0),DD28*DG$11,0)","v":0},{"$f":"SUM(DI28:DJ28)","v":0},{"$f":"DG28*SUMIF(DG$4:DJ$4,$S28,DG$5:DJ$5)","v":0},{"$f":"IF(CZ28=1,SUMIF(DG$4:DJ$4,$S28,DG$7:DJ$7)*DA28,IF(CZ28=\"ГН\",DC28*SUMIF(DG$4:DJ$4,$S28,DG$5:DJ$5),IF(CZ28=2,DC28*SUMIF(DG$4:DJ$4,$S28,DG$5:DJ$5)+DA28*SUMIF(DG$4:DJ$4,$S28,DG$6:DJ$6),0)))","v":0},1,0.13900000000000001,0.30500000000000005,2.9999999999999997E-4,{"$f":"IF(IF($Q28=1,DM28*$Q$10-DN28,DM28-DN28)<0,0,IF($Q28=1,DM28*$Q$10-DN28,DM28-DN28))","v":0.30470000000000003},{"$f":"IFERROR(DO28/DM28,0)","v":0.99901639344262283},{"$f":"MIN(DE28,CX28,CQ28,CJ28,CC28,BV28,BO28,BH28,BA28,AT28,AM28,AF28,DP28)","v":0},{"$f":"IF(AND(DQ28>0.4,DU28>0),DO28*DR$11,0)","v":0},{"$f":"SUM(DT28:DU28)","v":0},{"$f":"DR28*SUMIF(DR$4:DU$4,$S28,DR$5:DU$5)","v":0},{"$f":"IF(DK28=1,SUMIF(DR$4:DU$4,$S28,DR$7:DU$7)*DL28,IF(DK28=\"ГН\",DN28*SUMIF(DR$4:DU$4,$S28,DR$5:DU$5),IF(DK28=2,DN28*SUMIF(DR$4:DU$4,$S28,DR$5:DU$5)+DL28*SUMIF(DR$4:DU$4,$S28,DR$6:DU$6),0)))","v":0},1,0.14899999999999999,0.30500000000000005,2.9999999999999997E-4,{"$f":"IF(IF($Q28=1,DX28*$Q$10-DY28,DX28-DY28)<0,0,IF($Q28=1,DX28*$Q$10-DY28,DX28-DY28))","v":0.30470000000000003},{"$f":"IFERROR(DZ28/DX28,0)","v":0.99901639344262283},{"$f":"MIN(DP28,DE28,CX28,CQ28,CJ28,CC28,BV28,BO28,BH28,BA28,AT28,AM28,EA28)","v":0},{"$f":"IF(AND(EB28>0.4,EF28>0),DZ28*EC$11,0)","v":0},{"$f":"SUM(EE28:EF28)","v":0},{"$f":"EC28*SUMIF(EC$4:EF$4,$S28,EC$5:EF$5)","v":0},{"$f":"IF(DV28=1,SUMIF(EC$4:EF$4,$S28,EC$7:EF$7)*DW28,IF(DV28=\"ГН\",DY28*SUMIF(EC$4:EF$4,$S28,EC$5:EF$5),IF(DV28=2,DY28*SUMIF(EC$4:EF$4,$S28,EC$5:EF$5)+DW28*SUMIF(EC$4:EF$4,$S28,EC$6:EF$6),0)))","v":0},1,0.14799999999999999,0.30500000000000005,2.9999999999999997E-4,{"$f":"IF(IF($Q28=1,EI28*$Q$10-EJ28,EI28-EJ28)<0,0,IF($Q28=1,EI28*$Q$10-EJ28,EI28-EJ28))","v":0.30470000000000003},{"$f":"IFERROR(EK28/EI28,0)","v":0.99901639344262283},{"$f":"MIN(EA28,DP28,DE28,CX28,CQ28,CJ28,CC28,BV28,BO28,BH28,BA28,AT28,EL28)","v":0},{"$f":"IF(AND(EM28>0.4,EQ28>0),EK28*EN$11,0)","v":0},{"$f":"SUM(EP28:EQ28)","v":0},{"$f":"EN28*SUMIF(EN$4:EQ$4,$S28,EN$5:EQ$5)","v":0},{"$f":"IF(EG28=1,SUMIF(EN$4:EQ$4,$S28,EN$7:EQ$7)*EH28,IF(EG28=\"ГН\",EJ28*SUMIF(EN$4:EQ$4,$S28,EN$5:EQ$5),IF(EG28=2,EJ28*SUMIF(EN$4:EQ$4,$S28,EN$5:EQ$5)+EH28*SUMIF(EN$4:EQ$4,$S28,EN$6:EQ$6),0)))","v":0},1,0.16200000000000001,0.30500000000000005,2.9999999999999997E-4,{"$f":"IF(IF($Q28=1,ET28*$Q$10-EU28,ET28-EU28)<0,0,IF($Q28=1,ET28*$Q$10-EU28,ET28-EU28))","v":0.30470000000000003},{"$f":"IFERROR(EV28/ET28,0)","v":0.99901639344262283},{"$f":"MIN(EL28,EA28,DP28,DE28,CX28,CQ28,CJ28,CC28,BV28,BO28,BH28,BA28,EW28)","v":0},{"$f":"IF(AND(EX28>0.4,FB28>0),EV28*EY$11,0)","v":0},{"$f":"SUM(FA28:FB28)","v":0},{"$f":"EY28*SUMIF(EY$4:FB$4,$S28,EY$5:FB$5)","v":0},{"$f":"IF(ER28=1,SUMIF(EY$4:FB$4,$S28,EY$7:FB$7)*ES28,IF(ER28=\"ГН\",EU28*SUMIF(EY$4:FB$4,$S28,EY$5:FB$5),IF(ER28=2,EU28*SUMIF(EY$4:FB$4,$S28,EY$5:FB$5)+ES28*SUMIF(EY$4:FB$4,$S28,EY$6:FB$6),0)))","v":0},1,0.16200000000000001,0.30500000000000005,2.9999999999999997E-4,{"$f":"IF(IF($Q28=1,FE28*$Q$10-FF28,FE28-FF28)<0,0,IF($Q28=1,FE28*$Q$10-FF28,FE28-FF28))","v":0.30470000000000003},{"$f":"IFERROR(FG28/FE28,0)","v":0.99901639344262283},{"$f":"MIN(EW28,EL28,EA28,DP28,DE28,CX28,CQ28,CJ28,CC28,BV28,BO28,BH28,FH28)","v":0},{"$f":"IF(AND(FI28>0.4,FM28>0),FG28*FJ$11,0)","v":0},{"$f":"SUM(FL28:FM28)","v":0},{"$f":"FJ28*SUMIF(FJ$4:FM$4,$S28,FJ$5:FM$5)","v":0},{"$f":"IF(FC28=1,SUMIF(FJ$4:FM$4,$S28,FJ$7:FM$7)*FD28,IF(FC28=\"ГН\",FF28*SUMIF(FJ$4:FM$4,$S28,FJ$5:FM$5),IF(FC28=2,FF28*SUMIF(FJ$4:FM$4,$S28,FJ$5:FM$5)+FD28*SUMIF(FJ$4:FM$4,$S28,FJ$6:FM$6),0)))","v":0},1,{"$f":"2.857+36.451","v":39.308},0.30500000000000005,{"$f":"0.103577","v":0.103577},{"$f":"IF(IF($Q28=1,FP28*$Q$10-FQ28,FP28-FQ28)<0,0,IF($Q28=1,FP28*$Q$10-FQ28,FP28-FQ28))","v":0.20142300000000005},{"$f":"IFERROR(FR28/FP28,0)","v":0.66040327868852466},{"$f":"MIN(FH28,EW28,EL28,EA28,DP28,DE28,CX28,CQ28,CJ28,CC28,BV28,BO28,FS28)","v":0},{"$f":"IF(AND(FT28>0.4,FX28>0),FR28*FU$11,0)","v":0},{"$f":"SUM(FW28:FX28)","v":0},{"$f":"FU28*SUMIF(FU$4:FX$4,$S28,FU$5:FX$5)","v":0},{"$f":"IF(FN28=1,SUMIF(FU$4:FX$4,$S28,FU$7:FX$7)*FO28,IF(FN28=\"ГН\",FQ28*SUMIF(FU$4:FX$4,$S28,FU$5:FX$5),IF(FN28=2,FQ28*SUMIF(FU$4:FX$4,$S28,FU$5:FX$5)+FO28*SUMIF(FU$4:FX$4,$S28,FU$6:FX$6),0)))","v":0},1,{"$f":"100.645-FZ20-FZ29","v":84.734999999999999},0.30500000000000005,{"$f":"0.226571-GB20-GB29","v":0.19738299999999998},{"$f":"IF(IF($Q28=1,GA28*$Q$10-GB28,GA28-GB28)<0,0,IF($Q28=1,GA28*$Q$10-GB28,GA28-GB28))","v":0.10761700000000007},{"$f":"IFERROR(GC28/GA28,0)","v":0.35284262295081986},{"$f":"MIN(FS28,FH28,EW28,EL28,EA28,DP28,DE28,CX28,CQ28,CJ28,CC28,BV28,GD28)","v":0},{"$f":"IF(AND(GE28>0.4,GI28>0),GC28*GF$11,0)","v":0},{"$f":"SUM(GH28:GI28)","v":0},{"$f":"GF28*SUMIF(GF$4:GI$4,$S28,GF$5:GI$5)","v":0},{"$f":"IF(FY28=1,SUMIF(GF$4:GI$4,$S28,GF$7:GI$7)*FZ28,IF(FY28=\"ГН\",GB28*SUMIF(GF$4:GI$4,$S28,GF$5:GI$5),IF(FY28=2,GB28*SUMIF(GF$4:GI$4,$S28,GF$5:GI$5)+FZ28*SUMIF(GF$4:GI$4,$S28,GF$6:GI$6),0)))","v":0},1,{"$f":"110.378-GK20-GK29","v":91.787999999999997},0.30500000000000005,{"$f":"0.254545-GM20-GM29","v":0.22184300000000001},{"$f":"IF(IF($Q28=1,GL28*$Q$10-GM28,GL28-GM28)<0,0,IF($Q28=1,GL28*$Q$10-GM28,GL28-GM28))","v":8.3157000000000036E-2},{"$f":"IFERROR(GN28/GL28,0)","v":0.27264590163934432},{"$f":"MIN(GD28,FS28,FH28,EW28,EL28,EA28,DP28,DE28,CX28,CQ28,CJ28,CC28,GO28)","v":0},{"$f":"IF(AND(GP28>0.4,GT28>0),GN28*GQ$11,0)","v":0},{"$f":"SUM(GS28:GT28)","v":0},{"$f":"GQ28*SUMIF(GQ$4:GT$4,$S28,GQ$5:GT$5)","v":0},{"$f":"IF(GJ28=1,SUMIF(GQ$4:GT$4,$S28,GQ$7:GT$7)*GK28,IF(GJ28=\"ГН\",GM28*SUMIF(GQ$4:GT$4,$S28,GQ$5:GT$5),IF(GJ28=2,GM28*SUMIF(GQ$4:GT$4,$S28,GQ$5:GT$5)+GK28*SUMIF(GQ$4:GT$4,$S28,GQ$6:GT$6),0)))","v":0},1,{"$f":"106.886-GV20-GV29","v":89.385999999999996},0.30500000000000005,{"$f":"0.214691-GX20-GX29","v":0.18415499999999999},{"$f":"IF(IF($Q28=1,GW28*$Q$10-GX28,GW28-GX28)<0,0,IF($Q28=1,GW28*$Q$10-GX28,GW28-GX28))","v":0.12084500000000006},{"$f":"IFERROR(GY28/GW28,0)","v":0.39621311475409848},{"$f":"MIN(GO28,GD28,FS28,FH28,EW28,EL28,EA28,DP28,DE28,CX28,CQ28,CJ28,GZ28)","v":0},{"$f":"IF(AND(HA28>0.4,HE28>0),GY28*HB$11,0)","v":0},{"$f":"SUM(HD28:HE28)","v":0},{"$f":"HB28*SUMIF(HB$4:HE$4,$S28,HB$5:HE$5)","v":0},{"$f":"IF(GU28=1,SUMIF(HB$4:HE$4,$S28,HB$7:HE$7)*GV28,IF(GU28=\"ГН\",GX28*SUMIF(HB$4:HE$4,$S28,HB$5:HE$5),IF(GU28=2,GX28*SUMIF(HB$4:HE$4,$S28,HB$5:HE$5)+GV28*SUMIF(HB$4:HE$4,$S28,HB$6:HE$6),0)))","v":0},1,{"$f":"110.467-HG20-HG29","v":92.716999999999999},0.30500000000000005,{"$f":"0.22924-HI20-HI29","v":0.19853899999999999},{"$f":"IF(IF($Q28=1,HH28*$Q$10-HI28,HH28-HI28)<0,0,IF($Q28=1,HH28*$Q$10-HI28,HH28-HI28))","v":0.10646100000000006},{"$f":"IFERROR(HJ28/HH28,0)","v":0.34905245901639359},{"$f":"MIN(GZ28,GO28,GD28,FS28,FH28,EW28,EL28,EA28,DP28,DE28,CX28,CQ28,HK28)","v":0.27264590163934432},{"$f":"IF(AND(HL28>0.4,HP28>0),HJ28*HM$11,0)","v":0},{"$f":"SUM(HO28:HP28)","v":0},{"$f":"HM28*SUMIF(HM$4:HP$4,$S28,HM$5:HP$5)","v":0},{"$f":"IF(HF28=1,SUMIF(HM$4:HP$4,$S28,HM$7:HP$7)*HG28,IF(HF28=\"ГН\",HI28*SUMIF(HM$4:HP$4,$S28,HM$5:HP$5),IF(HF28=2,HI28*SUMIF(HM$4:HP$4,$S28,HM$5:HP$5)+HG28*SUMIF(HM$4:HP$4,$S28,HM$6:HP$6),0)))","v":0},null,null,null,null,{"$f":"IF(IF($Q28=1,HS28*$Q$10-HT28,HS28-HT28)<0,0,IF($Q28=1,HS28*$Q$10-HT28,HS28-HT28))","v":0},{"$f":"IFERROR(HU28/HS28,0)","v":0},{"$f":"MIN(HK28,GZ28,GO28,GD28,FS28,FH28,EW28,EL28,EA28,DP28,DE28,CX28,HV28)","v":0},{"$f":"IF(AND(HW28>0.4,IA28>0),HU28*HX$11,0)","v":0},{"$f":"SUM(HZ28:IA28)","v":0},{"$f":"HX28*SUMIF(HX$4:IA$4,$S28,HX$5:IA$5)","v":0},{"$f":"IF(HQ28=1,SUMIF(HX$4:IA$4,$S28,HX$7:IA$7)*HR28,IF(HQ28=\"ГН\",HT28*SUMIF(HX$4:IA$4,$S28,HX$5:IA$5),IF(HQ28=2,HT28*SUMIF(HX$4:IA$4,$S28,HX$5:IA$5)+HR28*SUMIF(HX$4:IA$4,$S28,HX$6:IA$6),0)))","v":0},{"$f":"IFERROR(AVERAGE(HQ28,HF28,GU28,GJ28,FY28,FN28,FC28,ER28,EG28,DV28,DK28,CZ28),0)","v":1},{"$f":"SUM(HR28,HG28,GV28,GK28,FZ28,FO28,FD28,ES28,EH28,DW28,DL28,DA28)","v":398.84700000000004},{"$f":"IFERROR(AVERAGE(HS28,HH28,GW28,GL28,GA28,FP28,FE28,ET28,EI28,DX28,DM28,DB28),0)","v":0.3050000000000001},{"$f":"IFERROR(AVERAGE(HT28,HI28,GX28,GM28,GB28,FQ28,FF28,EU28,EJ28,DY28,DN28,DC28),0)","v":8.2481545454545432E-2},{"$f":"IFERROR(AVERAGE(HU28,HJ28,GY28,GN28,GC28,FR28,FG28,EV28,EK28,DZ28,DO28,DD28),0)","v":0.20397525000000002},{"$f":"IFERROR(IF28/ID28,0)","v":0.66877131147540969},{"$f":"IFERROR(AVERAGE(HX28,HM28,HB28,GQ28,GF28,FU28,FJ28,EY28,EN28,EC28,DR28,DG28),0)","v":0},{"$f":"IJ28+IK28","v":0},{"$f":"SUM(HZ28,HO28,HD28,GS28,GH28,FW28,FL28,FA28,EP28,EE28,DT28,DI28)","v":0},{"$f":"SUM(IA28,HP28,HE28,GT28,GI28,FX28,FM28,FB28,EQ28,EF28,DU28,DJ28)","v":0}]
["ООО \"МИП \"Кинешма\"","Ивановская область",null,"СИЗО №2  УФСИН по Ив.обл.","ГПП \"Автозаводская\" ООО \"МИП \"Кинешма\", ЗРУ 10кВ, РУ 10кВ, ТП1","Гос. Учреждения","ГУ.Прочие","Федеральный",null,null,null,"менее 670",5612042824,"АО \"ЭнергосбыТ Плюс\"",3703020510,"ООО \"МИП \"Кинешма\"",null,"Э","ВН",null,null,null,null,0,0,0,null,null,null,null,0,0,0,null,null,null,null,0,0,0,null,null,null,null,0,0,0,null,null,null,null,0,0,0,null,null,null,null,0,0,0,null,null,null,null,0,0,0,null,null,null,null,0,0,0,null,null,null,null,0,0,0,null,null,null,null,0,0,0,1,13.5,7.0000000000000007E-2,2.3156E-2,4.6844000000000011E-2,0.66920000000000013,26720.415000000001,1,25.05,7.0000000000000007E-2,4.2966999999999998E-2,2.7033000000000008E-2,0.38618571428571435,0,1,10.35,7.0000000000000007E-2,1.7753000000000001E-2,5.2247000000000002E-2,0.74638571428571421,0,0,0,0,0,1,10.65,7.0000000000000007E-2,1.8268E-2,5.1732000000000007E-2,0.73902857142857148,0,0,0,0,0,1,10.23,7.0000000000000007E-2,1.7547E-2,5.2453000000000007E-2,0.74932857142857145,0,0,0,0,0,1,9.7200000000000006,7.0000000000000007E-2,1.6671999999999999E-2,5.3328000000000007E-2,0.76182857142857141,0,0,0,0,0,1,13.35,7.0000000000000007E-2,2.2898999999999999E-2,4.7101000000000004E-2,0.67287142857142856,0,0,0,0,0,1,14.67,7.0000000000000007E-2,2.5163000000000001E-2,4.4837000000000002E-2,0.64052857142857145,0,0,0,0,0,1,14.43,7.0000000000000007E-2,2.4750999999999999E-2,4.5249000000000011E-2,0.64641428571428583,0,0,0,0,0,1,15.39,7.0000000000000007E-2,2.7324000000000001E-2,4.2676000000000006E-2,0.6096571428571429,0,0,0,0,0,1,17.97,7.0000000000000007E-2,3.0823E-2,3.9177000000000003E-2,0.5596714285714286,0,0,0,0,0,1,16.62,7.0000000000000007E-2,2.8507999999999999E-2,4.1492000000000008E-2,0.59274285714285724,0,0,0,0,0,1,16.829999999999998,7.0000000000000007E-2,2.8868000000000001E-2,4.1132000000000002E-2,0.58760000000000001,0.38618571428571435,0,0,0,0,null,null,null,null,0,0,0,0,0,0,0,1,150.21,7.0000000000000021E-2,2.3506909090909092E-2,4.2618666666666673E-2,0.60883809523809518,0,0,0,0]
["ООО \"МИП \"Кинешма\"","Ивановская область",null,"ООО\"ЖелДорМаш-Кинешма\"","ПС \"Автозаводская-110/10кВ\" ООО \"МИП \"Кинешма\", ф.№125, КЛ10кВ от яч.№35","Прочие","Прочие",null,null,null,null,"670 и выше",5612042824,"АО \"ЭнергосбыТ Плюс\"",3703020510,"ООО \"МИП \"Кинешма\"",1,"Э","ВН",null,null,null,null,null,null,{"$f":"IF(T30=1,SUMIF(W$4:Z$4,$S30,W$7:Z$7)*U30,IF(T30=\"ГН\",W30*SUMIF(W$4:Z$4,$S30,W$5:Z$5),IF(T30=2,W30*SUMIF(W$4:Z$4,$S30,W$5:Z$5)+U30*SUMIF(W$4:Z$4,$S30,W$6:Z$6),0)))","v":0},null,null,null,null,null,null,{"$f":"IF(AA30=1,SUMIF(AD$4:AG$4,$S30,AD$7:AG$7)*AB30,IF(AA30=\"ГН\",AD30*SUMIF(AD$4:AG$4,$S30,AD$5:AG$5),IF(AA30=2,AD30*SUMIF(AD$4:AG$4,$S30,AD$5:AG$5)+AB30*SUMIF(AD$4:AG$4,$S30,AD$6:AG$6),0)))","v":0},null,null,null,null,null,null,{"$f":"IF(AH30=1,SUMIF(AK$4:AN$4,$S30,AK$7:AN$7)*AI30,IF(AH30=\"ГН\",AK30*SUMIF(AK$4:AN$4,$S30,AK$5:AN$5),IF(AH30=2,AK30*SUMIF(AK$4:AN$4,$S30,AK$5:AN$5)+AI30*SUMIF(AK$4:AN$4,$S30,AK$6:AN$6),0)))","v":0},null,null,null,null,null,null,{"$f":"IF(AO30=1,SUMIF(AR$4:AU$4,$S30,AR$7:AU$7)*AP30,IF(AO30=\"ГН\",AR30*SUMIF(AR$4:AU$4,$S30,AR$5:AU$5),IF(AO30=2,AR30*SUMIF(AR$4:AU$4,$S30,AR$5:AU$5)+AP30*SUMIF(AR$4:AU$4,$S30,AR$6:AU$6),0)))","v":0},null,null,null,null,null,null,{"$f":"IF(AV30=1,SUMIF(AY$4:BB$4,$S30,AY$7:BB$7)*AW30,IF(AV30=\"ГН\",AY30*SUMIF(AY$4:BB$4,$S30,AY$5:BB$5),IF(AV30=2,AY30*SUMIF(AY$4:BB$4,$S30,AY$5:BB$5)+AW30*SUMIF(AY$4:BB$4,$S30,AY$6:BB$6),0)))","v":0},null,null,null,null,null,null,{"$f":"IF(BC30=1,SUMIF(BF$4:BI$4,$S30,BF$7:BI$7)*BD30,IF(BC30=\"ГН\",BF30*SUMIF(BF$4:BI$4,$S30,BF$5:BI$5),IF(BC30=2,BF30*SUMIF(BF$4:BI$4,$S30,BF$5:BI$5)+BD30*SUMIF(BF$4:BI$4,$S30,BF$6:BI$6),0)))","v":0},null,null,null,null,null,null,{"$f":"IF(BJ30=1,SUMIF(BM$4:BP$4,$S30,BM$7:BP$7)*BK30,IF(BJ30=\"ГН\",BM30*SUMIF(BM$4:BP$4,$S30,BM$5:BP$5),IF(BJ30=2,BM30*SUMIF(BM$4:BP$4,$S30,BM$5:BP$5)+BK30*SUMIF(BM$4:BP$4,$S30,BM$6:BP$6),0)))","v":0},null,null,null,null,null,null,{"$f":"IF(BQ30=1,SUMIF(BT$4:BW$4,$S30,BT$7:BW$7)*BR30,IF(BQ30=\"ГН\",BT30*SUMIF(BT$4:BW$4,$S30,BT$5:BW$5),IF(BQ30=2,BT30*SUMIF(BT$4:BW$4,$S30,BT$5:BW$5)+BR30*SUMIF(BT$4:BW$4,$S30,BT$6:BW$6),0)))","v":0},null,null,null,null,null,null,{"$f":"IF(BX30=1,SUMIF(CA$4:CD$4,$S30,CA$7:CD$7)*BY30,IF(BX30=\"ГН\",CA30*SUMIF(CA$4:CD$4,$S30,CA$5:CD$5),IF(BX30=2,CA30*SUMIF(CA$4:CD$4,$S30,CA$5:CD$5)+BY30*SUMIF(CA$4:CD$4,$S30,CA$6:CD$6),0)))","v":0},null,null,null,null,null,null,{"$f":"IF(CE30=1,SUMIF(CH$4:CK$4,$S30,CH$7:CK$7)*CF30,IF(CE30=\"ГН\",CH30*SUMIF(CH$4:CK$4,$S30,CH$5:CK$5),IF(CE30=2,CH30*SUMIF(CH$4:CK$4,$S30,CH$5:CK$5)+CF30*SUMIF(CH$4:CK$4,$S30,CH$6:CK$6),0)))","v":0},2,8.532,{"$f":"0.6/2","v":0.3},1.5180000000000001E-2,{"$f":"IF(IF($Q30=1,CN30*$Q$10-CO30,CN30-CO30)<0,0,IF($Q30=1,CN30*$Q$10-CO30,CN30-CO30))","v":0.14982000000000001},{"$f":"IFERROR(CP30/CN30,0)","v":0.49940000000000007},{"$f":"IF(CL30=1,SUMIF(CO$4:CR$4,$S30,CO$7:CR$7)*CM30,IF(CL30=\"ГН\",CO30*SUMIF(CO$4:CR$4,$S30,CO$5:CR$5),IF(CL30=2,CO30*SUMIF(CO$4:CR$4,$S30,CO$5:CR$5)+CM30*SUMIF(CO$4:CR$4,$S30,CO$6:CR$6),0)))","v":21213.919743599999},2,9.2279999999999998,{"$f":"0.6/2","v":0.3},1.5873000000000002E-2,{"$f":"IF(IF($Q30=1,CU30*$Q$10-CV30,CU30-CV30)<0,0,IF($Q30=1,CU30*$Q$10-CV30,CU30-CV30))","v":0.14912700000000001},{"$f":"IFERROR(CW30/CU30,0)","v":0.49709000000000003},{"$f":"IF(CS30=1,SUMIF(CV$4:CY$4,$S30,CV$7:CY$7)*CT30,IF(CS30=\"ГН\",CV30*SUMIF(CV$4:CY$4,$S30,CV$5:CY$5),IF(CS30=2,CV30*SUMIF(CV$4:CY$4,$S30,CV$5:CY$5)+CT30*SUMIF(CV$4:CY$4,$S30,CV$6:CY$6),0)))","v":0},2,9.2690000000000001,0.3,1.6164999999999999E-2,{"$f":"IF(IF($Q30=1,DB30*$Q$10-DC30,DB30-DC30)<0,0,IF($Q30=1,DB30*$Q$10-DC30,DB30-DC30))","v":0.148835},{"$f":"IFERROR(DD30/DB30,0)","v":0.49611666666666665},{"$f":"MIN(CX30,CQ30,CJ30,CC30,BV30,BO30,BH30,BA30,AT30,AM30,AF30,Y30,DE30)","v":0.49611666666666665},{"$f":"IF(AND(DF30>0.4,DJ30>0),DD30*DG$11,0)","v":0},{"$f":"SUM(DI30:DJ30)","v":0},{"$f":"DG30*SUMIF(DG$4:DJ$4,$S30,DG$5:DJ$5)","v":0},{"$f":"IF(CZ30=1,SUMIF(DG$4:DJ$4,$S30,DG$7:DJ$7)*DA30,IF(CZ30=\"ГН\",DC30*SUMIF(DG$4:DJ$4,$S30,DG$5:DJ$5),IF(CZ30=2,DC30*SUMIF(DG$4:DJ$4,$S30,DG$5:DJ$5)+DA30*SUMIF(DG$4:DJ$4,$S30,DG$6:DJ$6),0)))","v":0},2,8.5030000000000001,0.3,1.5852999999999999E-2,{"$f":"IF(IF($Q30=1,DM30*$Q$10-DN30,DM30-DN30)<0,0,IF($Q30=1,DM30*$Q$10-DN30,DM30-DN30))","v":0.149147},{"$f":"IFERROR(DO30/DM30,0)","v":0.49715666666666669},{"$f":"MIN(DE30,CX30,CQ30,CJ30,CC30,BV30,BO30,BH30,BA30,AT30,AM30,AF30,DP30)","v":0.49611666666666665},{"$f":"IF(AND(DQ30>0.4,DU30>0),DO30*DR$11,0)","v":0},{"$f":"SUM(DT30:DU30)","v":0},{"$f":"DR30*SUMIF(DR$4:DU$4,$S30,DR$5:DU$5)","v":0},{"$f":"IF(DK30=1,SUMIF(DR$4:DU$4,$S30,DR$7:DU$7)*DL30,IF(DK30=\"ГН\",DN30*SUMIF(DR$4:DU$4,$S30,DR$5:DU$5),IF(DK30=2,DN30*SUMIF(DR$4:DU$4,$S30,DR$5:DU$5)+DL30*SUMIF(DR$4:DU$4,$S30,DR$6:DU$6),0)))","v":0},2,8.4700000000000006,0.3,1.5032E-2,{"$f":"IF(IF($Q30=1,DX30*$Q$10-DY30,DX30-DY30)<0,0,IF($Q30=1,DX30*$Q$10-DY30,DX30-DY30))","v":0.14996800000000002},{"$f":"IFERROR(DZ30/DX30,0)","v":0.49989333333333341},{"$f":"MIN(DP30,DE30,CX30,CQ30,CJ30,CC30,BV30,BO30,BH30,BA30,AT30,AM30,EA30)","v":0.49611666666666665},{"$f":"IF(AND(EB30>0.4,EF30>0),DZ30*EC$11,0)","v":0},{"$f":"SUM(EE30:EF30)","v":0},{"$f":"EC30*SUMIF(EC$4:EF$4,$S30,EC$5:EF$5)","v":0},{"$f":"IF(DV30=1,SUMIF(EC$4:EF$4,$S30,EC$7:EF$7)*DW30,IF(DV30=\"ГН\",DY30*SUMIF(EC$4:EF$4,$S30,EC$5:EF$5),IF(DV30=2,DY30*SUMIF(EC$4:EF$4,$S30,EC$5:EF$5)+DW30*SUMIF(EC$4:EF$4,$S30,EC$6:EF$6),0)))","v":0},2,7.5730000000000004,0.3,1.3036000000000001E-2,{"$f":"IF(IF($Q30=1,EI30*$Q$10-EJ30,EI30-EJ30)<0,0,IF($Q30=1,EI30*$Q$10-EJ30,EI30-EJ30))","v":0.15196400000000002},{"$f":"IFERROR(EK30/EI30,0)","v":0.5065466666666667},{"$f":"MIN(EA30,DP30,DE30,CX30,CQ30,CJ30,CC30,BV30,BO30,BH30,BA30,AT30,EL30)","v":0.49611666666666665},{"$f":"IF(AND(EM30>0.4,EQ30>0),EK30*EN$11,0)","v":0},{"$f":"SUM(EP30:EQ30)","v":0},{"$f":"EN30*SUMIF(EN$4:EQ$4,$S30,EN$5:EQ$5)","v":0},{"$f":"IF(EG30=1,SUMIF(EN$4:EQ$4,$S30,EN$7:EQ$7)*EH30,IF(EG30=\"ГН\",EJ30*SUMIF(EN$4:EQ$4,$S30,EN$5:EQ$5),IF(EG30=2,EJ30*SUMIF(EN$4:EQ$4,$S30,EN$5:EQ$5)+EH30*SUMIF(EN$4:EQ$4,$S30,EN$6:EQ$6),0)))","v":0},2,6.3940000000000001,0.3,1.1788E-2,{"$f":"IF(IF($Q30=1,ET30*$Q$10-EU30,ET30-EU30)<0,0,IF($Q30=1,ET30*$Q$10-EU30,ET30-EU30))","v":0.15321200000000001},{"$f":"IFERROR(EV30/ET30,0)","v":0.51070666666666675},{"$f":"MIN(EL30,EA30,DP30,DE30,CX30,CQ30,CJ30,CC30,BV30,BO30,BH30,BA30,EW30)","v":0.49611666666666665},{"$f":"IF(AND(EX30>0.4,FB30>0),EV30*EY$11,0)","v":0},{"$f":"SUM(FA30:FB30)","v":0},{"$f":"EY30*SUMIF(EY$4:FB$4,$S30,EY$5:FB$5)","v":0},{"$f":"IF(ER30=1,SUMIF(EY$4:FB$4,$S30,EY$7:FB$7)*ES30,IF(ER30=\"ГН\",EU30*SUMIF(EY$4:FB$4,$S30,EY$5:FB$5),IF(ER30=2,EU30*SUMIF(EY$4:FB$4,$S30,EY$5:FB$5)+ES30*SUMIF(EY$4:FB$4,$S30,EY$6:FB$6),0)))","v":0},2,4.452,0.3,9.3600000000000003E-3,{"$f":"IF(IF($Q30=1,FE30*$Q$10-FF30,FE30-FF30)<0,0,IF($Q30=1,FE30*$Q$10-FF30,FE30-FF30))","v":0.15564},{"$f":"IFERROR(FG30/FE30,0)","v":0.51880000000000004},{"$f":"MIN(EW30,EL30,EA30,DP30,DE30,CX30,CQ30,CJ30,CC30,BV30,BO30,BH30,FH30)","v":0.49611666666666665},{"$f":"IF(AND(FI30>0.4,FM30>0),FG30*FJ$11,0)","v":0},{"$f":"SUM(FL30:FM30)","v":0},{"$f":"FJ30*SUMIF(FJ$4:FM$4,$S30,FJ$5:FM$5)","v":0},{"$f":"IF(FC30=1,SUMIF(FJ$4:FM$4,$S30,FJ$7:FM$7)*FD30,IF(FC30=\"ГН\",FF30*SUMIF(FJ$4:FM$4,$S30,FJ$5:FM$5),IF(FC30=2,FF30*SUMIF(FJ$4:FM$4,$S30,FJ$5:FM$5)+FD30*SUMIF(FJ$4:FM$4,$S30,FJ$6:FM$6),0)))","v":0},2,4.0389999999999997,0.3,9.7090000000000006E-3,{"$f":"IF(IF($Q30=1,FP30*$Q$10-FQ30,FP30-FQ30)<0,0,IF($Q30=1,FP30*$Q$10-FQ30,FP30-FQ30))","v":0.15529100000000001},{"$f":"IFERROR(FR30/FP30,0)","v":0.51763666666666674},{"$f":"MIN(FH30,EW30,EL30,EA30,DP30,DE30,CX30,CQ30,CJ30,CC30,BV30,BO30,FS30)","v":0.49611666666666665},{"$f":"IF(AND(FT30>0.4,FX30>0),FR30*FU$11,0)","v":0},{"$f":"SUM(FW30:FX30)","v":0},{"$f":"FU30*SUMIF(FU$4:FX$4,$S30,FU$5:FX$5)","v":0},{"$f":"IF(FN30=1,SUMIF(FU$4:FX$4,$S30,FU$7:FX$7)*FO30,IF(FN30=\"ГН\",FQ30*SUMIF(FU$4:FX$4,$S30,FU$5:FX$5),IF(FN30=2,FQ30*SUMIF(FU$4:FX$4,$S30,FU$5:FX$5)+FO30*SUMIF(FU$4:FX$4,$S30,FU$6:FX$6),0)))","v":0},2,4.4029999999999996,0.3,8.3999999999999995E-3,{"$f":"IF(IF($Q30=1,GA30*$Q$10-GB30,GA30-GB30)<0,0,IF($Q30=1,GA30*$Q$10-GB30,GA30-GB30))","v":0.15660000000000002},{"$f":"IFERROR(GC30/GA30,0)","v":0.52200000000000013},{"$f":"MIN(FS30,FH30,EW30,EL30,EA30,DP30,DE30,CX30,CQ30,CJ30,CC30,BV30,GD30)","v":0.49611666666666665},{"$f":"IF(AND(GE30>0.4,GI30>0),GC30*GF$11,0)","v":0},{"$f":"SUM(GH30:GI30)","v":0},{"$f":"GF30*SUMIF(GF$4:GI$4,$S30,GF$5:GI$5)","v":0},{"$f":"IF(FY30=1,SUMIF(GF$4:GI$4,$S30,GF$7:GI$7)*FZ30,IF(FY30=\"ГН\",GB30*SUMIF(GF$4:GI$4,$S30,GF$5:GI$5),IF(FY30=2,GB30*SUMIF(GF$4:GI$4,$S30,GF$5:GI$5)+FZ30*SUMIF(GF$4:GI$4,$S30,GF$6:GI$6),0)))","v":0},2,5.1479999999999997,0.3,1.0473E-2,{"$f":"IF(IF($Q30=1,GL30*$Q$10-GM30,GL30-GM30)<0,0,IF($Q30=1,GL30*$Q$10-GM30,GL30-GM30))","v":0.154527},{"$f":"IFERROR(GN30/GL30,0)","v":0.51509000000000005},{"$f":"MIN(GD30,FS30,FH30,EW30,EL30,EA30,DP30,DE30,CX30,CQ30,CJ30,CC30,GO30)","v":0.49611666666666665},{"$f":"IF(AND(GP30>0.4,GT30>0),GN30*GQ$11,0)","v":0},{"$f":"SUM(GS30:GT30)","v":0},{"$f":"GQ30*SUMIF(GQ$4:GT$4,$S30,GQ$5:GT$5)","v":0},{"$f":"IF(GJ30=1,SUMIF(GQ$4:GT$4,$S30,GQ$7:GT$7)*GK30,IF(GJ30=\"ГН\",GM30*SUMIF(GQ$4:GT$4,$S30,GQ$5:GT$5),IF(GJ30=2,GM30*SUMIF(GQ$4:GT$4,$S30,GQ$5:GT$5)+GK30*SUMIF(GQ$4:GT$4,$S30,GQ$6:GT$6),0)))","v":0},2,6.7329999999999997,0.3,1.2545000000000001E-2,{"$f":"IF(IF($Q30=1,GW30*$Q$10-GX30,GW30-GX30)<0,0,IF($Q30=1,GW30*$Q$10-GX30,GW30-GX30))","v":0.15245500000000001},{"$f":"IFERROR(GY30/GW30,0)","v":0.50818333333333343},{"$f":"MIN(GO30,GD30,FS30,FH30,EW30,EL30,EA30,DP30,DE30,CX30,CQ30,CJ30,GZ30)","v":0.49611666666666665},{"$f":"IF(AND(HA30>0.4,HE30>0),GY30*HB$11,0)","v":0},{"$f":"SUM(HD30:HE30)","v":0},{"$f":"HB30*SUMIF(HB$4:HE$4,$S30,HB$5:HE$5)","v":0},{"$f":"IF(GU30=1,SUMIF(HB$4:HE$4,$S30,HB$7:HE$7)*GV30,IF(GU30=\"ГН\",GX30*SUMIF(HB$4:HE$4,$S30,HB$5:HE$5),IF(GU30=2,GX30*SUMIF(HB$4:HE$4,$S30,HB$5:HE$5)+GV30*SUMIF(HB$4:HE$4,$S30,HB$6:HE$6),0)))","v":0},2,8.15,0.3,1.4460000000000001E-2,0.15054000000000001,{"$f":"IFERROR(HJ30/HH30,0)","v":0.50180000000000002},{"$f":"MIN(GZ30,GO30,GD30,FS30,FH30,EW30,EL30,EA30,DP30,DE30,CX30,CQ30,HK30)","v":0.49611666666666665},{"$f":"IF(AND(HL30>0.4,HP30>0),HJ30*HM$11,0)","v":0},{"$f":"SUM(HO30:HP30)","v":0},{"$f":"HM30*SUMIF(HM$4:HP$4,$S30,HM$5:HP$5)","v":0},{"$f":"IF(HF30=1,SUMIF(HM$4:HP$4,$S30,HM$7:HP$7)*HG30,IF(HF30=\"ГН\",HI30*SUMIF(HM$4:HP$4,$S30,HM$5:HP$5),IF(HF30=2,HI30*SUMIF(HM$4:HP$4,$S30,HM$5:HP$5)+HG30*SUMIF(HM$4:HP$4,$S30,HM$6:HP$6),0)))","v":0},null,null,null,null,{"$f":"IF(IF($Q30=1,HS30*$Q$10-HT30,HS30-HT30)<0,0,IF($Q30=1,HS30*$Q$10-HT30,HS30-HT30))","v":0},{"$f":"IFERROR(HU30/HS30,0)","v":0},{"$f":"MIN(HK30,GZ30,GO30,GD30,FS30,FH30,EW30,EL30,EA30,DP30,DE30,CX30,HV30)","v":0},{"$f":"IF(AND(HW30>0.4,IA30>0),HU30*HX$11,0)","v":0},{"$f":"SUM(HZ30:IA30)","v":0},{"$f":"HX30*SUMIF(HX$4:IA$4,$S30,HX$5:IA$5)","v":0},{"$f":"IF(HQ30=1,SUMIF(HX$4:IA$4,$S30,HX$7:IA$7)*HR30,IF(HQ30=\"ГН\",HT30*SUMIF(HX$4:IA$4,$S30,HX$5:IA$5),IF(HQ30=2,HT30*SUMIF(HX$4:IA$4,$S30,HX$5:IA$5)+HR30*SUMIF(HX$4:IA$4,$S30,HX$6:IA$6),0)))","v":0},2,73.134,0.29999999999999993,1.243827272727273E-2,{"$f":"IFERROR(AVERAGE(HU30,HJ30,GY30,GN30,GC30,FR30,FG30,EV30,EK30,DZ30,DO30,DD30),0)","v":0.13984825000000001},{"$f":"IFERROR(IF30/ID30,0)","v":0.46616083333333347},{"$f":"IFERROR(AVERAGE(HX30,HM30,HB30,GQ30,GF30,FU30,FJ30,EY30,EN30,EC30,DR30,DG30),0)","v":0},0,0,{"$f":"SUM(IA30,HP30,HE30,GT30,GI30,FX30,FM30,FB30,EQ30,EF30,DU30,DJ30)","v":0}]
["ООО \"МИП \"Кинешма\"","Ивановская область",null,"ООО\"ЖелДорМаш-Кинешма\"","ПС \"Автозаводская-110/10кВ\" ООО \"МИП \"Кинешма\", ф.№128, КЛ10кВ от яч.№32","Прочие","Прочие",null,null,null,null,"670 и выше",5612042824,"АО \"ЭнергосбыТ Плюс\"",3703020510,"ООО \"МИП \"Кинешма\"",1,"Э","ВН",null,null,null,null,null,null,0,null,null,null,null,null,null,0,null,null,null,null,null,null,0,null,null,null,null,null,null,0,null,null,null,null,null,null,0,null,null,null,null,null,null,0,null,null,null,null,null,null,0,null,null,null,null,null,null,0,null,null,null,null,null,null,0,null,null,null,null,null,null,0,2,0,{"$f":"0.6/2","v":0.3},0,0.16500000000000001,0.55000000000000004,0,2,0,{"$f":"0.6/2","v":0.3},0,0.16500000000000001,0.55000000000000004,0,2,0,0.3,0,0.16500000000000001,0.55000000000000004,0.55000000000000004,0,0,0,0,2,0,0.3,0,0.16500000000000001,0.55000000000000004,0.55000000000000004,0,0,0,0,2,0,0.3,0,0.16500000000000001,0.55000000000000004,0.55000000000000004,0,0,0,0,2,0,0.3,0,0.16500000000000001,0.55000000000000004,0.55000000000000004,0,0,0,0,2,0,0.3,0,0.16500000000000001,0.55000000000000004,0.55000000000000004,0,0,0,0,2,0,0.3,0,0.16500000000000001,0.55000000000000004,0.55000000000000004,0,0,0,0,2,0,0.3,0,0.16500000000000001,0.55000000000000004,0.55000000000000004,0,0,0,0,2,0,0.3,0,0.16500000000000001,0.55000000000000004,0.55000000000000004,0,0,0,0,2,0,0.3,0,0.16500000000000001,0.55000000000000004,0.55000000000000004,0,0,0,0,2,0,0.3,0,0.16500000000000001,0.55000000000000004,0.55000000000000004,0,0,0,0,2,0.42499999999999999,0.3,3.5999999999999999E-3,0.16140000000000002,0.53800000000000003,0.53800000000000003,0,0,0,0,null,null,null,null,0,0,0,0,0,0,0,2,0.42499999999999999,0.29999999999999993,3.2727272727272726E-4,0.15095000000000003,0.50316666666666687,0,0,0,0]
["ООО \"МИП \"Кинешма\"","Ивановская область",null,"Горбунов А.В.","ПС \"Автозаводская-110/10кВ\" ООО \"МИП \"Кинешма\", ф.№115, КЛ10кВ от яч.№23","Промышленность","Производство",null,null,null,null,"670 и выше",5612042824,"АО \"ЭнергосбыТ Плюс\"",3703020510,"ООО \"МИП \"Кинешма\"",1,"Э","ВН",null,null,null,null,null,null,{"$f":"IF(T32=1,SUMIF(W$4:Z$4,$S32,W$7:Z$7)*U32,IF(T32=\"ГН\",W32*SUMIF(W$4:Z$4,$S32,W$5:Z$5),IF(T32=2,W32*SUMIF(W$4:Z$4,$S32,W$5:Z$5)+U32*SUMIF(W$4:Z$4,$S32,W$6:Z$6),0)))","v":0},null,null,null,null,null,null,{"$f":"IF(AA32=1,SUMIF(AD$4:AG$4,$S32,AD$7:AG$7)*AB32,IF(AA32=\"ГН\",AD32*SUMIF(AD$4:AG$4,$S32,AD$5:AG$5),IF(AA32=2,AD32*SUMIF(AD$4:AG$4,$S32,AD$5:AG$5)+AB32*SUMIF(AD$4:AG$4,$S32,AD$6:AG$6),0)))","v":0},null,null,null,null,null,null,{"$f":"IF(AH32=1,SUMIF(AK$4:AN$4,$S32,AK$7:AN$7)*AI32,IF(AH32=\"ГН\",AK32*SUMIF(AK$4:AN$4,$S32,AK$5:AN$5),IF(AH32=2,AK32*SUMIF(AK$4:AN$4,$S32,AK$5:AN$5)+AI32*SUMIF(AK$4:AN$4,$S32,AK$6:AN$6),0)))","v":0},null,null,null,null,null,null,{"$f":"IF(AO32=1,SUMIF(AR$4:AU$4,$S32,AR$7:AU$7)*AP32,IF(AO32=\"ГН\",AR32*SUMIF(AR$4:AU$4,$S32,AR$5:AU$5),IF(AO32=2,AR32*SUMIF(AR$4:AU$4,$S32,AR$5:AU$5)+AP32*SUMIF(AR$4:AU$4,$S32,AR$6:AU$6),0)))","v":0},null,null,null,null,null,null,{"$f":"IF(AV32=1,SUMIF(AY$4:BB$4,$S32,AY$7:BB$7)*AW32,IF(AV32=\"ГН\",AY32*SUMIF(AY$4:BB$4,$S32,AY$5:BB$5),IF(AV32=2,AY32*SUMIF(AY$4:BB$4,$S32,AY$5:BB$5)+AW32*SUMIF(AY$4:BB$4,$S32,AY$6:BB$6),0)))","v":0},null,null,null,null,null,null,{"$f":"IF(BC32=1,SUMIF(BF$4:BI$4,$S32,BF$7:BI$7)*BD32,IF(BC32=\"ГН\",BF32*SUMIF(BF$4:BI$4,$S32,BF$5:BI$5),IF(BC32=2,BF32*SUMIF(BF$4:BI$4,$S32,BF$5:BI$5)+BD32*SUMIF(BF$4:BI$4,$S32,BF$6:BI$6),0)))","v":0},null,null,null,null,null,null,{"$f":"IF(BJ32=1,SUMIF(BM$4:BP$4,$S32,BM$7:BP$7)*BK32,IF(BJ32=\"ГН\",BM32*SUMIF(BM$4:BP$4,$S32,BM$5:BP$5),IF(BJ32=2,BM32*SUMIF(BM$4:BP$4,$S32,BM$5:BP$5)+BK32*SUMIF(BM$4:BP$4,$S32,BM$6:BP$6),0)))","v":0},null,null,null,null,null,null,{"$f":"IF(BQ32=1,SUMIF(BT$4:BW$4,$S32,BT$7:BW$7)*BR32,IF(BQ32=\"ГН\",BT32*SUMIF(BT$4:BW$4,$S32,BT$5:BW$5),IF(BQ32=2,BT32*SUMIF(BT$4:BW$4,$S32,BT$5:BW$5)+BR32*SUMIF(BT$4:BW$4,$S32,BT$6:BW$6),0)))","v":0},null,null,null,null,null,null,{"$f":"IF(BX32=1,SUMIF(CA$4:CD$4,$S32,CA$7:CD$7)*BY32,IF(BX32=\"ГН\",CA32*SUMIF(CA$4:CD$4,$S32,CA$5:CD$5),IF(BX32=2,CA32*SUMIF(CA$4:CD$4,$S32,CA$5:CD$5)+BY32*SUMIF(CA$4:CD$4,$S32,CA$6:CD$6),0)))","v":0},null,null,null,null,null,null,{"$f":"IF(CE32=1,SUMIF(CH$4:CK$4,$S32,CH$7:CK$7)*CF32,IF(CE32=\"ГН\",CH32*SUMIF(CH$4:CK$4,$S32,CH$5:CK$5),IF(CE32=2,CH32*SUMIF(CH$4:CK$4,$S32,CH$5:CK$5)+CF32*SUMIF(CH$4:CK$4,$S32,CH$6:CK$6),0)))","v":0},2,{"$f":"182.218-121.778-50.329","v":10.110999999999983},{"$f":"(2.32-0.45-0.2)/2","v":0.83499999999999996},{"$f":"0.032-CO33","v":3.1200000000000002E-2},{"$f":"IF(IF($Q32=1,CN32*$Q$10-CO32,CN32-CO32)<0,0,IF($Q32=1,CN32*$Q$10-CO32,CN32-CO32))","v":0.42804999999999999},{"$f":"IFERROR(CP32/CN32,0)","v":0.51263473053892217},{"$f":"IF(CL32=1,SUMIF(CO$4:CR$4,$S32,CO$7:CR$7)*CM32,IF(CL32=\"ГН\",CO32*SUMIF(CO$4:CR$4,$S32,CO$5:CR$5),IF(CL32=2,CO32*SUMIF(CO$4:CR$4,$S32,CO$5:CR$5)+CM32*SUMIF(CO$4:CR$4,$S32,CO$6:CR$6),0)))","v":42936.292443999999},2,{"$f":"195.079-CT34-CT35","v":10.817999999999998},{"$f":"(2.32-0.45-0.2)/2","v":0.83499999999999996},{"$f":"0.031-CV33","v":3.0200000000000001E-2},0.42904999999999999,0.51383233532934136,0,2,{"$f":"185.553-DA34-DA35","v":8.5949999999999989},0.83499999999999996,{"$f":"0.032-DC33","v":3.1200000000000002E-2},0.42804999999999999,0.51263473053892217,0.51263473053892217,0,0,0,{"$f":"IF(CZ32=1,SUMIF(DG$4:DJ$4,$S32,DG$7:DJ$7)*DA32,IF(CZ32=\"ГН\",DC32*SUMIF(DG$4:DJ$4,$S32,DG$5:DJ$5),IF(CZ32=2,DC32*SUMIF(DG$4:DJ$4,$S32,DG$5:DJ$5)+DA32*SUMIF(DG$4:DJ$4,$S32,DG$6:DJ$6),0)))","v":0},2,{"$f":"193.518-DL34-DL35","v":7.2690000000000126},0.83499999999999996,{"$f":"0.024-DN33","v":2.3200000000000002E-2},0.43604999999999999,0.52221556886227549,0.51263473053892217,0,0,0,{"$f":"IF(DK32=1,SUMIF(DR$4:DU$4,$S32,DR$7:DU$7)*DL32,IF(DK32=\"ГН\",DN32*SUMIF(DR$4:DU$4,$S32,DR$5:DU$5),IF(DK32=2,DN32*SUMIF(DR$4:DU$4,$S32,DR$5:DU$5)+DL32*SUMIF(DR$4:DU$4,$S32,DR$6:DU$6),0)))","v":0},2,{"$f":"198.317-DW34-DW35","v":8.2930000000000135},0.83499999999999996,{"$f":"0.025-DY33","v":2.4200000000000003E-2},0.43504999999999999,0.5210179640718563,0.51263473053892217,0,0,0,{"$f":"IF(DV32=1,SUMIF(EC$4:EF$4,$S32,EC$7:EF$7)*DW32,IF(DV32=\"ГН\",DY32*SUMIF(EC$4:EF$4,$S32,EC$5:EF$5),IF(DV32=2,DY32*SUMIF(EC$4:EF$4,$S32,EC$5:EF$5)+DW32*SUMIF(EC$4:EF$4,$S32,EC$6:EF$6),0)))","v":0},2,{"$f":"175.813-EH34-EH35","v":6.4949999999999903},0.83499999999999996,{"$f":"0.019-EJ33","v":1.8200000000000001E-2},0.44105,0.52820359281437124,0.51263473053892217,0,0,0,{"$f":"IF(EG32=1,SUMIF(EN$4:EQ$4,$S32,EN$7:EQ$7)*EH32,IF(EG32=\"ГН\",EJ32*SUMIF(EN$4:EQ$4,$S32,EN$5:EQ$5),IF(EG32=2,EJ32*SUMIF(EN$4:EQ$4,$S32,EN$5:EQ$5)+EH32*SUMIF(EN$4:EQ$4,$S32,EN$6:EQ$6),0)))","v":0},2,{"$f":"201.75-ES34-ES35","v":4.2409999999999926},0.83499999999999996,{"$f":"0.015-EU33","v":1.4199999999999999E-2},0.44505,0.5329940119760479,0.51263473053892217,0,0,0,{"$f":"IF(ER32=1,SUMIF(EY$4:FB$4,$S32,EY$7:FB$7)*ES32,IF(ER32=\"ГН\",EU32*SUMIF(EY$4:FB$4,$S32,EY$5:FB$5),IF(ER32=2,EU32*SUMIF(EY$4:FB$4,$S32,EY$5:FB$5)+ES32*SUMIF(EY$4:FB$4,$S32,EY$6:FB$6),0)))","v":0},2,{"$f":"157.386-FD34-FD35","v":5.1109999999999971},0.83499999999999996,{"$f":"0.016-FF33","v":1.52E-2},0.44405,0.53179640718562882,0.51263473053892217,0,0,0,{"$f":"IF(FC32=1,SUMIF(FJ$4:FM$4,$S32,FJ$7:FM$7)*FD32,IF(FC32=\"ГН\",FF32*SUMIF(FJ$4:FM$4,$S32,FJ$5:FM$5),IF(FC32=2,FF32*SUMIF(FJ$4:FM$4,$S32,FJ$5:FM$5)+FD32*SUMIF(FJ$4:FM$4,$S32,FJ$6:FM$6),0)))","v":0},2,{"$f":"166.927-FO34","v":5.353999999999985},0.83499999999999996,{"$f":"(0.33341+0.099164-FQ34-FQ35)/2","v":2.2313500000000014E-2},0.43693649999999995,0.52327724550898203,0.51263473053892217,0,0,0,{"$f":"IF(FN32=1,SUMIF(FU$4:FX$4,$S32,FU$7:FX$7)*FO32,IF(FN32=\"ГН\",FQ32*SUMIF(FU$4:FX$4,$S32,FU$5:FX$5),IF(FN32=2,FQ32*SUMIF(FU$4:FX$4,$S32,FU$5:FX$5)+FO32*SUMIF(FU$4:FX$4,$S32,FU$6:FX$6),0)))","v":0},2,0.27400000000000002,0.83499999999999996,8.0000000000000004E-4,0.45844999999999997,0.54904191616766462,0.51263473053892217,0,0,0,{"$f":"IF(FY32=1,SUMIF(GF$4:GI$4,$S32,GF$7:GI$7)*FZ32,IF(FY32=\"ГН\",GB32*SUMIF(GF$4:GI$4,$S32,GF$5:GI$5),IF(FY32=2,GB32*SUMIF(GF$4:GI$4,$S32,GF$5:GI$5)+FZ32*SUMIF(GF$4:GI$4,$S32,GF$6:GI$6),0)))","v":0},2,0.26800000000000002,0.83499999999999996,8.0000000000000004E-4,0.45844999999999997,0.54904191616766462,0.51263473053892217,0,0,0,{"$f":"IF(GJ32=1,SUMIF(GQ$4:GT$4,$S32,GQ$7:GT$7)*GK32,IF(GJ32=\"ГН\",GM32*SUMIF(GQ$4:GT$4,$S32,GQ$5:GT$5),IF(GJ32=2,GM32*SUMIF(GQ$4:GT$4,$S32,GQ$5:GT$5)+GK32*SUMIF(GQ$4:GT$4,$S32,GQ$6:GT$6),0)))","v":0},2,0.22900000000000001,0.83499999999999996,8.0000000000000004E-4,0.45844999999999997,0.54904191616766462,0.51263473053892217,0,0,0,{"$f":"IF(GU32=1,SUMIF(HB$4:HE$4,$S32,HB$7:HE$7)*GV32,IF(GU32=\"ГН\",GX32*SUMIF(HB$4:HE$4,$S32,HB$5:HE$5),IF(GU32=2,GX32*SUMIF(HB$4:HE$4,$S32,HB$5:HE$5)+GV32*SUMIF(HB$4:HE$4,$S32,HB$6:HE$6),0)))","v":0},2,0.20319999999999999,0.83499999999999996,9.2000000000000003E-4,0.45833000000000002,0.54889820359281438,0.51263473053892217,0,0,0,{"$f":"IF(HF32=1,SUMIF(HM$4:HP$4,$S32,HM$7:HP$7)*HG32,IF(HF32=\"ГН\",HI32*SUMIF(HM$4:HP$4,$S32,HM$5:HP$5),IF(HF32=2,HI32*SUMIF(HM$4:HP$4,$S32,HM$5:HP$5)+HG32*SUMIF(HM$4:HP$4,$S32,HM$6:HP$6),0)))","v":0},null,null,null,null,0,0,0,0,0,0,{"$f":"IF(HQ32=1,SUMIF(HX$4:IA$4,$S32,HX$7:IA$7)*HR32,IF(HQ32=\"ГН\",HT32*SUMIF(HX$4:IA$4,$S32,HX$5:IA$5),IF(HQ32=2,HT32*SUMIF(HX$4:IA$4,$S32,HX$5:IA$5)+HR32*SUMIF(HX$4:IA$4,$S32,HX$6:IA$6),0)))","v":0},2,46.332199999999986,0.83499999999999985,1.3803045454545455E-2,0.40832637499999996,0.48901362275449106,0,0,0,{"$f":"SUM(IA32,HP32,HE32,GT32,GI32,FX32,FM32,FB32,EQ32,EF32,DU32,DJ32)","v":0}]
["ООО \"МИП \"Кинешма\"","Ивановская область",null,"Горбунов А.В.","ПС \"Автозаводская-110/10кВ\" ООО \"МИП \"Кинешма\", ф.№116, КЛ10кВ от яч.№24","Промышленность","Производство",null,null,null,null,"670 и выше",5612042824,"АО \"ЭнергосбыТ Плюс\"",3703020510,"ООО \"МИП \"Кинешма\"",1,"Э","ВН",null,null,null,null,null,null,0,null,null,null,null,null,null,0,null,null,null,null,null,null,0,null,null,null,null,null,null,0,null,null,null,null,null,null,0,null,null,null,null,null,null,0,null,null,null,null,null,null,0,null,null,null,null,null,null,0,null,null,null,null,null,null,0,null,null,null,null,null,null,0,2,0.18959999999999999,{"$f":"(2.32-0.45-0.2)/2","v":0.83499999999999996},8.0000000000000004E-4,0.45844999999999997,0.54904191616766462,1094.6879680000002,2,0.186,{"$f":"(2.32-0.45-0.2)/2","v":0.83499999999999996},8.0000000000000004E-4,0.45844999999999997,0.54904191616766462,0,2,0.186,0.83499999999999996,8.0000000000000004E-4,0.45844999999999997,0.54904191616766462,0.54904191616766462,0,0,0,0,2,0.1704,0.83499999999999996,8.0000000000000004E-4,0.45844999999999997,0.54904191616766462,0.54904191616766462,0,0,0,0,2,0.185,0.83499999999999996,8.0000000000000004E-4,0.45844999999999997,0.54904191616766462,0.54904191616766462,0,0,0,0,2,0.186,0.83499999999999996,8.0000000000000004E-4,0.45844999999999997,0.54904191616766462,0.54904191616766462,0,0,0,0,2,0.21099999999999999,0.83499999999999996,8.0000000000000004E-4,0.45844999999999997,0.54904191616766462,0.54904191616766462,0,0,0,0,2,0.215,0.83499999999999996,8.0000000000000004E-4,0.45844999999999997,0.54904191616766462,0.54904191616766462,0,0,0,0,2,{"$f":"35.052-FO35","v":3.5109999999999992},0.83499999999999996,{"$f":"(0.33341+0.099164-FQ34-FQ35)/2","v":2.2313500000000014E-2},0.43693649999999995,0.52327724550898203,0.52327724550898203,0,0,0,0,2,{"$f":"202.912-FZ34-FZ35","v":8.9940000000000104},0.83499999999999996,{"$f":"0.028-GB32","v":2.7200000000000002E-2},0.43204999999999999,0.51742514970059883,0.51742514970059883,0,0,0,0,2,{"$f":"204.926-GK34-GK35","v":11.418999999999997},0.83499999999999996,{"$f":"0.033-GM32","v":3.2199999999999999E-2},0.42704999999999999,0.51143712574850297,0.51143712574850297,0,0,0,0,2,{"$f":"236.329-GV34-GV35","v":27.323000000000008},0.83499999999999996,{"$f":"0.078-GX32","v":7.7200000000000005E-2},0.38205,0.45754491017964072,0.45754491017964072,0,0,0,0,2,{"$f":"235.5312-HG34-HG35","v":22.458200000000019},0.83499999999999996,{"$f":"0.47624-HI34-HI35","v":4.0591999999999989E-2},0.41865799999999997,0.50138682634730536,0.45754491017964072,0,0,0,0,null,null,null,null,0,0,0,0,0,0,0,2,74.858600000000052,0.83499999999999985,1.8573227272727269E-2,0.40395370833333333,0.48377689620758491,0,0,0,0]
["ООО \"МИП \"Кинешма\"","Ивановская область",null,"ООО \"КФК\"","Яч.№4 КСО-266 РУ-10кВ, ф.1 КТП№4","Промышленность","Производство",null,null,null,null,"менее 670",5612042824,"АО \"ЭнергосбыТ Плюс\"",3703020510,"ООО \"МИП \"Кинешма\"",null,"Э","ВН",null,null,null,null,null,null,0,null,null,null,null,null,null,0,null,null,null,null,null,null,0,null,null,null,null,null,null,0,null,null,null,null,null,null,0,null,null,null,null,null,null,0,null,null,null,null,null,null,0,null,null,null,null,null,null,0,null,null,null,null,null,null,0,null,null,null,null,null,null,0,1,121.77800000000001,0.45,0.25380000000000003,0.19619999999999999,0.43599999999999994,241033.97762000002,1,132.87700000000001,0.45,0.33079999999999998,0.11920000000000003,0.26488888888888895,0,1,138.273,0.45,0.32779999999999998,0.12220000000000003,0.27155555555555561,0.26488888888888895,0,0,0,0,1,146.70599999999999,0.45,0.27405299999999999,0.17594700000000002,0.39099333333333336,0.26488888888888895,0,0,0,0,1,150.29599999999999,0.45,0.169853,0.28014700000000003,0.62254888888888893,0.26488888888888895,0,0,0,0,1,130.934,0.45,0.24915499999999999,0.20084500000000002,0.44632222222222229,0.26488888888888895,0,0,0,0,1,164.13200000000001,0.45,0.26341199999999998,0.18658800000000003,0.41464000000000006,0.26488888888888895,0,0,0,0,1,122.196,0.45,0.21235000000000001,0.23765,0.52811111111111109,0.26488888888888895,0,0,0,0,1,161.57300000000001,0.45,0.25662699999999999,0.19337300000000002,0.42971777777777781,0.26488888888888895,0,0,0,0,1,163.553,0.45,0.27443800000000002,0.175562,0.39013777777777775,0.26488888888888895,0,0,0,0,1,160.04599999999999,0.45,0.27579999999999999,0.17420000000000002,0.38711111111111113,0.26488888888888895,0,0,0,0,1,177.482,0.45,0.31174499999999999,0.13825500000000002,0.30723333333333336,0.26488888888888895,0,0,0,0,1,167.60599999999999,0.45,0.2757,0.17430000000000001,0.38733333333333336,0.26488888888888895,0,0,0,0,null,null,null,null,0,0,0,0,0,0,0,1,1682.7969999999998,0.45000000000000012,0.26281209090909086,0.17158891666666667,0.38130870370370362,0,0,0,0]
["ООО \"МИП \"Кинешма\"","Ивановская область",null,"ООО \"НПП Энергетика\"","ПС \"Автозаводская-110/10кВ\" ООО \"МИП \"Кинешма\", КТП №2","Прочие","Прочие",null,null,null,null,"менее 670",5612042824,"АО \"ЭнергосбыТ Плюс\"",3703020510,"ООО \"МИП \"Кинешма\"",null,"Э","ВН",null,null,null,null,null,null,0,null,null,null,null,null,null,0,null,null,null,null,null,null,0,null,null,null,null,null,null,0,null,null,null,null,null,null,0,null,null,null,null,null,null,0,null,null,null,null,null,null,0,null,null,null,null,null,null,0,null,null,null,null,null,null,0,null,null,null,null,null,null,0,1,50.329000000000001,0.2,0.18044399999999999,1.9556000000000018E-2,9.7780000000000089E-2,99615.686409999995,1,51.384,0.2,0.17397499999999999,2.602500000000002E-2,0.1301250000000001,0,1,38.685000000000002,0.2,0.14748700000000001,5.2513000000000004E-2,0.26256499999999999,9.7780000000000089E-2,0,0,0,0,1,39.542999999999999,0.2,0.15961700000000001,4.0383000000000002E-2,0.20191500000000001,9.7780000000000089E-2,0,0,0,0,1,39.728000000000002,0.2,0.163714,3.6286000000000013E-2,0.18143000000000006,9.7780000000000089E-2,0,0,0,0,1,38.384,0.2,0.14289099999999999,5.7109000000000021E-2,0.2855450000000001,9.7780000000000089E-2,0,0,0,0,1,33.377000000000002,0.2,0.150089,4.9911000000000011E-2,0.24955500000000005,9.7780000000000089E-2,0,0,0,0,1,30.079000000000001,0.2,0.13702400000000001,6.2976000000000004E-2,0.31487999999999999,9.7780000000000089E-2,0,0,0,0,1,31.541,0.2,0.13131999999999999,6.8680000000000019E-2,0.34340000000000009,9.7780000000000089E-2,0,0,0,0,1,30.364999999999998,0.2,0.13378999999999999,6.6210000000000019E-2,0.33105000000000007,9.7780000000000089E-2,0,0,0,0,1,33.460999999999999,0.2,0.131804,6.8196000000000007E-2,0.34098000000000001,9.7780000000000089E-2,0,0,0,0,1,31.524000000000001,0.2,0.125004,7.4996000000000007E-2,0.37498000000000004,9.7780000000000089E-2,0,0,0,0,1,45.466999999999999,0.2,0.15994800000000001,4.0052000000000004E-2,0.20026000000000002,9.7780000000000089E-2,0,0,0,0,null,null,null,null,0,0,0,0,0,0,0,1,392.15400000000005,0.19999999999999998,0.14388072727272727,5.1442666666666671E-2,0.2572133333333334,0,0,0,0]
["ООО \"МИП \"Кинешма\"","Ивановская область",null,"ООО \"Сибгазойл\"","ГПП \"Автозаводская\" ООО \"МИП \"Кинешма\", ЗРУ 10кВ, ф.№105","Прочие","Прочие",null,null,null,null,"менее 670",5612042824,"АО \"ЭнергосбыТ Плюс\"",3703020510,"ООО \"МИП \"Кинешма\"",1,"Э","ВН",null,null,null,null,null,null,0,null,null,null,null,null,null,0,null,null,null,null,null,null,0,null,null,null,null,null,null,0,null,null,null,null,null,null,0,null,null,null,null,null,null,0,null,null,null,null,null,null,0,null,null,null,null,null,null,0,null,null,null,null,null,null,0,null,null,null,null,null,null,0,1,4.3150000000000004,0.2,9.7680000000000006E-3,0.10023200000000002,0.50116000000000005,8540.6363500000007,1,4.6790000000000003,0.2,1.0447E-2,9.9553000000000016E-2,0.49776500000000007,0,1,4.5570000000000004,0.2,1.0913000000000001E-2,9.9087000000000008E-2,0.49543500000000001,0.49543500000000001,0,0,0,0,1,4.0679999999999996,0.2,9.4359999999999999E-3,0.10056400000000001,0.50282000000000004,0.49543500000000001,0,0,0,0,1,4.1790000000000003,0.2,9.2549999999999993E-3,0.10074500000000002,0.50372500000000009,0.49543500000000001,0,0,0,0,1,3.4580000000000002,0.2,7.9310000000000005E-3,0.10206900000000002,0.51034500000000005,0.49543500000000001,0,0,0,0,1,3.7370000000000001,0.2,1.0866000000000001E-2,9.9134000000000014E-2,0.49567000000000005,0.49543500000000001,0,0,0,0,1,3.33,0.2,9.0200000000000002E-3,0.10098000000000001,0.50490000000000002,0.49543500000000001,0,0,0,0,1,3.2959999999999998,0.2,7.6150000000000002E-3,0.10238500000000002,0.51192500000000007,0.49543500000000001,0,0,0,0,1,3.3439999999999999,0.2,8.3350000000000004E-3,0.10166500000000002,0.50832500000000003,0.49543500000000001,0,0,0,0,1,3.9430000000000001,0.2,8.6619999999999996E-3,0.10133800000000001,0.50668999999999997,0.49543500000000001,0,0,0,0,1,5.2119999999999997,0.2,1.0938E-2,9.9062000000000011E-2,0.49531000000000003,0.49531000000000003,0,0,0,0,1,5.1239999999999997,0.2,1.2004000000000001E-2,9.7996000000000014E-2,0.48998000000000003,0.48998000000000003,0,0,0,0,null,null,null,null,0,0,0,0,0,0,0,1,44.247999999999998,0.19999999999999998,9.5431818181818187E-3,9.2085416666666656E-2,0.46042708333333332,0,0,0,0]
["ООО \"МИП \"Кинешма\"","Ивановская область",null,"ООО \"Гранд\"","КТП№32 ООО \"МИП \"Кинешма\", яч.6","Прочие","Прочие",null,null,null,null,"менее 670",5612042824,"АО \"ЭнергосбыТ Плюс\"",3703020510,"ООО \"МИП \"Кинешма\"",null,"Э","СН2",null,null,null,null,null,null,0,null,null,null,null,null,null,0,null,null,null,null,null,null,0,null,null,null,null,null,null,0,null,null,null,null,null,null,0,null,null,null,null,null,null,0,null,null,null,null,null,null,0,null,null,null,null,null,null,0,null,null,null,null,null,null,0,null,null,null,null,null,null,0,1,2.8119999999999998,1.4999999999999999E-2,6.3920000000000001E-3,8.6079999999999993E-3,0.57386666666666664,5776.6634799999993,1,2.948,1.4999999999999999E-2,6.1460000000000004E-3,8.853999999999999E-3,0.59026666666666661,0,1,2.899,1.4999999999999999E-2,6.1060000000000003E-3,8.8939999999999991E-3,0.59293333333333331,0.57386666666666664,0,0,0,0,1,2.5819999999999999,1.4999999999999999E-2,5.9810000000000002E-3,9.0189999999999992E-3,0.60126666666666662,0.57386666666666664,0,0,0,0,1,2.2440000000000002,1.4999999999999999E-2,5.0819999999999997E-3,9.9179999999999997E-3,0.66120000000000001,0.57386666666666664,0,0,0,0,1,1.7609999999999999,1.4999999999999999E-2,4.3829999999999997E-3,1.0617E-2,0.70779999999999998,0.57386666666666664,0,0,0,0,1,1.518,1.4999999999999999E-2,3.9760000000000004E-3,1.1023999999999999E-2,0.73493333333333333,0.57386666666666664,0,0,0,0,1,1.474,1.4999999999999999E-2,4.1989999999999996E-3,1.0801E-2,0.72006666666666663,0.57386666666666664,0,0,0,0,1,1.3759999999999999,1.4999999999999999E-2,3.6700000000000001E-3,1.133E-2,0.7553333333333333,0.57386666666666664,0,0,0,0,1,1.5469999999999999,1.4999999999999999E-2,4.4450000000000002E-3,1.0554999999999998E-2,0.70366666666666655,0.57386666666666664,0,0,0,0,1,1.831,1.4999999999999999E-2,4.6849999999999999E-3,1.0315E-2,0.68766666666666665,0.57386666666666664,0,0,0,0,1,1.9790000000000001,1.4999999999999999E-2,4.8089999999999999E-3,1.0190999999999999E-2,0.67939999999999989,0.57386666666666664,0,0,0,0,1,2.8090000000000002,1.4999999999999999E-2,6.3870000000000003E-3,8.6129999999999991E-3,0.57419999999999993,0.57386666666666664,0,0,0,0,null,null,null,null,0,0,0,0,0,0,0,1,22.020000000000003,1.5000000000000003E-2,4.8839090909090907E-3,9.2730833333333328E-3,0.61820555555555545,0,0,0,0]
["ООО \"МИП \"Кинешма\"","Ивановская область",null,"ОАО \"СМУ-15\"","Стена котельной ООО \"МИП \"Кинешма\"","Прочие","Прочие",null,null,null,null,"менее 670",5612042824,"АО \"ЭнергосбыТ Плюс\"",3703020510,"ООО \"МИП \"Кинешма\"",null,"Э","НН",null,null,null,null,null,null,0,null,null,null,null,null,null,0,null,null,null,null,null,null,0,null,null,null,null,null,null,0,null,null,null,null,null,null,0,null,null,null,null,null,null,0,null,null,null,null,null,null,0,null,null,null,null,null,null,0,null,null,null,null,null,null,0,null,null,null,null,null,null,0,1,{"$f":"4.598-0.146","v":4.452},{"$f":"0.04-CN39","v":3.5000000000000003E-2},{"$f":"0.017608-CO39","v":1.7405E-2},1.7595000000000003E-2,0.50271428571428578,13081.801319999999,1,{"$f":"4.431-CT39","v":3.6390000000000002},{"$f":"0.04-CU39","v":3.5000000000000003E-2},{"$f":"0.014097-CV39","v":1.3032E-2},2.1968000000000001E-2,0.6276571428571428,0,1,{"$f":"4.663-DA39","v":3.6690000000000005},3.5000000000000003E-2,{"$f":"0.019367-DC39","v":1.8030999999999998E-2},1.6969000000000005E-2,0.4848285714285715,0.4848285714285715,0,0,0,0,1,{"$f":"4.804-DL39","v":4.194},3.5000000000000003E-2,{"$f":"0.018425-DN39","v":1.7549000000000002E-2},1.7451000000000001E-2,0.49859999999999999,0.4848285714285715,0,0,0,0,1,{"$f":"3.896-DW39","v":3.246},3.5000000000000003E-2,{"$f":"0.018277-DY39","v":1.7403000000000002E-2},1.7597000000000002E-2,0.50277142857142854,0.4848285714285715,0,0,0,0,1,{"$f":"3.142-EH39","v":3.1419999999999999},3.5000000000000003E-2,{"$f":"0.011935-EJ39","v":1.1934999999999999E-2},2.3065000000000002E-2,0.65900000000000003,0.4848285714285715,0,0,0,0,1,{"$f":"3.142-ES39","v":3.1419999999999999},3.5000000000000003E-2,{"$f":"0.012001-EU39","v":1.2001E-2},2.2999000000000006E-2,0.65711428571428576,0.4848285714285715,0,0,0,0,1,{"$f":"3.261-FD39","v":3.1710000000000003},3.5000000000000003E-2,{"$f":"0.01303-FF39","v":1.2905E-2},2.2095000000000004E-2,0.63128571428571434,0.4848285714285715,0,0,0,0,1,{"$f":"3.129-FO39","v":3.0790000000000002},3.5000000000000003E-2,{"$f":"0.012649-FQ39","v":1.2582000000000001E-2},2.2418E-2,0.6405142857142857,0.4848285714285715,0,0,0,0,1,{"$f":"3.607-FZ39","v":3.6020000000000003},3.5000000000000003E-2,{"$f":"0.014533-GB39","v":1.4489E-2},2.0511000000000001E-2,0.58602857142857145,0.4848285714285715,0,0,0,0,1,{"$f":"3.803-GK39","v":3.77},3.5000000000000003E-2,{"$f":"0.016103-GM39","v":1.6095999999999999E-2},1.8904000000000004E-2,0.54011428571428577,0.4848285714285715,0,0,0,0,1,{"$f":"3.927-GV39","v":3.7960000000000003},3.5000000000000003E-2,{"$f":"0.015354-GX39","v":1.5177999999999999E-2},1.9822000000000006E-2,0.56634285714285726,0.4848285714285715,0,0,0,0,1,{"$f":"4.225-HG39","v":4.093},3.5000000000000003E-2,{"$f":"0.015847-HI39","v":1.5664000000000001E-2},1.9336000000000002E-2,0.55245714285714287,0.4848285714285715,0,0,0,0,null,null,null,null,0,0,0,0,0,0,0,1,38.903999999999996,3.500000000000001E-2,1.4893909090909091E-2,1.8430583333333337E-2,0.52658809523809524,0,0,0,0]
["ООО \"МИП \"Кинешма\"","Ивановская область",null,"ООО \"Газпром\"","ЩУ-0,4кВ на стене здания ОАО \"СМУ-15\"","Прочие","Прочие",null,null,null,null,"менее 670",5612042824,"АО \"ЭнергосбыТ Плюс\"",3703020510,"ООО \"МИП \"Кинешма\"",null,"Э","НН",null,null,null,null,null,null,0,null,null,null,null,null,null,0,null,null,null,null,null,null,0,null,null,null,null,null,null,0,null,null,null,null,null,null,0,null,null,null,null,null,null,0,null,null,null,null,null,null,0,null,null,null,null,null,null,0,null,null,null,null,null,null,0,null,null,null,null,null,null,0,1,0.14599999999999999,5.0000000000000001E-3,2.03E-4,4.797E-3,0.95940000000000003,429.00785999999994,1,0.79200000000000004,5.0000000000000001E-3,1.065E-3,3.9350000000000001E-3,0.78700000000000003,0,1,0.99399999999999999,5.0000000000000001E-3,1.3359999999999999E-3,3.6640000000000002E-3,0.73280000000000001,0.73280000000000001,0,0,0,0,1,0.61,5.0000000000000001E-3,8.7600000000000004E-4,4.1240000000000001E-3,0.82479999999999998,0.73280000000000001,0,0,0,0,1,0.65,5.0000000000000001E-3,8.7399999999999999E-4,4.1260000000000003E-3,0.82520000000000004,0.73280000000000001,0,0,0,0,1,0,5.0000000000000001E-3,0,5.0000000000000001E-3,1,0.73280000000000001,0,0,0,0,1,0,5.0000000000000001E-3,0,5.0000000000000001E-3,1,0.73280000000000001,0,0,0,0,1,0.09,5.0000000000000001E-3,{"$f":"0.000125","v":1.25E-4},4.875E-3,0.97499999999999998,0.73280000000000001,0,0,0,0,1,0.05,5.0000000000000001E-3,6.7000000000000002E-5,4.9329999999999999E-3,0.98659999999999992,0.73280000000000001,0,0,0,0,1,5.0000000000000001E-3,5.0000000000000001E-3,4.3999999999999999E-5,4.9560000000000003E-3,0.99120000000000008,0.73280000000000001,0,0,0,0,1,3.3000000000000002E-2,5.0000000000000001E-3,6.9999999999999999E-6,4.993E-3,0.99860000000000004,0.73280000000000001,0,0,0,0,1,0.13100000000000001,5.0000000000000001E-3,1.76E-4,4.8240000000000002E-3,0.96479999999999999,0.73280000000000001,0,0,0,0,1,0.13200000000000001,5.0000000000000001E-3,1.83E-4,4.8170000000000001E-3,0.96340000000000003,0.73280000000000001,0,0,0,0,null,null,null,null,0,0,0,0,0,0,0,1,2.6950000000000003,4.9999999999999992E-3,3.3527272727272724E-4,4.2760000000000003E-3,0.85520000000000018,0,0,0,0]
["ООО \"МИП \"Кинешма\"","Ивановская область",null,"ООО \"ИТС-Групп\"","КТП№42 ООО \"МИП \"Кинешма\", щит ЩСУ группа 3 в термическом участке МК-1","Прочие","Прочие",null,null,null,null,"менее 670",5612042824,"АО \"ЭнергосбыТ Плюс\"",3703020510,"ООО \"МИП \"Кинешма\"",null,"Э","НН",null,null,null,null,null,null,0,null,null,null,null,null,null,0,null,null,null,null,null,null,0,null,null,null,null,null,null,0,null,null,null,null,null,null,0,null,null,null,null,null,null,0,null,null,null,null,null,null,0,null,null,null,null,null,null,0,null,null,null,null,null,null,0,null,null,null,null,null,null,0,1,2.0699999999999998,2.5000000000000001E-2,6.888E-3,1.8112000000000003E-2,0.72448000000000012,6082.5086999999994,1,3.3730000000000002,2.5000000000000001E-2,1.1264E-2,1.3736000000000002E-2,0.54944000000000004,0,1,2.496,2.5000000000000001E-2,6.2610000000000001E-3,1.8739000000000002E-2,0.74956,0.54944000000000004,0,0,0,0,1,3.004,2.5000000000000001E-2,7.7559999999999999E-3,1.7244000000000002E-2,0.68976000000000004,0.54944000000000004,0,0,0,0,1,3.7090000000000001,2.5000000000000001E-2,1.3604E-2,1.1396000000000002E-2,0.45584000000000002,0.45584000000000002,0,0,0,0,1,3.7690000000000001,2.5000000000000001E-2,1.7165E-2,7.8350000000000017E-3,0.31340000000000007,0.31340000000000007,0,0,0,0,1,3.6829999999999998,2.5000000000000001E-2,1.8275E-2,6.7250000000000018E-3,0.26900000000000007,0.26900000000000007,0,0,0,0,1,3.649,2.5000000000000001E-2,2.0435999999999999E-2,4.5640000000000021E-3,0.18256000000000008,0.18256000000000008,0,0,0,0,1,3.2170000000000001,2.5000000000000001E-2,2.1273E-2,3.7270000000000011E-3,0.14908000000000005,0.14908000000000005,0,0,0,0,1,2.0369999999999999,2.5000000000000001E-2,1.8176999999999999E-2,6.8230000000000027E-3,0.27292000000000011,0.14908000000000005,0,0,0,0,1,1.988,2.5000000000000001E-2,1.7552999999999999E-2,7.4470000000000022E-3,0.29788000000000009,0.14908000000000005,0,0,0,0,1,2.5049999999999999,2.5000000000000001E-2,1.3778E-2,1.1222000000000001E-2,0.44888,0.14908000000000005,0,0,0,0,1,3.3090000000000002,2.5000000000000001E-2,1.5882E-2,9.1180000000000011E-3,0.36472000000000004,0.14908000000000005,0,0,0,0,null,null,null,null,0,0,0,0,0,0,0,1,33.366,2.4999999999999998E-2,1.5469090909090906E-2,8.7366666666666686E-3,0.34946666666666676,0,0,0,0]
["ООО \"МИП \"Кинешма\"","Ивановская область",null,"ООО \"Технотранс\"","ПС \"Автозаводская\" ООО \"МИП \"Кинешма\", ф.№112 яч.21 КТП№5 яч.1-6 в РУ0,4кВ;","Прочие","Прочие",null,null,null,null,"менее 670",5612042824,"АО \"ЭнергосбыТ Плюс\"",3703020510,"ООО \"МИП \"Кинешма\"",null,"Э","СН2",null,null,null,null,null,null,{"$f":"IF(T41=1,SUMIF(W$4:Z$4,$S41,W$7:Z$7)*U41,IF(T41=\"ГН\",W41*SUMIF(W$4:Z$4,$S41,W$5:Z$5),IF(T41=2,W41*SUMIF(W$4:Z$4,$S41,W$5:Z$5)+U41*SUMIF(W$4:Z$4,$S41,W$6:Z$6),0)))","v":0},null,null,null,null,null,null,{"$f":"IF(AA41=1,SUMIF(AD$4:AG$4,$S41,AD$7:AG$7)*AB41,IF(AA41=\"ГН\",AD41*SUMIF(AD$4:AG$4,$S41,AD$5:AG$5),IF(AA41=2,AD41*SUMIF(AD$4:AG$4,$S41,AD$5:AG$5)+AB41*SUMIF(AD$4:AG$4,$S41,AD$6:AG$6),0)))","v":0},null,null,null,null,null,null,{"$f":"IF(AH41=1,SUMIF(AK$4:AN$4,$S41,AK$7:AN$7)*AI41,IF(AH41=\"ГН\",AK41*SUMIF(AK$4:AN$4,$S41,AK$5:AN$5),IF(AH41=2,AK41*SUMIF(AK$4:AN$4,$S41,AK$5:AN$5)+AI41*SUMIF(AK$4:AN$4,$S41,AK$6:AN$6),0)))","v":0},null,null,null,null,null,null,{"$f":"IF(AO41=1,SUMIF(AR$4:AU$4,$S41,AR$7:AU$7)*AP41,IF(AO41=\"ГН\",AR41*SUMIF(AR$4:AU$4,$S41,AR$5:AU$5),IF(AO41=2,AR41*SUMIF(AR$4:AU$4,$S41,AR$5:AU$5)+AP41*SUMIF(AR$4:AU$4,$S41,AR$6:AU$6),0)))","v":0},null,null,null,null,null,null,{"$f":"IF(AV41=1,SUMIF(AY$4:BB$4,$S41,AY$7:BB$7)*AW41,IF(AV41=\"ГН\",AY41*SUMIF(AY$4:BB$4,$S41,AY$5:BB$5),IF(AV41=2,AY41*SUMIF(AY$4:BB$4,$S41,AY$5:BB$5)+AW41*SUMIF(AY$4:BB$4,$S41,AY$6:BB$6),0)))","v":0},null,null,null,null,null,null,{"$f":"IF(BC41=1,SUMIF(BF$4:BI$4,$S41,BF$7:BI$7)*BD41,IF(BC41=\"ГН\",BF41*SUMIF(BF$4:BI$4,$S41,BF$5:BI$5),IF(BC41=2,BF41*SUMIF(BF$4:BI$4,$S41,BF$5:BI$5)+BD41*SUMIF(BF$4:BI$4,$S41,BF$6:BI$6),0)))","v":0},null,null,null,null,null,null,{"$f":"IF(BJ41=1,SUMIF(BM$4:BP$4,$S41,BM$7:BP$7)*BK41,IF(BJ41=\"ГН\",BM41*SUMIF(BM$4:BP$4,$S41,BM$5:BP$5),IF(BJ41=2,BM41*SUMIF(BM$4:BP$4,$S41,BM$5:BP$5)+BK41*SUMIF(BM$4:BP$4,$S41,BM$6:BP$6),0)))","v":0},null,null,null,null,null,null,{"$f":"IF(BQ41=1,SUMIF(BT$4:BW$4,$S41,BT$7:BW$7)*BR41,IF(BQ41=\"ГН\",BT41*SUMIF(BT$4:BW$4,$S41,BT$5:BW$5),IF(BQ41=2,BT41*SUMIF(BT$4:BW$4,$S41,BT$5:BW$5)+BR41*SUMIF(BT$4:BW$4,$S41,BT$6:BW$6),0)))","v":0},null,null,null,null,null,null,{"$f":"IF(BX41=1,SUMIF(CA$4:CD$4,$S41,CA$7:CD$7)*BY41,IF(BX41=\"ГН\",CA41*SUMIF(CA$4:CD$4,$S41,CA$5:CD$5),IF(BX41=2,CA41*SUMIF(CA$4:CD$4,$S41,CA$5:CD$5)+BY41*SUMIF(CA$4:CD$4,$S41,CA$6:CD$6),0)))","v":0},null,null,null,null,null,null,{"$f":"IF(CE41=1,SUMIF(CH$4:CK$4,$S41,CH$7:CK$7)*CF41,IF(CE41=\"ГН\",CH41*SUMIF(CH$4:CK$4,$S41,CH$5:CK$5),IF(CE41=2,CH41*SUMIF(CH$4:CK$4,$S41,CH$5:CK$5)+CF41*SUMIF(CH$4:CK$4,$S41,CH$6:CK$6),0)))","v":0},1,1.119,0.1,4.3790000000000001E-3,{"$f":"IF(IF($Q41=1,CN41*$Q$10-CO41,CN41-CO41)<0,0,IF($Q41=1,CN41*$Q$10-CO41,CN41-CO41))","v":9.5621000000000012E-2},{"$f":"IFERROR(CP41/CN41,0)","v":0.95621000000000012},{"$f":"IF(CL41=1,SUMIF(CO$4:CR$4,$S41,CO$7:CR$7)*CM41,IF(CL41=\"ГН\",CO41*SUMIF(CO$4:CR$4,$S41,CO$5:CR$5),IF(CL41=2,CO41*SUMIF(CO$4:CR$4,$S41,CO$5:CR$5)+CM41*SUMIF(CO$4:CR$4,$S41,CO$6:CR$6),0)))","v":2298.7505099999998},1,1.1279999999999999,0.1,4.3839999999999999E-3,9.5616000000000007E-2,0.95616000000000001,0,1,1.3879999999999999,0.1,4.3759999999999997E-3,9.5624000000000001E-2,0.95623999999999998,0.95616000000000001,0,0,0,{"$f":"IF(CZ41=1,SUMIF(DG$4:DJ$4,$S41,DG$7:DJ$7)*DA41,IF(CZ41=\"ГН\",DC41*SUMIF(DG$4:DJ$4,$S41,DG$5:DJ$5),IF(CZ41=2,DC41*SUMIF(DG$4:DJ$4,$S41,DG$5:DJ$5)+DA41*SUMIF(DG$4:DJ$4,$S41,DG$6:DJ$6),0)))","v":0},1,1.171,0.1,4.3670000000000002E-3,9.563300000000001E-2,0.95633000000000001,0.95616000000000001,0,0,0,{"$f":"IF(DK41=1,SUMIF(DR$4:DU$4,$S41,DR$7:DU$7)*DL41,IF(DK41=\"ГН\",DN41*SUMIF(DR$4:DU$4,$S41,DR$5:DU$5),IF(DK41=2,DN41*SUMIF(DR$4:DU$4,$S41,DR$5:DU$5)+DL41*SUMIF(DR$4:DU$4,$S41,DR$6:DU$6),0)))","v":0},1,1.3680000000000001,0.1,4.3049999999999998E-3,9.5695000000000002E-2,0.95694999999999997,0.95616000000000001,0,0,0,{"$f":"IF(DV41=1,SUMIF(EC$4:EF$4,$S41,EC$7:EF$7)*DW41,IF(DV41=\"ГН\",DY41*SUMIF(EC$4:EF$4,$S41,EC$5:EF$5),IF(DV41=2,DY41*SUMIF(EC$4:EF$4,$S41,EC$5:EF$5)+DW41*SUMIF(EC$4:EF$4,$S41,EC$6:EF$6),0)))","v":0},1,1.2889999999999999,0.1,4.3680000000000004E-3,9.5632000000000009E-2,0.95632000000000006,0.95616000000000001,0,0,0,{"$f":"IF(EG41=1,SUMIF(EN$4:EQ$4,$S41,EN$7:EQ$7)*EH41,IF(EG41=\"ГН\",EJ41*SUMIF(EN$4:EQ$4,$S41,EN$5:EQ$5),IF(EG41=2,EJ41*SUMIF(EN$4:EQ$4,$S41,EN$5:EQ$5)+EH41*SUMIF(EN$4:EQ$4,$S41,EN$6:EQ$6),0)))","v":0},1,1.3029999999999999,0.1,4.2690000000000002E-3,9.5731000000000011E-2,0.95731000000000011,0.95616000000000001,0,0,0,{"$f":"IF(ER41=1,SUMIF(EY$4:FB$4,$S41,EY$7:FB$7)*ES41,IF(ER41=\"ГН\",EU41*SUMIF(EY$4:FB$4,$S41,EY$5:FB$5),IF(ER41=2,EU41*SUMIF(EY$4:FB$4,$S41,EY$5:FB$5)+ES41*SUMIF(EY$4:FB$4,$S41,EY$6:FB$6),0)))","v":0},1,1.292,0.1,4.3439999999999998E-3,9.5656000000000005E-2,0.95655999999999997,0.95616000000000001,0,0,0,{"$f":"IF(FC41=1,SUMIF(FJ$4:FM$4,$S41,FJ$7:FM$7)*FD41,IF(FC41=\"ГН\",FF41*SUMIF(FJ$4:FM$4,$S41,FJ$5:FM$5),IF(FC41=2,FF41*SUMIF(FJ$4:FM$4,$S41,FJ$5:FM$5)+FD41*SUMIF(FJ$4:FM$4,$S41,FJ$6:FM$6),0)))","v":0},1,1.1299999999999999,0.1,4.0940000000000004E-3,9.5906000000000005E-2,0.95906000000000002,0.95616000000000001,0,0,0,{"$f":"IF(FN41=1,SUMIF(FU$4:FX$4,$S41,FU$7:FX$7)*FO41,IF(FN41=\"ГН\",FQ41*SUMIF(FU$4:FX$4,$S41,FU$5:FX$5),IF(FN41=2,FQ41*SUMIF(FU$4:FX$4,$S41,FU$5:FX$5)+FO41*SUMIF(FU$4:FX$4,$S41,FU$6:FX$6),0)))","v":0},1,1.38,0.1,4.365E-3,9.5635000000000012E-2,0.95635000000000003,0.95616000000000001,0,0,0,{"$f":"IF(FY41=1,SUMIF(GF$4:GI$4,$S41,GF$7:GI$7)*FZ41,IF(FY41=\"ГН\",GB41*SUMIF(GF$4:GI$4,$S41,GF$5:GI$5),IF(FY41=2,GB41*SUMIF(GF$4:GI$4,$S41,GF$5:GI$5)+FZ41*SUMIF(GF$4:GI$4,$S41,GF$6:GI$6),0)))","v":0},1,1.073,0.1,4.261E-3,9.5739000000000005E-2,0.95738999999999996,0.95616000000000001,0,0,0,{"$f":"IF(GJ41=1,SUMIF(GQ$4:GT$4,$S41,GQ$7:GT$7)*GK41,IF(GJ41=\"ГН\",GM41*SUMIF(GQ$4:GT$4,$S41,GQ$5:GT$5),IF(GJ41=2,GM41*SUMIF(GQ$4:GT$4,$S41,GQ$5:GT$5)+GK41*SUMIF(GQ$4:GT$4,$S41,GQ$6:GT$6),0)))","v":0},1,0.93600000000000005,0.1,3.9899999999999996E-3,9.6010000000000012E-2,0.96010000000000006,0.95616000000000001,0,0,0,{"$f":"IF(GU41=1,SUMIF(HB$4:HE$4,$S41,HB$7:HE$7)*GV41,IF(GU41=\"ГН\",GX41*SUMIF(HB$4:HE$4,$S41,HB$5:HE$5),IF(GU41=2,GX41*SUMIF(HB$4:HE$4,$S41,HB$5:HE$5)+GV41*SUMIF(HB$4:HE$4,$S41,HB$6:HE$6),0)))","v":0},1,0.88900000000000001,0.1,4.0119999999999999E-3,9.5988000000000004E-2,0.95987999999999996,0.95616000000000001,0,0,0,{"$f":"IF(HF41=1,SUMIF(HM$4:HP$4,$S41,HM$7:HP$7)*HG41,IF(HF41=\"ГН\",HI41*SUMIF(HM$4:HP$4,$S41,HM$5:HP$5),IF(HF41=2,HI41*SUMIF(HM$4:HP$4,$S41,HM$5:HP$5)+HG41*SUMIF(HM$4:HP$4,$S41,HM$6:HP$6),0)))","v":0},null,null,null,null,0,0,0,0,0,0,{"$f":"IF(HQ41=1,SUMIF(HX$4:IA$4,$S41,HX$7:IA$7)*HR41,IF(HQ41=\"ГН\",HT41*SUMIF(HX$4:IA$4,$S41,HX$5:IA$5),IF(HQ41=2,HT41*SUMIF(HX$4:IA$4,$S41,HX$5:IA$5)+HR41*SUMIF(HX$4:IA$4,$S41,HX$6:IA$6),0)))","v":0},1,13.218999999999999,9.9999999999999992E-2,4.2500909090909091E-3,8.7770750000000008E-2,0.8777075000000002,0,0,0,{"$f":"SUM(IA41,HP41,HE41,GT41,GI41,FX41,FM41,FB41,EQ41,EF41,DU41,DJ41)","v":0}]
["ООО \"МИП \"Кинешма\"","Ивановская область",null,"ООО \"Технотранс\"","ПС \"Автозаводская\" ООО \"МИП \"Кинешма\", РП3 10кВ яч.3, КТП№3 яч.1-4 в РУ0,4кВ","Прочие","Прочие",null,null,null,null,"менее 670",5612042824,"АО \"ЭнергосбыТ Плюс\"",3703020510,"ООО \"МИП \"Кинешма\"",null,"Э","СН2",null,null,null,null,null,null,0,null,null,null,null,null,null,0,null,null,null,null,null,null,0,null,null,null,null,null,null,0,null,null,null,null,null,null,0,null,null,null,null,null,null,0,null,null,null,null,null,null,0,null,null,null,null,null,null,0,null,null,null,null,null,null,0,null,null,null,null,null,null,0,1,0,0.1,0,0.1,1,0,1,0,0.1,0,0.1,1,0,1,0,0.1,0,0.1,1,1,0,0,0,0,1,0,0.1,0,0.1,1,1,0,0,0,0,1,0,0.1,0,0.1,1,1,0,0,0,0,1,0,0.1,0,0.1,1,1,0,0,0,0,1,0,0.1,0,0.1,1,1,0,0,0,0,1,0,0.1,0,0.1,1,1,0,0,0,0,1,0,0.1,0,0.1,1,1,0,0,0,0,1,0,0.1,0,0.1,1,1,0,0,0,0,1,0,0.1,0,0.1,1,1,0,0,0,0,1,0,0.1,0,0.1,1,1,0,0,0,0,1,0,0.1,0,0.1,1,1,0,0,0,0,null,null,null,null,0,0,0,0,0,0,0,1,0,9.9999999999999992E-2,0,9.166666666666666E-2,0.91666666666666663,0,0,0,0]
["ООО \"МИП \"Кинешма\"","Ивановская область",null,"ООО \"СвеТ\"","КТП№12 ООО \"МИП \"Кинешма\", РУ04кВ, КЛ 0,22кВ","Прочие","Прочие",null,null,null,null,"менее 670",5612042824,"АО \"ЭнергосбыТ Плюс\"",3703020510,"ООО \"МИП \"Кинешма\"",null,"Э","НН",null,null,null,null,null,null,0,null,null,null,null,null,null,0,null,null,null,null,null,null,0,null,null,null,null,null,null,0,null,null,null,null,null,null,0,null,null,null,null,null,null,0,null,null,null,null,null,null,0,null,null,null,null,null,null,0,null,null,null,null,null,null,0,null,null,null,null,null,null,0,1,0,0.02,0,0.02,1,0,1,0,0.02,0,0.02,1,0,1,9.2999999999999999E-2,0.02,2.6699999999999998E-4,1.9733000000000001E-2,0.98665000000000003,0.98665000000000003,0,0,0,0,1,0.108,0.02,3.1E-4,1.9689999999999999E-2,0.98449999999999993,0.98449999999999993,0,0,0,0,1,0.23100000000000001,0.02,6.4199999999999999E-4,1.9358E-2,0.96789999999999998,0.96789999999999998,0,0,0,0,1,0.16800000000000001,0.02,4.8299999999999998E-4,1.9517E-2,0.97585,0.96789999999999998,0,0,0,0,1,0.24099999999999999,0.02,6.69E-4,1.9331000000000001E-2,0.96655000000000002,0.96655000000000002,0,0,0,0,1,0.222,0.02,6.1700000000000004E-4,1.9383000000000001E-2,0.96915000000000007,0.96655000000000002,0,0,0,0,1,0.20100000000000001,0.02,5.4000000000000001E-4,1.9460000000000002E-2,0.97300000000000009,0.96655000000000002,0,0,0,0,1,0.219,0.02,5.8900000000000001E-4,1.9411000000000001E-2,0.97055000000000002,0.96655000000000002,0,0,0,0,1,0.22900000000000001,0.02,6.3599999999999996E-4,1.9363999999999999E-2,0.96819999999999995,0.96655000000000002,0,0,0,0,1,0.248,0.02,6.6699999999999995E-4,1.9332999999999999E-2,0.96665000000000001,0.96655000000000002,0,0,0,0,1,0.20100000000000001,0.02,5.5800000000000001E-4,1.9442000000000001E-2,0.97210000000000008,0.96655000000000002,0,0,0,0,null,null,null,null,0,0,0,0,0,0,0,1,2.161,1.9999999999999997E-2,5.4345454545454554E-4,1.7835166666666666E-2,0.89175833333333343,0,0,0,0]
["ООО \"МИП \"Кинешма\"","Ивановская область",null,"ООО \"Подкова\"","КТП№1 ООО \"МИП \"Кинешма\", РУ04кВ, КЛ 0,4кВ","Прочие","Прочие",null,null,null,null,"менее 670",5612042824,"АО \"ЭнергосбыТ Плюс\"",3703020510,"ООО \"МИП \"Кинешма\"",null,"Э","НН",null,null,null,null,null,null,0,null,null,null,null,null,null,0,null,null,null,null,null,null,0,null,null,null,null,null,null,0,null,null,null,null,null,null,0,null,null,null,null,null,null,0,null,null,null,null,null,null,0,null,null,null,null,null,null,0,null,null,null,null,null,null,0,null,null,null,null,null,null,0,1,0,0.03,0,0.03,1,0,1,0.97,0.03,3.1289999999999998E-3,2.6870999999999999E-2,0.89570000000000005,0,1,1.08,0.03,4.1380000000000002E-3,2.5862E-2,0.86206666666666665,0.86206666666666665,0,0,0,0,1,1.1499999999999999,0.03,4.4060000000000002E-3,2.5593999999999999E-2,0.8531333333333333,0.8531333333333333,0,0,0,0,1,0.85,0.03,3.0469999999999998E-3,2.6952999999999998E-2,0.89843333333333331,0.8531333333333333,0,0,0,0,1,0,0.03,0,0.03,1,0.8531333333333333,0,0,0,0,1,1.81,0.03,6.7039999999999999E-3,2.3295999999999997E-2,0.7765333333333333,0.7765333333333333,0,0,0,0,1,0.84,0.03,3.1110000000000001E-3,2.6889E-2,0.89629999999999999,0.7765333333333333,0,0,0,0,1,0.80300000000000005,0.03,2.8779999999999999E-3,2.7122E-2,0.90406666666666669,0.7765333333333333,0,0,0,0,1,0.60699999999999998,0.03,2.176E-3,2.7823999999999998E-2,0.92746666666666666,0.7765333333333333,0,0,0,0,1,0.88,0.03,3.2590000000000002E-3,2.6740999999999997E-2,0.89136666666666664,0.7765333333333333,0,0,0,0,1,1.5589999999999999,0.03,5.5880000000000001E-3,2.4412E-2,0.81373333333333331,0.7765333333333333,0,0,0,0,1,0.72099999999999997,0.03,2.6700000000000001E-3,2.733E-2,0.91100000000000003,0.7765333333333333,0,0,0,0,null,null,null,null,0,0,0,0,0,0,0,1,10.299999999999999,3.0000000000000006E-2,3.4524545454545459E-3,2.4335249999999999E-2,0.81117499999999987,0,0,0,0]
["ООО \"МИП \"Кинешма\"","Ивановская область",null,"ООО \"Экострой\"","КТП№19 10/0,4кВ ООО \"МИП \"Кинешма\", КЛ 0,4кВ от яч.№5 РУ0,4кВ","Прочие","Прочие",null,null,null,null,"менее 670",5612042824,"АО \"ЭнергосбыТ Плюс\"",3703020510,"ООО \"МИП \"Кинешма\"",null,"Э","НН",null,null,null,null,null,null,0,null,null,null,null,null,null,0,null,null,null,null,null,null,0,null,null,null,null,null,null,0,null,null,null,null,null,null,0,null,null,null,null,null,null,0,null,null,null,null,null,null,0,null,null,null,null,null,null,0,null,null,null,null,null,null,0,null,null,null,null,null,null,0,1,0,0.02,0,0.02,1,0,1,3.6269999999999998,0.02,1.55E-2,4.5000000000000005E-3,0.22500000000000003,0,1,13.815,0.02,6.3958000000000001E-2,0,0,0,0,0,0,0,1,8.2449999999999992,0.02,3.8170999999999997E-2,0,0,0,0,0,0,0,1,4.0990000000000002,0.02,1.8218000000000002E-2,1.7819999999999989E-3,8.9099999999999943E-2,0,0,0,0,0,1,2.7410000000000001,0.02,1.1714E-2,8.286E-3,0.4143,0,0,0,0,0,1,1.611,0.02,7.1599999999999997E-3,1.2840000000000001E-2,0.64200000000000002,0,0,0,0,0,1,0.57799999999999996,0.02,2.47E-3,1.753E-2,0.87650000000000006,0,0,0,0,0,1,0.27200000000000002,0.02,1.119E-3,1.8881000000000002E-2,0.94405000000000006,0,0,0,0,0,1,0.26,0.02,1.111E-3,1.8889E-2,0.94445000000000001,0,0,0,0,0,1,1.41,0.02,6.0260000000000001E-3,1.3974E-2,0.69869999999999999,0,0,0,0,0,1,2.839,0.02,1.1683000000000001E-2,8.3169999999999997E-3,0.41585,0,0,0,0,0,1,3.4369999999999998,0.02,1.5276E-2,4.7240000000000008E-3,0.23620000000000002,0,0,0,0,0,null,null,null,null,0,0,0,0,0,0,0,1,39.306999999999995,1.9999999999999997E-2,1.6082363636363638E-2,8.7685833333333348E-3,0.43842916666666681,0,0,0,0]
["ООО \"МИП \"Кинешма\"","Ивановская область","Итого",null,null,null,null,null,null,null,null,null,null,null,null,null,null,null,null,null,{"$f":"SUM(U17:U29)","v":0},{"$f":"SUM(V17:V29)","v":0},{"$f":"SUM(W17:W29)","v":0},{"$f":"SUM(X17:X29)","v":0},{"$f":"IFERROR(X46/V46,0)","v":0},{"$f":"SUM(Z17:Z29)","v":0},null,{"$f":"SUM(AB17:AB29)","v":0},{"$f":"SUM(AC17:AC29)","v":0},{"$f":"SUM(AD17:AD29)","v":0},{"$f":"SUM(AE17:AE29)","v":0},{"$f":"IFERROR(AE46/AC46,0)","v":0},{"$f":"SUM(AG17:AG29)","v":0},null,{"$f":"SUM(AI17:AI29)","v":0},{"$f":"SUM(AJ17:AJ29)","v":0},{"$f":"SUM(AK17:AK29)","v":0},{"$f":"SUM(AL17:AL29)","v":0},{"$f":"IFERROR(AL46/AJ46,0)","v":0},{"$f":"SUM(AN17:AN29)","v":0},null,{"$f":"SUM(AP17:AP29)","v":0},{"$f":"SUM(AQ17:AQ29)","v":0},{"$f":"SUM(AR17:AR29)","v":0},{"$f":"SUM(AS17:AS29)","v":0},{"$f":"IFERROR(AS46/AQ46,0)","v":0},{"$f":"SUM(AU17:AU29)","v":0},null,{"$f":"SUM(AW17:AW29)","v":0},{"$f":"SUM(AX17:AX29)","v":0},{"$f":"SUM(AY17:AY29)","v":0},{"$f":"SUM(AZ17:AZ29)","v":0},{"$f":"IFERROR(AZ46/AX46,0)","v":0},{"$f":"SUM(BB17:BB29)","v":0},null,{"$f":"SUM(BD17:BD29)","v":0},{"$f":"SUM(BE17:BE29)","v":0},{"$f":"SUM(BF17:BF29)","v":0},{"$f":"SUM(BG17:BG29)","v":0},{"$f":"IFERROR(BG46/BE46,0)","v":0},{"$f":"SUM(BI17:BI29)","v":0},null,{"$f":"SUM(BK17:BK29)","v":0},{"$f":"SUM(BL17:BL29)","v":0},{"$f":"SUM(BM17:BM29)","v":0},{"$f":"SUM(BN17:BN29)","v":0},{"$f":"IFERROR(BN46/BL46,0)","v":0},{"$f":"SUM(BP17:BP29)","v":0},null,{"$f":"SUM(BR17:BR29)","v":0},{"$f":"SUM(BS17:BS29)","v":0},{"$f":"SUM(BT17:BT29)","v":0},{"$f":"SUM(BU17:BU29)","v":0},{"$f":"IFERROR(BU46/BS46,0)","v":0},{"$f":"SUM(BW17:BW29)","v":0},null,{"$f":"SUM(BY17:BY29)","v":0},{"$f":"SUM(BZ17:BZ29)","v":0},{"$f":"SUM(CA17:CA29)","v":0},{"$f":"SUM(CB17:CB29)","v":0},{"$f":"IFERROR(CB46/BZ46,0)","v":0},{"$f":"SUM(CD17:CD29)","v":0},null,{"$f":"SUM(CF17:CF29)","v":0},{"$f":"SUM(CG17:CG29)","v":0},{"$f":"SUM(CH17:CH29)","v":0},{"$f":"SUM(CI17:CI29)","v":0},{"$f":"IFERROR(CI46/CG46,0)","v":0},{"$f":"SUM(CK17:CK29)","v":0},null,{"$f":"SUM(CM17:CM45)","v":498.17259999999999},{"$f":"SUM(CN17:CN45)","v":6.6438999999999995},{"$f":"SUM(CO17:CO45)","v":1.1014779999999997},{"$f":"SUM(CP17:CP45)","v":3.8953130000000002},{"$f":"IFERROR(CP46/CN46,0)","v":0.58629916163699036},{"$f":"SUM(CR17:CR45)","v":1103474.86038418},null,{"$f":"SUM(CT17:CT45)","v":539.46500000000003},{"$f":"SUM(CU17:CU45)","v":6.6438999999999995},{"$f":"SUM(CV17:CV45)","v":1.2123039999999998},{"$f":"SUM(CW17:CW45)","v":3.7811500000000011},{"$f":"IFERROR(CW46/CU46,0)","v":0.56911603124670773},{"$f":"SUM(CY17:CY45)","v":0},null,{"$f":"SUM(DA17:DA45)","v":526.43900000000008},{"$f":"SUM(DB17:DB45)","v":6.6438999999999995},{"$f":"SUM(DC17:DC45)","v":1.2082379999999997},{"$f":"IF(IF($Q46=1,DB46*$Q$10-DC46,DB46-DC46)<0,0,IF($Q46=1,DB46*$Q$10-DC46,DB46-DC46))","v":5.4356619999999998},{"$f":"IFERROR(DD46/DB46,0)","v":0.81814325923027142},{"$f":"MIN(CX46,CQ46,CJ46,CC46,BV46,BO46,BH46,BA46,AT46,AM46,AF46,Y46,DE46)","v":0},{"$f":"SUM(DG17:DG45)","v":0},{"$f":"SUM(DH17:DH45)","v":0},{"$f":"SUM(DI17:DI45)","v":0},{"$f":"SUM(DJ17:DJ45)","v":0},null,{"$f":"SUM(DL17:DL45)","v":495.34239999999994},6.6438999999999995,{"$f":"SUM(DN17:DN45)","v":2.4027127999999989},{"$f":"IF(IF($Q46=1,DM46*$Q$10-DN46,DM46-DN46)<0,0,IF($Q46=1,DM46*$Q$10-DN46,DM46-DN46))","v":4.2411872000000006},{"$f":"IFERROR(DO46/DM46,0)","v":0.63835807281867596},{"$f":"MIN(DI46,DB46,CU46,CN46,CG46,BZ46,BS46,BL46,BE46,AX46,AQ46,AJ46,DP46)","v":0},{"$f":"SUM(DR17:DR45)","v":0},{"$f":"SUM(DS17:DS45)","v":0},{"$f":"SUM(DT17:DT45)","v":0},{"$f":"SUM(DU17:DU45)","v":0},null,{"$f":"SUM(DW17:DW45)","v":509.87300000000005},6.6438999999999995,{"$f":"SUM(DY17:DY45)","v":0.99737600000000015},{"$f":"IF(IF($Q46=1,DX46*$Q$10-DY46,DX46-DY46)<0,0,IF($Q46=1,DX46*$Q$10-DY46,DX46-DY46))","v":5.6465239999999994},{"$f":"IFERROR(DZ46/DX46,0)","v":0.84988094342178533},{"$f":"MIN(DT46,DM46,DF46,CY46,CR46,CK46,CD46,BW46,BP46,BI46,BB46,AU46,EA46)","v":0},{"$f":"SUM(EC17:EC45)","v":0},{"$f":"SUM(ED17:ED45)","v":0},{"$f":"SUM(EE17:EE45)","v":0},{"$f":"SUM(EF17:EF45)","v":0},null,{"$f":"SUM(EH17:EH45)","v":438.84700000000004},6.6438999999999995,{"$f":"SUM(EJ17:EJ45)","v":0.94915500000000019},{"$f":"IF(IF($Q46=1,EI46*$Q$10-EJ46,EI46-EJ46)<0,0,IF($Q46=1,EI46*$Q$10-EJ46,EI46-EJ46))","v":5.6947449999999993},{"$f":"IFERROR(EK46/EI46,0)","v":0.85713887927271626},{"$f":"MIN(EE46,DX46,DQ46,DJ46,DC46,CV46,CO46,CH46,CA46,BT46,BM46,BF46,EL46)","v":0},{"$f":"SUM(EN17:EN45)","v":0},{"$f":"SUM(EO17:EO45)","v":0},{"$f":"SUM(EP17:EP45)","v":0},{"$f":"SUM(EQ17:EQ45)","v":0},null,{"$f":"SUM(ES17:ES45)","v":486.74099999999999},6.6438999999999995,{"$f":"SUM(EU17:EU45)","v":1.0235670000000003},{"$f":"IF(IF($Q46=1,ET46*$Q$10-EU46,ET46-EU46)<0,0,IF($Q46=1,ET46*$Q$10-EU46,ET46-EU46))","v":5.6203329999999987},{"$f":"IFERROR(EV46/ET46,0)","v":0.84593883110823453},{"$f":"MIN(EP46,EI46,EB46,DU46,DN46,DG46,CZ46,CS46,CL46,CE46,BX46,BQ46,EW46)","v":0},{"$f":"SUM(EY17:EY45)","v":0},{"$f":"SUM(EZ17:EZ45)","v":0},{"$f":"SUM(FA17:FA45)","v":0},{"$f":"SUM(FB17:FB45)","v":0},null,{"$f":"SUM(FD17:FD45)","v":431.9339999999998},6.6438999999999995,{"$f":"SUM(FF17:FF45)","v":0.9416270000000001},{"$f":"IF(IF($Q46=1,FE46*$Q$10-FF46,FE46-FF46)<0,0,IF($Q46=1,FE46*$Q$10-FF46,FE46-FF46))","v":5.702272999999999},{"$f":"IFERROR(FG46/FE46,0)","v":0.85827194870482693},{"$f":"MIN(FA46,ET46,EM46,EF46,DY46,DR46,DK46,DD46,CW46,CP46,CI46,CB46,FH46)","v":0},{"$f":"SUM(FJ17:FJ45)","v":0},{"$f":"SUM(FK17:FK45)","v":0},{"$f":"SUM(FL17:FL45)","v":0},{"$f":"SUM(FM17:FM45)","v":0},null,{"$f":"SUM(FO17:FO45)","v":500.99799999999999},6.6438999999999995,{"$f":"SUM(FQ17:FQ45)","v":1.0507420000000003},{"$f":"IF(IF($Q46=1,FP46*$Q$10-FQ46,FP46-FQ46)<0,0,IF($Q46=1,FP46*$Q$10-FQ46,FP46-FQ46))","v":5.593157999999999},{"$f":"IFERROR(FR46/FP46,0)","v":0.84184861301344083},{"$f":"MIN(FL46,FE46,EX46,EQ46,EJ46,EC46,DV46,DO46,DH46,DA46,CT46,CM46,FS46)","v":0},{"$f":"SUM(FU17:FU45)","v":0},{"$f":"SUM(FV17:FV45)","v":0},{"$f":"SUM(FW17:FW45)","v":0},{"$f":"SUM(FX17:FX45)","v":0},null,{"$f":"SUM(FZ17:FZ45)","v":500.53700000000003},6.6438999999999995,{"$f":"SUM(GB17:GB45)","v":1.0490300000000001},{"$f":"IF(IF($Q46=1,GA46*$Q$10-GB46,GA46-GB46)<0,0,IF($Q46=1,GA46*$Q$10-GB46,GA46-GB46))","v":5.5948699999999993},{"$f":"IFERROR(GC46/GA46,0)","v":0.84210629299056272},{"$f":"MIN(FW46,FP46,FI46,FB46,EU46,EN46,EG46,DZ46,DS46,DL46,DE46,CX46,GD46)","v":0},{"$f":"SUM(GF17:GF45)","v":0},{"$f":"SUM(GG17:GG45)","v":0},{"$f":"SUM(GH17:GH45)","v":0},{"$f":"SUM(GI17:GI45)","v":0},null,{"$f":"SUM(GK17:GK45)","v":496.589},{"$f":"SUM(GL17:GL45)","v":6.6438999999999995},{"$f":"SUM(GM17:GM45)","v":1.094549},{"$f":"IF(IF($Q46=1,GL46*$Q$10-GM46,GL46-GM46)<0,0,IF($Q46=1,GL46*$Q$10-GM46,GL46-GM46))","v":5.5493509999999997},{"$f":"IFERROR(GN46/GL46,0)","v":0.8352550459820286},{"$f":"MIN(GH46,GA46,FT46,FM46,FF46,EY46,ER46,EK46,ED46,DW46,DP46,DI46,GO46)","v":0},{"$f":"SUM(GQ17:GQ45)","v":0},{"$f":"SUM(GR17:GR45)","v":0},{"$f":"SUM(GS17:GS45)","v":0},{"$f":"SUM(GT17:GT45)","v":0},null,{"$f":"SUM(GV17:GV45)","v":548.71400000000006},{"$f":"SUM(GW17:GW45)","v":6.6438999999999995},{"$f":"SUM(GX17:GX45)","v":1.152765},{"$f":"IF(IF($Q46=1,GW46*$Q$10-GX46,GW46-GX46)<0,0,IF($Q46=1,GW46*$Q$10-GX46,GW46-GX46))","v":5.4911349999999999},{"$f":"IFERROR(GY46/GW46,0)","v":0.82649272264784246},{"$f":"MIN(GS46,GL46,GE46,FX46,FQ46,FJ46,FC46,EV46,EO46,EH46,EA46,DT46,GZ46)","v":0},{"$f":"SUM(HB17:HB45)","v":0},{"$f":"SUM(HC17:HC45)","v":0},{"$f":"SUM(HD17:HD45)","v":0},{"$f":"SUM(HE17:HE45)","v":0},null,{"$f":"SUM(HG17:HG45)","v":633.94569999999987},{"$f":"SUM(HH17:HH45)","v":6.6438999999999995},{"$f":"SUM(HI17:HI45)","v":1.2663559999999998},{"$f":"IF(IF($Q46=1,HH46*$Q$10-HI46,HH46-HI46)<0,0,IF($Q46=1,HH46*$Q$10-HI46,HH46-HI46))","v":5.3775439999999994},{"$f":"IFERROR(HJ46/HH46,0)","v":0.80939568626860725},{"$f":"MIN(HD46,GW46,GP46,GI46,GB46,FU46,FN46,FG46,EZ46,ES46,EL46,EE46,HK46)","v":0},{"$f":"SUM(HM17:HM29)","v":0},{"$f":"SUM(HN17:HN45)","v":0},{"$f":"SUM(HO17:HO45)","v":0},{"$f":"SUM(HP17:HP45)","v":0},null,{"$f":"SUM(HR17:HR45)","v":0},0,{"$f":"SUM(HT17:HT45)","v":0},{"$f":"IF(IF($Q46=1,HS46*$Q$10-HT46,HS46-HT46)<0,0,IF($Q46=1,HS46*$Q$10-HT46,HS46-HT46))","v":0},{"$f":"IFERROR(HU46/HS46,0)","v":0},{"$f":"MIN(HO46,HH46,HA46,GT46,GM46,GF46,FY46,FR46,FK46,FD46,EW46,EP46,HV46)","v":0},{"$f":"SUM(HX17:HX45)","v":0},{"$f":"SUM(HY17:HY45)","v":0},{"$f":"SUM(HZ17:HZ45)","v":0},{"$f":"SUM(IA17:IA45)","v":0},null,{"$f":"SUM(IC17:IC45)","v":5569.9600999999993},{"$f":"SUM(ID17:ID45)","v":6.6438999999999986},{"$f":"SUM(IE17:IE45)","v":1.1941925272727274},{"$f":"SUM(IF17:IF45)","v":3.5960302666666668},{"$f":"IFERROR(IF46/ID46,0)","v":0.5412529187174201},{"$f":"SUM(IH17:IH45)","v":0},0,{"$f":"SUM(IJ17:IJ45)","v":0},{"$f":"SUM(IK17:IK45)","v":0}]
[]
[]
[]
[]
[]
[]
[]
[]
[]
[]
[]
[]
[]
[]
[]
[]
[]
[]
[]
[]
[]
[]
[]
[]
[]
[]
[]
[]
[]
[]
[]
[]
[]
[]
[]
[]
[]
[]
[]
[]
[]
[]
[]
[]
[]
[]
[]
[]
[]
[]
[]
[]
[]
[]
[]
[]
[]
[]
[]
[]
[]
[]
[]
[]
[]
[]
[]
[]
[]
[]
[]
[]
[]
[]
[]
[]
[]
[]
[]
[]
[]
[]
[]
[]
[]
[]
[]
[]
[]
[]
[]
[]
[]
[]
[]
[]
[]
[]
[]
[]
[]
[]
[]
[]
[]
[]
[]
[]
[]
[]
[]
[]
[]
[]
[]
[]
[]
[]
[]
[]
[]
[]
[]
[]
[]
[]
[]
[]
[]
[]
[]
[]
[]
[]
[]
[]
[]
[]
[]
[]
[]
[]
[]
[]
[]
[]
[]
[]
[]
[]
[]
[]
[null,null,null,null,null,null,null,null,null,null,null,null,null,null,null,null,null,null,null,null,null,null,null,null,null,null,null,null,null,null,null,null,null,null,null,null,null,null,null,null,null,null,null,null,null,null,null,null,null,null,null,null,null,null,null,null,null,null,null,null,null,null,null,null,null,null,null,null,null,null,null,null,null,null,null,null,null,null,null,null,null,null,null,null,null,null,null,null,null,null,null,null,null,null,null,null,null,null,null,null,null,null,null,null,null,null,null,null,null,null,null,null,null,null,null,null,null,null,null,null,null,null,null,null,null,null,{"$f":"(#REF!+#REF!+#REF!+#REF!+#REF!+#REF!+#REF!)*#REF!","v":{"$error":"#REF!"}}]

{"sheet":"Лист1","index":2,"n_rows":6,"n_cols":3,"rows_kept":6,"cut":false,"hidden":false,"merged":[]}
["Промышленность","Черная металлургия","Федеральный"]
["Прочие","Пищевая","Областной"]
["ЖКХ","Водоснабжение","Местный"]
["Гос. учреждения","ГУ.Прочие"]
[null,"МВД"]
[null,"ЖКХ.Прочие"]

{"sheet":"свод","index":3,"n_rows":62,"n_cols":13,"rows_kept":62,"cut":false,"hidden":true,"merged":[[2,0,4,0],[2,1,3,2],[2,3,2,12],[3,9,3,11],[3,12,4,12]]}
["Сводный расчет резервируемой максимальной мощности по данным за 2019 год.",null,null,null,null,null,null,null,null,null,null,null,"Приложение"]
[]
["Субъект РФ","Классификатор потребителей",null,"ИТОГО ПО ДАННЫМ ЗА 2019 год"]
[null,null,null,"ЭЭ, \nмлн кВтч","сред. знач Pmax, \nМВт","сред. знач Pфакт,\nМВт","Pрезерв, \nМВт","доля Pрезерв, %","сред знач Pрезерв_опл, \nМВт","Стоимость услуги по передаче, \nмлн руб. (без НДС)",null,null,"Увеличение затрат,\n %"]
[null,"Основной","Дополн.",null,null,null,null,null,0.05,"всего","резерв","передача"]
[2,3,4,6,7,8,9,10,11,12,13,14,15]
["Белгородская область",null,"ИТОГО по субъекту РФ:",{"$f":"SUM(D8,D13,D29,D55,D60)","v":{"$error":"#REF!"}},{"$f":"SUM(E8,E13,E29,E55,E60)","v":{"$error":"#REF!"}},{"$f":"SUM(F8,F13,F29,F55,F60)","v":{"$error":"#REF!"}},{"$f":"E7-F7","v":{"$error":"#REF!"}},{"$f":"IFERROR(G7/E7,0)","v":0},{"$f":"SUM(I8,I13,I29,I55,I60)","v":{"$error":"#REF!"}},{"$f":"K7+L7","v":{"$error":"#REF!"}},{"$f":"SUM(K8,K13,K29,K55,K60)","v":{"$error":"#REF!"}},{"$f":"SUM(L8,L13,L29,L55,L60)","v":{"$error":"#REF!"}},{"$f":"IFERROR(K7/L7,0)","v":0}]
["Белгородская область","ЖКХ","Всего",{"$f":"SUM(D9:D12)","v":{"$error":"#REF!"}},{"$f":"SUM(E9:E12)","v":{"$error":"#REF!"}},{"$f":"SUM(F9:F12)","v":{"$error":"#REF!"}},{"$f":"E8-F8","v":{"$error":"#REF!"}},0,{"$f":"SUM(I9:I12)","v":{"$error":"#REF!"}},{"$error":"#REF!"},{"$f":"SUM(K9:K12)","v":{"$error":"#REF!"}},{"$f":"SUM(L9:L12)","v":{"$error":"#REF!"}},{"$f":"IFERROR(K8/L8,0)","v":0}]
["Белгородская область","ЖКХ","Водоснабжение",{"$f":"БД!#REF!/1000","v":{"$error":"#REF!"}},{"$f":"БД!#REF!","v":{"$error":"#REF!"}},{"$f":"БД!#REF!","v":{"$error":"#REF!"}},{"$f":"E9-F9","v":{"$error":"#REF!"}},0,{"$f":"БД!#REF!","v":{"$error":"#REF!"}},{"$error":"#REF!"},{"$f":"БД!#REF!/1000","v":{"$error":"#REF!"}},{"$f":"БД!#REF!/1000","v":{"$error":"#REF!"}},{"$f":"IFERROR(K9/L9,0)","v":0}]
["Белгородская область","ЖКХ","Теплоснабжение",{"$f":"БД!#REF!/1000","v":{"$error":"#REF!"}},{"$f":"БД!#REF!","v":{"$error":"#REF!"}},{"$f":"БД!#REF!","v":{"$error":"#REF!"}},{"$f":"E10-F10","v":{"$error":"#REF!"}},0,{"$f":"БД!#REF!","v":{"$error":"#REF!"}},{"$error":"#REF!"},{"$f":"БД!#REF!/1000","v":{"$error":"#REF!"}},{"$f":"БД!#REF!/1000","v":{"$error":"#REF!"}},{"$f":"IFERROR(K10/L10,0)","v":0}]
["Белгородская область","ЖКХ","Электротранспорт",{"$f":"БД!#REF!/1000","v":{"$error":"#REF!"}},{"$f":"БД!#REF!","v":{"$error":"#REF!"}},{"$f":"БД!#REF!","v":{"$error":"#REF!"}},{"$error":"#REF!"},0,{"$f":"БД!#REF!","v":{"$error":"#REF!"}},{"$error":"#REF!"},{"$f":"БД!#REF!/1000","v":{"$error":"#REF!"}},{"$f":"БД!#REF!/1000","v":{"$error":"#REF!"}},0]
["Белгородская область","ЖКХ","ЖКХ.Прочие",{"$f":"БД!#REF!/1000","v":{"$error":"#REF!"}},{"$f":"БД!#REF!","v":{"$error":"#REF!"}},{"$f":"БД!#REF!","v":{"$error":"#REF!"}},{"$f":"E12-F12","v":{"$error":"#REF!"}},0,{"$f":"БД!#REF!","v":{"$error":"#REF!"}},{"$error":"#REF!"},{"$f":"БД!#REF!/1000","v":{"$error":"#REF!"}},{"$f":"БД!#REF!/1000","v":{"$error":"#REF!"}},{"$f":"IFERROR(K12/L12,0)","v":0}]
["Белгородская область","Гос. учреждения","Всего",{"$f":"SUM(D14:D28)","v":{"$error":"#REF!"}},{"$f":"SUM(E14:E28)","v":{"$error":"#REF!"}},{"$f":"SUM(F14:F28)","v":{"$error":"#REF!"}},{"$f":"E13-F13","v":{"$error":"#REF!"}},0,{"$f":"SUM(I14:I28)","v":{"$error":"#REF!"}},{"$error":"#REF!"},{"$f":"SUM(K14:K28)","v":{"$error":"#REF!"}},{"$f":"SUM(L14:L28)","v":{"$error":"#REF!"}},0]
["Белгородская область","Гос. учреждения","ФСБ",{"$f":"БД!#REF!/1000","v":{"$error":"#REF!"}},{"$f":"БД!#REF!","v":{"$error":"#REF!"}},{"$f":"БД!#REF!","v":{"$error":"#REF!"}},{"$error":"#REF!"},0,{"$f":"БД!#REF!","v":{"$error":"#REF!"}},{"$error":"#REF!"},{"$f":"БД!#REF!/1000","v":{"$error":"#REF!"}},{"$f":"БД!#REF!/1000","v":{"$error":"#REF!"}},0]
["Белгородская область","Гос. учреждения","МВД",{"$f":"БД!#REF!/1000","v":{"$error":"#REF!"}},{"$f":"БД!#REF!","v":{"$error":"#REF!"}},{"$f":"БД!#REF!","v":{"$error":"#REF!"}},{"$error":"#REF!"},0,{"$f":"БД!#REF!","v":{"$error":"#REF!"}},{"$error":"#REF!"},{"$f":"БД!#REF!/1000","v":{"$error":"#REF!"}},{"$f":"БД!#REF!/1000","v":{"$error":"#REF!"}},0]
["Белгородская область","Гос. учреждения","ФСО",{"$f":"БД!#REF!/1000","v":{"$error":"#REF!"}},{"$f":"БД!#REF!","v":{"$error":"#REF!"}},{"$f":"БД!#REF!","v":{"$error":"#REF!"}},{"$error":"#REF!"},0,{"$f":"БД!#REF!","v":{"$error":"#REF!"}},{"$error":"#REF!"},{"$f":"БД!#REF!/1000","v":{"$error":"#REF!"}},{"$f":"БД!#REF!/1000","v":{"$error":"#REF!"}},0]
["Белгородская область","Гос. учреждения","СВР",{"$f":"БД!#REF!/1000","v":{"$error":"#REF!"}},{"$f":"БД!#REF!","v":{"$error":"#REF!"}},{"$f":"БД!#REF!","v":{"$error":"#REF!"}},{"$error":"#REF!"},0,{"$f":"БД!#REF!","v":{"$error":"#REF!"}},{"$error":"#REF!"},{"$f":"БД!#REF!/1000","v":{"$error":"#REF!"}},{"$f":"БД!#REF!/1000","v":{"$error":"#REF!"}},0]
["Белгородская область","Гос. учреждения","Росгвардия",{"$f":"БД!#REF!/1000","v":{"$error":"#REF!"}},{"$f":"БД!#REF!","v":{"$error":"#REF!"}},{"$f":"БД!#REF!","v":{"$error":"#REF!"}},{"$error":"#REF!"},0,{"$f":"БД!#REF!","v":{"$error":"#REF!"}},{"$error":"#REF!"},{"$f":"БД!#REF!/1000","v":{"$error":"#REF!"}},{"$f":"БД!#REF!/1000","v":{"$error":"#REF!"}},0]
["Белгородская область","Гос. учреждения","ГУСП",{"$f":"БД!#REF!/1000","v":{"$error":"#REF!"}},{"$f":"БД!#REF!","v":{"$error":"#REF!"}},{"$f":"БД!#REF!","v":{"$error":"#REF!"}},{"$error":"#REF!"},0,{"$f":"БД!#REF!","v":{"$error":"#REF!"}},{"$error":"#REF!"},{"$f":"БД!#REF!/1000","v":{"$error":"#REF!"}},{"$f":"БД!#REF!/1000","v":{"$error":"#REF!"}},0]
["Белгородская область","Гос. учреждения","Больницы",{"$f":"БД!#REF!/1000","v":{"$error":"#REF!"}},{"$f":"БД!#REF!","v":{"$error":"#REF!"}},{"$f":"БД!#REF!","v":{"$error":"#REF!"}},{"$error":"#REF!"},0,{"$f":"БД!#REF!","v":{"$error":"#REF!"}},{"$error":"#REF!"},{"$f":"БД!#REF!/1000","v":{"$error":"#REF!"}},{"$f":"БД!#REF!/1000","v":{"$error":"#REF!"}},0]
["Белгородская область","Гос. учреждения","Ветеринарная служба",{"$f":"БД!#REF!/1000","v":{"$error":"#REF!"}},{"$f":"БД!#REF!","v":{"$error":"#REF!"}},{"$f":"БД!#REF!","v":{"$error":"#REF!"}},{"$error":"#REF!"},0,{"$f":"БД!#REF!","v":{"$error":"#REF!"}},{"$error":"#REF!"},{"$f":"БД!#REF!/1000","v":{"$error":"#REF!"}},{"$f":"БД!#REF!/1000","v":{"$error":"#REF!"}},0]
["Белгородская область","Гос. учреждения","Россвязь",{"$f":"БД!#REF!/1000","v":{"$error":"#REF!"}},{"$f":"БД!#REF!","v":{"$error":"#REF!"}},{"$f":"БД!#REF!","v":{"$error":"#REF!"}},{"$error":"#REF!"},0,{"$f":"БД!#REF!","v":{"$error":"#REF!"}},{"$error":"#REF!"},{"$f":"БД!#REF!/1000","v":{"$error":"#REF!"}},{"$f":"БД!#REF!/1000","v":{"$error":"#REF!"}},0]
["Белгородская область","Гос. учреждения","МО",{"$f":"БД!#REF!/1000","v":{"$error":"#REF!"}},{"$f":"БД!#REF!","v":{"$error":"#REF!"}},{"$f":"БД!#REF!","v":{"$error":"#REF!"}},{"$error":"#REF!"},0,{"$f":"БД!#REF!","v":{"$error":"#REF!"}},{"$error":"#REF!"},{"$f":"БД!#REF!/1000","v":{"$error":"#REF!"}},{"$f":"БД!#REF!/1000","v":{"$error":"#REF!"}},0]
["Белгородская область","Гос. учреждения","ФСБ",{"$f":"БД!#REF!/1000","v":{"$error":"#REF!"}},{"$f":"БД!#REF!","v":{"$error":"#REF!"}},{"$f":"БД!#REF!","v":{"$error":"#REF!"}},{"$error":"#REF!"},0,{"$f":"БД!#REF!","v":{"$error":"#REF!"}},{"$error":"#REF!"},{"$f":"БД!#REF!/1000","v":{"$error":"#REF!"}},{"$f":"БД!#REF!/1000","v":{"$error":"#REF!"}},0]
["Белгородская область","Гос. учреждения","МЧС",{"$f":"БД!#REF!/1000","v":{"$error":"#REF!"}},{"$f":"БД!#REF!","v":{"$error":"#REF!"}},{"$f":"БД!#REF!","v":{"$error":"#REF!"}},{"$error":"#REF!"},0,{"$f":"БД!#REF!","v":{"$error":"#REF!"}},{"$error":"#REF!"},{"$f":"БД!#REF!/1000","v":{"$error":"#REF!"}},{"$f":"БД!#REF!/1000","v":{"$error":"#REF!"}},0]
["Белгородская область","Гос. учреждения","УИН",{"$f":"БД!#REF!/1000","v":{"$error":"#REF!"}},{"$f":"БД!#REF!","v":{"$error":"#REF!"}},{"$f":"БД!#REF!","v":{"$error":"#REF!"}},{"$error":"#REF!"},0,{"$f":"БД!#REF!","v":{"$error":"#REF!"}},{"$error":"#REF!"},{"$f":"БД!#REF!/1000","v":{"$error":"#REF!"}},{"$f":"БД!#REF!/1000","v":{"$error":"#REF!"}},0]
["Белгородская область","Гос. учреждения","Образование",{"$f":"БД!#REF!/1000","v":{"$error":"#REF!"}},{"$f":"БД!#REF!","v":{"$error":"#REF!"}},{"$f":"БД!#REF!","v":{"$error":"#REF!"}},{"$error":"#REF!"},0,{"$f":"БД!#REF!","v":{"$error":"#REF!"}},{"$error":"#REF!"},{"$f":"БД!#REF!/1000","v":{"$error":"#REF!"}},{"$f":"БД!#REF!/1000","v":{"$error":"#REF!"}},0]
["Белгородская область","Гос. учреждения","ГУ.Прочие",{"$f":"БД!#REF!/1000","v":{"$error":"#REF!"}},{"$f":"БД!#REF!","v":{"$error":"#REF!"}},{"$f":"БД!#REF!","v":{"$error":"#REF!"}},{"$error":"#REF!"},0,{"$f":"БД!#REF!","v":{"$error":"#REF!"}},{"$error":"#REF!"},{"$f":"БД!#REF!/1000","v":{"$error":"#REF!"}},{"$f":"БД!#REF!/1000","v":{"$error":"#REF!"}},0]
["Белгородская область","Промышленность","Всего",{"$f":"SUM(D30:D54)","v":{"$error":"#REF!"}},{"$f":"SUM(E30:E54)","v":{"$error":"#REF!"}},{"$f":"SUM(F30:F54)","v":{"$error":"#REF!"}},{"$f":"E29-F29","v":{"$error":"#REF!"}},0,{"$f":"SUM(I30:I54)","v":{"$error":"#REF!"}},{"$f":"K29+L29","v":{"$error":"#REF!"}},{"$f":"SUM(K30:K54)","v":{"$error":"#REF!"}},{"$f":"SUM(L30:L54)","v":{"$error":"#REF!"}},0]
["Белгородская область","Промышленность","Электроэнергетика",{"$f":"БД!#REF!/1000","v":{"$error":"#REF!"}},{"$f":"БД!#REF!","v":{"$error":"#REF!"}},{"$f":"БД!#REF!","v":{"$error":"#REF!"}},{"$error":"#REF!"},0,{"$f":"БД!#REF!","v":{"$error":"#REF!"}},{"$f":"K30+L30","v":{"$error":"#REF!"}},{"$f":"БД!#REF!/1000","v":{"$error":"#REF!"}},{"$f":"БД!#REF!/1000","v":{"$error":"#REF!"}},0]
["Белгородская область","Промышленность","Нефтедобывающая",{"$f":"БД!#REF!/1000","v":{"$error":"#REF!"}},{"$f":"БД!#REF!","v":{"$error":"#REF!"}},{"$f":"БД!#REF!","v":{"$error":"#REF!"}},{"$error":"#REF!"},0,{"$f":"БД!#REF!","v":{"$error":"#REF!"}},{"$f":"K31+L31","v":{"$error":"#REF!"}},{"$f":"БД!#REF!/1000","v":{"$error":"#REF!"}},{"$f":"БД!#REF!/1000","v":{"$error":"#REF!"}},0]
["Белгородская область","Промышленность","Нефтеперерабатывающая",{"$f":"БД!#REF!/1000","v":{"$error":"#REF!"}},{"$f":"БД!#REF!","v":{"$error":"#REF!"}},{"$f":"БД!#REF!","v":{"$error":"#REF!"}},{"$error":"#REF!"},0,{"$f":"БД!#REF!","v":{"$error":"#REF!"}},{"$error":"#REF!"},{"$f":"БД!#REF!/1000","v":{"$error":"#REF!"}},{"$f":"БД!#REF!/1000","v":{"$error":"#REF!"}},0]
["Белгородская область","Промышленность","Газовая",{"$f":"БД!#REF!/1000","v":{"$error":"#REF!"}},{"$f":"БД!#REF!","v":{"$error":"#REF!"}},{"$f":"БД!#REF!","v":{"$error":"#REF!"}},{"$error":"#REF!"},0,{"$f":"БД!#REF!","v":{"$error":"#REF!"}},{"$error":"#REF!"},{"$f":"БД!#REF!/1000","v":{"$error":"#REF!"}},{"$f":"БД!#REF!/1000","v":{"$error":"#REF!"}},0]
["Белгородская область","Промышленность","Угольная",{"$f":"БД!#REF!/1000","v":{"$error":"#REF!"}},{"$f":"БД!#REF!","v":{"$error":"#REF!"}},{"$f":"БД!#REF!","v":{"$error":"#REF!"}},{"$error":"#REF!"},0,{"$f":"БД!#REF!","v":{"$error":"#REF!"}},{"$error":"#REF!"},{"$f":"БД!#REF!/1000","v":{"$error":"#REF!"}},{"$f":"БД!#REF!/1000","v":{"$error":"#REF!"}},0]
["Белгородская область","Промышленность","Сланцевая",{"$f":"БД!#REF!/1000","v":{"$error":"#REF!"}},{"$f":"БД!#REF!","v":{"$error":"#REF!"}},{"$f":"БД!#REF!","v":{"$error":"#REF!"}},{"$error":"#REF!"},0,{"$f":"БД!#REF!","v":{"$error":"#REF!"}},{"$error":"#REF!"},{"$f":"БД!#REF!/1000","v":{"$error":"#REF!"}},{"$f":"БД!#REF!/1000","v":{"$error":"#REF!"}},0]
["Белгородская область","Промышленность","Торфяная",{"$f":"БД!#REF!/1000","v":{"$error":"#REF!"}},{"$f":"БД!#REF!","v":{"$error":"#REF!"}},{"$f":"БД!#REF!","v":{"$error":"#REF!"}},{"$error":"#REF!"},0,{"$f":"БД!#REF!","v":{"$error":"#REF!"}},{"$error":"#REF!"},{"$f":"БД!#REF!/1000","v":{"$error":"#REF!"}},{"$f":"БД!#REF!/1000","v":{"$error":"#REF!"}},0]
["Белгородская область","Промышленность","Черная металлургия",{"$f":"БД!#REF!/1000","v":{"$error":"#REF!"}},{"$f":"БД!#REF!","v":{"$error":"#REF!"}},{"$f":"БД!#REF!","v":{"$error":"#REF!"}},{"$error":"#REF!"},0,{"$f":"БД!#REF!","v":{"$error":"#REF!"}},{"$error":"#REF!"},{"$f":"БД!#REF!/1000","v":{"$error":"#REF!"}},{"$f":"БД!#REF!/1000","v":{"$error":"#REF!"}},0]
["Белгородская область","Промышленность","Цветная металлургия",{"$f":"БД!#REF!/1000","v":{"$error":"#REF!"}},{"$f":"БД!#REF!","v":{"$error":"#REF!"}},{"$f":"БД!#REF!","v":{"$error":"#REF!"}},{"$error":"#REF!"},0,{"$f":"БД!#REF!","v":{"$error":"#REF!"}},{"$error":"#REF!"},{"$f":"БД!#REF!/1000","v":{"$error":"#REF!"}},{"$f":"БД!#REF!/1000","v":{"$error":"#REF!"}},0]
["Белгородская область","Промышленность","Химия и нефтехимия",{"$f":"БД!#REF!/1000","v":{"$error":"#REF!"}},{"$f":"БД!#REF!","v":{"$error":"#REF!"}},{"$f":"БД!#REF!","v":{"$error":"#REF!"}},{"$error":"#REF!"},0,{"$f":"БД!#REF!","v":{"$error":"#REF!"}},{"$error":"#REF!"},{"$f":"БД!#REF!/1000","v":{"$error":"#REF!"}},{"$f":"БД!#REF!/1000","v":{"$error":"#REF!"}},0]
["Белгородская область","Промышленность","Машиностроение и металлообработка",{"$f":"БД!#REF!/1000","v":{"$error":"#REF!"}},{"$f":"БД!#REF!","v":{"$error":"#REF!"}},{"$f":"БД!#REF!","v":{"$error":"#REF!"}},{"$error":"#REF!"},0,{"$f":"БД!#REF!","v":{"$error":"#REF!"}},{"$error":"#REF!"},{"$f":"БД!#REF!/1000","v":{"$error":"#REF!"}},{"$f":"БД!#REF!/1000","v":{"$error":"#REF!"}},0]
["Белгородская область","Промышленность","Деревообрабатывающая",{"$f":"БД!#REF!/1000","v":{"$error":"#REF!"}},{"$f":"БД!#REF!","v":{"$error":"#REF!"}},{"$f":"БД!#REF!","v":{"$error":"#REF!"}},{"$error":"#REF!"},0,{"$f":"БД!#REF!","v":{"$error":"#REF!"}},{"$error":"#REF!"},{"$f":"БД!#REF!/1000","v":{"$error":"#REF!"}},{"$f":"БД!#REF!/1000","v":{"$error":"#REF!"}},0]
["Белгородская область","Промышленность","Промышленность строительных материалов",{"$f":"БД!#REF!/1000","v":{"$error":"#REF!"}},{"$f":"БД!#REF!","v":{"$error":"#REF!"}},{"$f":"БД!#REF!","v":{"$error":"#REF!"}},{"$error":"#REF!"},0,{"$f":"БД!#REF!","v":{"$error":"#REF!"}},{"$error":"#REF!"},{"$f":"БД!#REF!/1000","v":{"$error":"#REF!"}},{"$f":"БД!#REF!/1000","v":{"$error":"#REF!"}},0]
["Белгородская область","Промышленность","Стекольная и фарфоро - фаянсовая",{"$f":"БД!#REF!/1000","v":{"$error":"#REF!"}},{"$f":"БД!#REF!","v":{"$error":"#REF!"}},{"$f":"БД!#REF!","v":{"$error":"#REF!"}},{"$error":"#REF!"},0,{"$f":"БД!#REF!","v":{"$error":"#REF!"}},{"$error":"#REF!"},{"$f":"БД!#REF!/1000","v":{"$error":"#REF!"}},{"$f":"БД!#REF!/1000","v":{"$error":"#REF!"}},0]
["Белгородская область","Промышленность","Легкая",{"$f":"БД!#REF!/1000","v":{"$error":"#REF!"}},{"$f":"БД!#REF!","v":{"$error":"#REF!"}},{"$f":"БД!#REF!","v":{"$error":"#REF!"}},{"$error":"#REF!"},0,{"$f":"БД!#REF!","v":{"$error":"#REF!"}},{"$error":"#REF!"},{"$f":"БД!#REF!/1000","v":{"$error":"#REF!"}},{"$f":"БД!#REF!/1000","v":{"$error":"#REF!"}},0]
["Белгородская область","Промышленность","Пищевая",{"$f":"БД!#REF!/1000","v":{"$error":"#REF!"}},{"$f":"БД!#REF!","v":{"$error":"#REF!"}},{"$f":"БД!#REF!","v":{"$error":"#REF!"}},{"$error":"#REF!"},0,{"$f":"БД!#REF!","v":{"$error":"#REF!"}},{"$error":"#REF!"},{"$f":"БД!#REF!/1000","v":{"$error":"#REF!"}},{"$f":"БД!#REF!/1000","v":{"$error":"#REF!"}},0]
["Белгородская область","Промышленность","Микробиологическая",{"$f":"БД!#REF!/1000","v":{"$error":"#REF!"}},{"$f":"БД!#REF!","v":{"$error":"#REF!"}},{"$f":"БД!#REF!","v":{"$error":"#REF!"}},{"$error":"#REF!"},0,{"$f":"БД!#REF!","v":{"$error":"#REF!"}},{"$error":"#REF!"},{"$f":"БД!#REF!/1000","v":{"$error":"#REF!"}},{"$f":"БД!#REF!/1000","v":{"$error":"#REF!"}},0]
["Белгородская область","Промышленность","Мукомольно - крупяная",{"$f":"БД!#REF!/1000","v":{"$error":"#REF!"}},{"$f":"БД!#REF!","v":{"$error":"#REF!"}},{"$f":"БД!#REF!","v":{"$error":"#REF!"}},{"$error":"#REF!"},0,{"$f":"БД!#REF!","v":{"$error":"#REF!"}},{"$error":"#REF!"},{"$f":"БД!#REF!/1000","v":{"$error":"#REF!"}},{"$f":"БД!#REF!/1000","v":{"$error":"#REF!"}},0]
["Белгородская область","Промышленность","Медицинская",{"$f":"БД!#REF!/1000","v":{"$error":"#REF!"}},{"$f":"БД!#REF!","v":{"$error":"#REF!"}},{"$f":"БД!#REF!","v":{"$error":"#REF!"}},{"$error":"#REF!"},0,{"$f":"БД!#REF!","v":{"$error":"#REF!"}},{"$error":"#REF!"},{"$f":"БД!#REF!/1000","v":{"$error":"#REF!"}},{"$f":"БД!#REF!/1000","v":{"$error":"#REF!"}},0]
["Белгородская область","Промышленность","Полиграфическая",{"$f":"БД!#REF!/1000","v":{"$error":"#REF!"}},{"$f":"БД!#REF!","v":{"$error":"#REF!"}},{"$f":"БД!#REF!","v":{"$error":"#REF!"}},{"$error":"#REF!"},0,{"$f":"БД!#REF!","v":{"$error":"#REF!"}},{"$error":"#REF!"},{"$f":"БД!#REF!/1000","v":{"$error":"#REF!"}},{"$f":"БД!#REF!/1000","v":{"$error":"#REF!"}},0]
["Белгородская область","Промышленность","Железнодорожный транспорт",{"$f":"БД!#REF!/1000","v":{"$error":"#REF!"}},{"$f":"БД!#REF!","v":{"$error":"#REF!"}},{"$f":"БД!#REF!","v":{"$error":"#REF!"}},{"$error":"#REF!"},0,{"$f":"БД!#REF!","v":{"$error":"#REF!"}},{"$error":"#REF!"},{"$f":"БД!#REF!/1000","v":{"$error":"#REF!"}},{"$f":"БД!#REF!/1000","v":{"$error":"#REF!"}},0]
["Белгородская область","Промышленность","Нефтепроводный транспорт",{"$f":"БД!#REF!/1000","v":{"$error":"#REF!"}},{"$f":"БД!#REF!","v":{"$error":"#REF!"}},{"$f":"БД!#REF!","v":{"$error":"#REF!"}},{"$error":"#REF!"},0,{"$f":"БД!#REF!","v":{"$error":"#REF!"}},{"$error":"#REF!"},{"$f":"БД!#REF!/1000","v":{"$error":"#REF!"}},{"$f":"БД!#REF!/1000","v":{"$error":"#REF!"}},0]
["Белгородская область","Промышленность","Газопроводный транспорт",{"$f":"БД!#REF!/1000","v":{"$error":"#REF!"}},{"$f":"БД!#REF!","v":{"$error":"#REF!"}},{"$f":"БД!#REF!","v":{"$error":"#REF!"}},{"$error":"#REF!"},0,{"$f":"БД!#REF!","v":{"$error":"#REF!"}},{"$error":"#REF!"},{"$f":"БД!#REF!/1000","v":{"$error":"#REF!"}},{"$f":"БД!#REF!/1000","v":{"$error":"#REF!"}},0]
["Белгородская область","Промышленность","Авиационный транспорт",{"$f":"БД!#REF!/1000","v":{"$error":"#REF!"}},{"$f":"БД!#REF!","v":{"$error":"#REF!"}},{"$f":"БД!#REF!","v":{"$error":"#REF!"}},{"$error":"#REF!"},0,{"$f":"БД!#REF!","v":{"$error":"#REF!"}},{"$error":"#REF!"},{"$f":"БД!#REF!/1000","v":{"$error":"#REF!"}},{"$f":"БД!#REF!/1000","v":{"$error":"#REF!"}},0]
["Белгородская область","Промышленность","Пром.Прочие",{"$f":"БД!#REF!/1000","v":{"$error":"#REF!"}},{"$f":"БД!#REF!","v":{"$error":"#REF!"}},{"$f":"БД!#REF!","v":{"$error":"#REF!"}},{"$error":"#REF!"},0,{"$f":"БД!#REF!","v":{"$error":"#REF!"}},{"$error":"#REF!"},{"$f":"БД!#REF!/1000","v":{"$error":"#REF!"}},{"$f":"БД!#REF!/1000","v":{"$error":"#REF!"}},0]
["Белгородская область","Сельское хозяйство","Всего",{"$f":"SUM(D56:D59)","v":{"$error":"#REF!"}},{"$f":"SUM(E56:E59)","v":{"$error":"#REF!"}},{"$f":"SUM(F56:F59)","v":{"$error":"#REF!"}},{"$error":"#REF!"},0,{"$f":"SUM(I56:I59)","v":{"$error":"#REF!"}},{"$error":"#REF!"},{"$f":"SUM(K56:K59)","v":{"$error":"#REF!"}},{"$f":"SUM(L56:L59)","v":{"$error":"#REF!"}},0]
["Белгородская область","Растениеводство","Растениеводство",{"$f":"БД!#REF!/1000","v":{"$error":"#REF!"}},{"$f":"БД!#REF!","v":{"$error":"#REF!"}},{"$f":"БД!#REF!","v":{"$error":"#REF!"}},{"$error":"#REF!"},0,{"$f":"БД!#REF!","v":{"$error":"#REF!"}},{"$error":"#REF!"},{"$f":"БД!#REF!/1000","v":{"$error":"#REF!"}},{"$f":"БД!#REF!/1000","v":{"$error":"#REF!"}},0]
["Белгородская область","Животноводство","Животноводство",{"$f":"БД!#REF!/1000","v":{"$error":"#REF!"}},{"$f":"БД!#REF!","v":{"$error":"#REF!"}},{"$f":"БД!#REF!","v":{"$error":"#REF!"}},{"$error":"#REF!"},0,{"$f":"БД!#REF!","v":{"$error":"#REF!"}},{"$error":"#REF!"},{"$f":"БД!#REF!/1000","v":{"$error":"#REF!"}},{"$f":"БД!#REF!/1000","v":{"$error":"#REF!"}},0]
["Белгородская область","Рыболовство","Рыболовство",{"$f":"БД!#REF!/1000","v":{"$error":"#REF!"}},{"$f":"БД!#REF!","v":{"$error":"#REF!"}},{"$f":"БД!#REF!","v":{"$error":"#REF!"}},{"$error":"#REF!"},0,{"$f":"БД!#REF!","v":{"$error":"#REF!"}},{"$error":"#REF!"},{"$f":"БД!#REF!/1000","v":{"$error":"#REF!"}},{"$f":"БД!#REF!/1000","v":{"$error":"#REF!"}},0]
["Белгородская область","Смешанное","Смешанное",{"$f":"БД!#REF!/1000","v":{"$error":"#REF!"}},{"$f":"БД!#REF!","v":{"$error":"#REF!"}},{"$f":"БД!#REF!","v":{"$error":"#REF!"}},{"$error":"#REF!"},0,{"$f":"БД!#REF!","v":{"$error":"#REF!"}},{"$error":"#REF!"},{"$f":"БД!#REF!/1000","v":{"$error":"#REF!"}},{"$f":"БД!#REF!/1000","v":{"$error":"#REF!"}},0]
["Белгородская область","Прочие","Всего",{"$f":"БД!#REF!/1000","v":{"$error":"#REF!"}},{"$f":"БД!#REF!","v":{"$error":"#REF!"}},{"$f":"БД!#REF!","v":{"$error":"#REF!"}},{"$f":"E60-F60","v":{"$error":"#REF!"}},{"$f":"IFERROR(G60/E60,0)","v":0},{"$f":"БД!#REF!","v":{"$error":"#REF!"}},{"$f":"K60+L60","v":{"$error":"#REF!"}},{"$f":"БД!#REF!/1000","v":{"$error":"#REF!"}},{"$f":"БД!#REF!/1000","v":{"$error":"#REF!"}},0]
[]
[null,null,null,{"$f":"D7-БД!#REF!/1000","v":{"$error":"#REF!"}},{"$f":"E7-БД!#REF!","v":{"$error":"#REF!"}},{"$f":"F7-БД!#REF!","v":{"$error":"#REF!"}},null,null,{"$f":"I7-БД!#REF!","v":{"$error":"#REF!"}},{"$f":"J7-БД!#REF!/1000","v":{"$error":"#REF!"}},{"$f":"K7-БД!#REF!/1000","v":{"$error":"#REF!"}},{"$f":"L7-БД!#REF!/1000","v":{"$error":"#REF!"}}]

{"sheet":"Справочник субъектов","index":4,"n_rows":86,"n_cols":2,"rows_kept":86,"cut":false,"hidden":true,"merged":[]}
[22,"Алтайский край"]
[28,"Амурская область"]
[29,"Архангельская область"]
[30,"Астраханская область"]
[31,"Белгородская область"]
[32,"Брянская область"]
[33,"Владимирская область"]
[34,"Волгоградская область"]
[35,"Вологодская область"]
[36,"Воронежская область"]
[77,"г. Москва"]
[79,"Еврейская автономная область"]
[75,"Забайкальский край"]
[37,"Ивановская область"]
[99,"Иные территории, включая город и космодром Байконур"]
[38,"Иркутская область"]
[7,"Кабардино-Балкарская Республика"]
[39,"Калининградская область"]
[40,"Калужская область"]
[41,"Камчатский край"]
[9,"Карачаево-Черкесская Республика"]
[42,"Кемеровская область"]
[43,"Кировская область"]
[44,"Костромская область"]
[23,"Краснодарский край"]
[24,"Красноярский край"]
[45,"Курганская область"]
[46,"Курская область"]
[47,"Ленинградская область"]
[48,"Липецкая область"]
[49,"Магаданская область"]
[50,"Московская область"]
[51,"Мурманская область"]
[83,"Ненецкий автономный округ"]
[52,"Нижегородская область"]
[53,"Новгородская область"]
[54,"Новосибирская область"]
[55,"Омская область"]
[56,"Оренбургская область"]
[57,"Орловская область"]
[58,"Пензенская область"]
[59,"Пермский край"]
[25,"Приморский край"]
[60,"Псковская область"]
[1,"Республика Адыгея (Адыгея)"]
[4,"Республика Алтай"]
[2,"Республика Башкортостан"]
[3,"Республика Бурятия"]
[5,"Республика Дагестан"]
[6,"Республика Ингушетия"]
[8,"Республика Калмыкия"]
[10,"Республика Карелия"]
[11,"Республика Коми"]
[91,"Республика Крым"]
[12,"Республика Марий Эл"]
[13,"Республика Мордовия"]
[14,"Республика Саха (Якутия)"]
[15,"Республика Северная Осетия - Алания"]
[16,"Республика Татарстан (Татарстан)"]
[17,"Республика Тыва"]
[19,"Республика Хакасия"]
[61,"Ростовская область"]
[62,"Рязанская область"]
[63,"Самарская область"]
[78,"Санкт-Петербург"]
[64,"Саратовская область"]
[65,"Сахалинская область"]
[66,"Свердловская область"]
[92,"Севастополь"]
[67,"Смоленская область"]
[26,"Ставропольский край"]
[68,"Тамбовская область"]
[69,"Тверская область"]
[70,"Томская область"]
[71,"Тульская область"]
[72,"Тюменская область"]
[18,"Удмуртская Республика"]
[73,"Ульяновская область"]
[27,"Хабаровский край"]
[86,"Ханты-Мансийский автономный округ - Югра"]
[74,"Челябинская область"]
[20,"Чеченская Республика"]
[21,"Чувашская Республика - Чувашия"]
[87,"Чукотский автономный округ"]
[89,"Ямало-Ненецкий автономный округ"]
[76,"Ярославская область"]

{"sheet":"справочник ГП(ЭСК)","index":5,"n_rows":157,"n_cols":3,"rows_kept":157,"cut":false,"hidden":true,"merged":[]}
["ИНН","Наименование","субъект"]
["1001012875","ТНС энерго Карелия, АО","Республика Карелия"]
["1001174763","Энергокомфорт. Единая Карельская сбытовая компания, ООО","Республика Карелия"]
["1101301856","Коми энергосбытовая компания, АО","Республика Коми"]
["1215099739","ТНС энерго Марий Эл, ПАО","Республика МАРИЙ ЭЛ"]
["1326192645","Мордовская энергосбытовая компания, ОАО","Республика Мордовия"]
["1502002701","Севкавказэнерго, ПАО","Республика Северная Осетия-Алания"]
["1701040660","Тываэнергосбыт, АО","Республика Тыва"]
["1901064509","Абаканэнергосбыт, ООО","Республика Хакасия"]
["1901067690","Хакасэнергосбыт, АО","Республика Хакасия"]
["2128700232","Чувашская энергосбытовая компания, АО","Республика Чувашия"]
["2224103849","Алтайэнергосбыт, АО","Алтайский край"]
["2224103849","Алтайэнергосбыт, АО","Республика Алтай"]
["2308091759","НЭСК, АО","Краснодарский край"]
["2308119595","ТНС энерго Кубань, ПАО","Краснодарский край"]
["2466132221","Красноярскэнергосбыт, ПАО","Красноярский край"]
["2626033550","Ставропольэнергосбыт, ПАО","Ставропольский край"]
["2901134250","Архэнергосбыт, ПАО","Архангельская область"]
["2901179251","АрхоблЭнерго, АО","Архангельская область"]
["3017041554","Астраханская энергосбытовая компания, ПАО","Астраханская область"]
["3123110760","Белгородская сбытовая компания, ОАО","Белгородская область"]
["323125110","Бурятэнергосбыт, ОАО","Республика Бурятия"]
["3250056153","Брянскэнергосбыт, ОАО","Брянская область"]
["3302021309","Владимирэнергосбыт, ПАО","Владимирская область"]
["3327329166","ВКС, ОАО","Владимирская область"]
["3328424479","РКС-энерго, ООО","Ленинградская область"]
["3445071523","Волгоградэнергосбыт, ПАО","Волгоградская область"]
["3525154831","Вологдаэнергосбыт, ПАО","Вологодская область"]
["3604016496","БЭСО Борисоглебского городского округа Воронежской обл, МУП","Воронежская область"]
["3663050467","ТНС энерго Воронеж, ПАО","Воронежская область"]
["3702044413","Ивановоэнергосбыт, ООО","Ивановская область"]
["3702065117","Ивэнергосбыт, ОАО","Ивановская область"]
["3808166404","Иркутскэнергосбыт, ООО","Не присвоено"]
["3908600865","Янтарьэнергосбыт, ОАО","Калининградская область"]
["4029030252","Калужская сбытовая компания, ПАО","Калужская область"]
["4205109214","Кузбассэнергосбыт, ПАО","Кемеровская область"]
["4217039402","Металлэнергофинанс, ООО","Кемеровская область"]
["4401050567","Костромская сбытовая компания, ПАО","Костромская область"]
["4632049456","Курскрегионэнергосбыт, ОАО","Курская область"]
["4633017746","Региональная энергосбытовая компания, ООО","Курская область"]
["4822001244","ЛЭСК, ОАО","Липецкая область"]
["4822001340","ГЭСК, ООО","Липецкая область"]
["5001003540","БЭЛС, ЗАО","г. Москва и Московская область"]
["5016013300","Ивантеевские электросети, МУП","г. Москва и Московская область"]
["5017034511","Объединение Истринские электросети, МУП","г. Москва и Московская область"]
["5018141474","Королёвская электросеть СК, ОАО","г. Москва и Московская область"]
["5024037961","КЭС, АО","г. Москва и Московская область"]
["5029087589","Электросеть, ОАО","г. Москва и Московская область"]
["5105041148","Колэнергосбыт, ОАО","Мурманская область"]
["5107910347","Арктик-энерго, ООО","Мурманская область"]
["5254081010","Обеспечение РФЯЦ-ВНИИЭФ, АО","Нижегородская область"]
["5256062171","Волгаэнергосбыт, ЗАО","Нижегородская область"]
["5260148520","ТНС энерго НН, ПАО","Нижегородская область"]
["5260200603","МРСК Центра и Приволжья, ОАО","Не присвоено"]
["5321102236","Новгородоблэнергосбыт, АО","Новгородская область"]
["541031172","Дагестанская энергосбытовая компания, ПАО","Республика Дагестан"]
["541031172","Дагестанская энергосбытовая компания, ПАО","Республика Дагестан"]
["541031172","Дагестанская энергосбытовая компания, ПАО","Республика Дагестан"]
["5503091518","Омскэнергосбыт, ОАО","Омская область"]
["5610095517","Оренбургсельэнергосбыт, ЗАО","Оренбургская область"]
["5612042824","ЭнергосбыТ Плюс, ОАО","Оренбургская область"]
["5612042824","ЭнергосбыТ Плюс, ОАО","Свердловская область"]
["5612042824","ЭнергосбыТ Плюс, ОАО","Кировская область"]
["5612042824","ЭнергосбыТ Плюс, ОАО","Республика Удмуртия"]
["5751028841","Орелэнергосбыт, ОАО","Орловская область"]
["5754020600","Интер РАО - Орловский энергосбыт, ООО","Орловская область"]
["5835059003","Пензаэнергосбыт, ОАО","Пензенская область"]
["5904123809","Пермэнергосбыт, ПАО","Пермский край"]
["602013494","Ингушэнерго, АО","Республика Ингушентия"]
["6027084016","Псковэнергосбыт, ОАО","Псковская область"]
["6168002922","ТНС энерго Ростов-на-Дону, ПАО","Ростовская область"]
["6229049014","Рязанская энергетическая сбытовая компания, ПАО","Рязанская область"]
["6229054695","РГМЭК, ООО","Рязанская область"]
["6315222985","Самараэнерго, ПАО","Самарская область"]
["6450014808","Саратовэнерго, ПАО","Саратовская область"]
["6629018839","Новоуральская энергосбытовая компания, ООО","Свердловская область"]
["6671250899","Екатеринбургэнергосбыт, ОАО","Свердловская область"]
["6731048633","Смоленскскэнергосбыт, ОАО","Смоленская область"]
["6829010210","Тамбовская энергосбытовая компания, ОАО","Тамбовская область"]
["6829017247","Тамбовская областная сбытовая компания, ОАО","Тамбовская область"]
["6901068245","Тверьэнергосбыт, ОАО","Тверская область"]
["6901086741","Тверьоблэнергосбыт, ООО","Тверская область"]
["7017114680","Томскэнергосбыт, ПАО","Томская область"]
["7101006428","Тулаэнергосбыт, ОАО","Тульская область"]
["7105037307","ТНС энерго Тула, АО","Тульская область"]
["711008455","Каббалкэнерго, ПАО","Республика Кабардино-Балкария"]
["7111017002","Алексинэнергосбыт, ООО","Тульская область"]
["7116127560","Новомосковская энергосбытовая компания, ООО","Тульская область"]
["7327012462","Ульяновскэнерго, ПАО","Ульяновская область"]
["7445020452","Магнитогорская энергетическая компания, ООО","Челябинская область"]
["7451213318","Челябэнергосбыт, ПАО","Челябинская область"]
["7530007886","ЖКУ, УМП","Забайкальский край"]
["7536066430","Читаэнергосбыт, АО","Республика Бурятия"]
["7536066430","Читаэнергосбыт, АО","Забайкальский край"]
["7604193710","ТГК-2 Энергосбыт","Архангельская область"]
["7606052264","ТНС энерго Ярославль, ПАО","Ярославская область"]
["7702743761","ТНС энерго Пенза, ООО","Пензенская область"]
["7703599239","ЭНЕРГОСБЫТХОЛДИНГ, ООО","г. Москва и Московская область"]
["7704228075","АтомЭнергоСбыт, АО","Мурманская область"]
["7704228075","АтомЭнергоСбыт, АО","Курская область"]
["7704228075","АтомЭнергоСбыт, АО","Смоленская область"]
["7704228075","АтомЭнергоСбыт, АО","Тверская область"]
["7704440018","ЭНЕРГОСБЫТ ВОЛГА, ООО","Владимирская область"]
["7704440018","ЭНЕРГОСБЫТ ВОЛГА, ООО","Не присвоено"]
["7704731218","Оборонэнергосбыт, АО","Республика Мордовия"]
["7704731218","Оборонэнергосбыт, АО","Оренбургская область"]
["7704731218","Оборонэнергосбыт, АО","Саратовская область"]
["7704731218","Оборонэнергосбыт, АО","Новгородская область"]
["7704731218","Оборонэнергосбыт, АО","Псковская область"]
["7704731218","Оборонэнергосбыт, АО","Забайкальский край"]
["7704731218","Оборонэнергосбыт, АО","Свердловская область"]
["7704731218","Оборонэнергосбыт, АО","Челябинская область"]
["7704731218","Оборонэнергосбыт, АО","Владимирская область"]
["7704731218","Оборонэнергосбыт, АО","Ивановская область"]
["7704731218","Оборонэнергосбыт, АО","Калужская область"]
["7704731218","Оборонэнергосбыт, АО","Кировская область"]
["7704731218","Оборонэнергосбыт, АО","Республика МАРИЙ ЭЛ"]
["7704731218","Оборонэнергосбыт, АО","Нижегородская область"]
["7704731218","Оборонэнергосбыт, АО","Рязанская область"]
["7704731218","Оборонэнергосбыт, АО","Белгородская область"]
["7704731218","Оборонэнергосбыт, АО","Брянская область"]
["7704731218","Оборонэнергосбыт, АО","Костромская область"]
["7704731218","Оборонэнергосбыт, АО","Липецкая область"]
["7704731218","Оборонэнергосбыт, АО","Орловская область"]
["7704731218","Оборонэнергосбыт, АО","Смоленская область"]
["7704731218","Оборонэнергосбыт, АО","Тверская область"]
["7704731218","Оборонэнергосбыт, АО","Ярославская область"]
["7704731218","Оборонэнергосбыт, АО","Астраханская область"]
["7704731218","Оборонэнергосбыт, АО","Краснодарский край"]
["7704731218","Оборонэнергосбыт, АО","Ленинградская область"]
["7704731218","Оборонэнергосбыт, АО","г. Москва и Московская область"]
["7704731218","Оборонэнергосбыт, АО","Калининградская область"]
["7706284124","РУСЭНЕРГОСБЫТ, ООО","Республика Мордовия"]
["7706284124","РУСЭНЕРГОСБЫТ, ООО","Оренбургская область"]
["7706284124","РУСЭНЕРГОСБЫТ, ООО","Саратовская область"]
["7706284124","РУСЭНЕРГОСБЫТ, ООО","Республика Карелия"]
["7706284124","РУСЭНЕРГОСБЫТ, ООО","Мурманская область"]
["7706284124","РУСЭНЕРГОСБЫТ, ООО","Республика Хакасия"]
["7706284124","РУСЭНЕРГОСБЫТ, ООО","Владимирская область"]
["7706284124","РУСЭНЕРГОСБЫТ, ООО","Кировская область"]
["7706284124","РУСЭНЕРГОСБЫТ, ООО","Нижегородская область"]
["7706284124","РУСЭНЕРГОСБЫТ, ООО","Костромская область"]
["7706284124","РУСЭНЕРГОСБЫТ, ООО","Ярославская область"]
["7706284124","РУСЭНЕРГОСБЫТ, ООО","Астраханская область"]
["7706284124","РУСЭНЕРГОСБЫТ, ООО","Волгоградская область"]
["7706284124","РУСЭНЕРГОСБЫТ, ООО","Ленинградская область"]
["7706284124","РУСЭНЕРГОСБЫТ, ООО","г. Москва и Московская область"]
["7709538063","Роскоммунэнерго, АО","Свердловская область"]
["7715825806","ТНС энерго Великий Новгород, ООО","Новгородская область"]
["7727743393","Энергосбытовая компания ГАРАНТ, ООО","Ивановская область"]
["7736520080","Мосэнергосбыт, АО","г. Москва и Московская область"]
["7841322249","Петербургская сбытовая компания, АО","Омская область"]
["7841322249","Петербургская сбытовая компания, АО","Ленинградская область"]
["814166090","Калмэнергосбыт, ОАО","Республика Калмыкия"]
["8602067215","Газпром энергосбыт Тюмень, АО","Тюменская область"]
["8602173527","Газпром энергосбыт Брянск, ООО","Брянская область"]
["901000327","Карачаево-Черкесскэнерго, АО","Карачаево-черкесская республика"]

{"sheet":"Справочник СО","index":6,"n_rows":380,"n_cols":3,"rows_kept":380,"cut":false,"hidden":true,"merged":[]}
["ИНН сетевой организации","Наименование сетевой организации","Субъект РФ"]
[1655063821,"ООО Ново-Рязанская ТЭЦ","Рязанская область"]
[1701029232,"ОАО \"Тываэнерго\"","Республика Тыва"]
[1826000278,"Ижевские электрические сети","Удмуртская Республика"]
[1827001683,"ОАО Сарапульский электрогенераторный завод","Удмуртская Республика"]
[1831083343,"ОАО Ижевский электромеханический завод Купол","Удмуртская Республика"]
[1834028862,"ООО Удмуртэнергонефть","Удмуртская Республика"]
[1835038790,"Филиал УПП №821 ФГУП ГУССТ №8 при Спецстрое России","Удмуртская Республика"]
[1835060957,"ООО Электрические сети Удмуртии","Удмуртская Республика"]
[1837013649,"ООО ТрансЭлектроСеть","Удмуртская Республика"]
[1840005542,"АО Ижметмаш","Удмуртская Республика"]
[1840028170,"ООО Горэлектросеть","Удмуртская Республика"]
[1841009571,"ООО Контакт","Удмуртская Республика"]
[2016081143,"АО \"Чеченэнерго\"","Чеченская Республика"]
[2128701733,"ОАО ТГК-5","Чувашская Республика"]
[2204052762,"Бийскэнерго","Алтайский край"]
[2261009273,"Регион-Энерго","Алтайский край"]
[2308190012,"ООО «Краснодарэнерго»","Краснодарский край"]
[2309001660,"ПАО \"Кубаньэнерго\"","Краснодарский край"]
[2312171950,"ООО \"АКСОЙ\"","Краснодарский край"]
[2312178995,"ООО «Ростэкэлектросети»","Краснодарский край"]
[2460069527,"ПАО \"МРСК Сибири\"","Алтайский край"]
[{"$f":"A22","v":2460069527},"ПАО \"МРСК Сибири\"","Забайкальский край"]
[2460069527,"ПАО \"МРСК Сибири\"","Кемеровская область"]
[2460069527,"ПАО \"МРСК Сибири\"","Красноярский край"]
[2460069527,"ПАО \"МРСК Сибири\"","Омская область"]
[2460069527,"ПАО \"МРСК Сибири\"","Республика Алтай"]
[2460069527,"ПАО \"МРСК Сибири\"","Республика Бурятия"]
[2460069527,"ПАО \"МРСК Сибири\"","Республика Хакасия"]
[2632082033,"ПАО \"МРСК Северного Кавказа\"","Кабардино-Балкарская Республика"]
[{"$f":"A30","v":2632082033},"ПАО \"МРСК Северного Кавказа\"","Карачаево-Черкесская Республика"]
[2632082033,"ПАО \"МРСК Северного Кавказа\"","Республика Ингушетия"]
[2632082033,"ПАО \"МРСК Северного Кавказа\"","Республика Северная Осетия - Алания"]
[2632082033,"ПАО \"МРСК Северного Кавказа\"","Ставропольский край"]
[2632800485,"АО \"Дагестанская сетевая компания\"","Республика Дагестан"]
[3127000014,"АО Лебединский ГОК","Белгородская область"]
[3128011788,"ОАО Стойленский ГОК","Белгородская область"]
[3257012934,"ООО БРЭСК","Брянская область"]
[3324121145,"ООО \"Промэнерго\"","Владимирская область"]
[3329000151,"ОАО \"Полимерсинтез\"","Владимирская область"]
[3329038170,"ОАО Владимирская областная электросетевая компания","Владимирская область"]
[3435000266,"ОАО Волжский азотно-кислородный завод","Волгоградская область"]
[3441010181,"МУПП Волгоградские межрайонные электрические сети","Волгоградская область"]
[3442110943,"ОАО Производственное объединение Баррикады","Волгоградская область"]
[3444110201,"ООО ЖКХ","Волгоградская область"]
[3448009717,"Администрация ВОЛГОДОН","Волгоградская область"]
[3528219741,"АО \"Редаелли ССМ\"","Волгоградская область"]
[3604001066,"МУП Борисоглебская Горэлектросеть","Воронежская область"]
[3627000397,"ОАО Минудобрения","Воронежская область"]
[3652007597,"ООО Лискимонтажконструкция","Воронежская область"]
[3661046200,"ООО ТеплоЭнергоГаз","Воронежская область"]
[3662051517,"ЗАО Воронежский конденсаторный завод","Воронежская область"]
[3662063336,"ОАО ВЭКС Воронежский экскаватор","Воронежская область"]
[3663000804,"ЗАО Воронежстальмост","Воронежская область"]
[3665046177,"ОАО Конструкторское бюро химавтоматики","Воронежская область"]
[3701047387,"ООО Тепловик","Ивановская область"]
[3702005291,"ООО ТДЛ Энерго","Ивановская область"]
[3702024079,"ЗАО \"СпинЭф\"","Ивановская область"]
[3702054860,"ОАО ПСК","Ивановская область"]
[3702083638,"ООО Энергосетьком","Ивановская область"]
[3702099236,"ООО \"Альфа-Энерго\"","Ивановская область"]
[3702512911,"ООО ПРОФЕССИОНАЛ","Ивановская область"]
[3702537169,"ОАО Поликор","Ивановская область"]
[3702556570,"ООО \"Электро-Сервис\"","Ивановская область"]
[3702558803,"ООО Энергетические сети - Меланж","Ивановская область"]
[3702577556,"ООО Подстанция Красный Октябрь","Ивановская область"]
[3703015172,"ОАО Кинешемская ГЭС","Ивановская область"]
[3703045850,"ООО \"МИП Кинешма\"","Ивановская область"]
[3710005383,"ООО Химзавод","Ивановская область"]
[3731023288,"ОАО \"ИЗТС\"","Ивановская область"]
[3731024644,"ОАО Автокран","Ивановская область"]
[3900000111,"ОАО Прибалтийский судостроительный завод Янтарь","Калининградская область"]
[3900000390,"ФГУП Калининградский морской рыбный порт","Калининградская область"]
[3903010326,"ОАО Кварц","Калининградская область"]
[3904058970,"ООО БалтТехПром","Калининградская область"]
[3906126174,"ООО \"Энергосеть\"","Калининградская область"]
[3906214663,"АО \"Региональная энергетическая компания\"","Калининградская область"]
[3906970638,"АО Западная энергетическая компания","Калининградская область"]
[3912005795,"АО \"Янтарьэнерго\"","Калининградская область"]
[3917000092,"ООО Вальдау","Калининградская область"]
[4000000255,"ОАО \"Калужский двигатель\"","Калужская область"]
[4028026750,"ООО \"Каскад-Энергосеть\"","Калужская область"]
[4029032450,"Людиновский филиал ОАО Калужский завод \"Ремпутьмаш\"","Калужская область"]
[4205130008,"ООО ИнвестГрадСтрой","Томская область"]
[4212024138,"ОАО \"СУЭК-Кузбасс\"","Кемеровская область"]
[4217084532,"ООО ЕвразЭнергоТранс","Свердловская область"]
[4312126856,"ООО \"ГалоПолимер Кирово-Чепецк\"","Кировская область"]
[4312134857,"ООО \"Вятская сетевая компания\"","Кировская область"]
[{"$f":"A88","v":4312134857},"ООО \"РЭЦ Цепели\"","Кировская область"]
[4340000830,"ОАО \"Молот\"","Кировская область"]
[4345029946,"ОАО \"Ново-Вятка\"","Кировская область"]
[4345066465,"ООО \"Транзит\"","Кировская область"]
[4345268479,"ЗАО \"Промуправление\"","Кировская область"]
[4345287866,"ООО \"Региональная сеть\"","Кировская область"]
[4345331628,"ООО \"Вятэнергосервис\"","Кировская область"]
[4345379570,"ООО \"Вятская Энерго-Сберегающая компания\"","Кировская область"]
[4345433098,"ООО \"Единая Электросетевая Компания\"","Кировская область"]
[4346001502,"МУП Горэлектросеть","Кировская область"]
[{"$f":"A98","v":4346001502},{"$f":"B98","v":"МУП Горэлектросеть"},"Республика Алтай"]
[4346011123,"ОАО \"Коммунэнерго\"","Кировская область"]
[4401095367,"ООО Энергосервис","Костромская область"]
[4401140450,"ООО КФК ЭНЕРГО","Костромская область"]
[4632064246,"АО КЭС","Курская область"]
[4632118318,"ООО Электроснабжение","Курская область"]
[4633020869,"ООО Железногорская Сетевая Компания","Курская область"]
[4703074613,"ОАО ЛОЭСК","Ленинградская область"]
[4703105646,"ООО Управление сетевыми комплексами (ООО УСК)","Ленинградская область"]
[4716016979,"ПАО \"ФСК ЕЭС\"","Алтайский край"]
[{"$f":"A108","v":4716016979},"ПАО \"ФСК ЕЭС\"","Амурская область"]
[4716016979,"ПАО \"ФСК ЕЭС\"","Архангельская область"]
[4716016979,"ПАО \"ФСК ЕЭС\"","Астраханская область"]
[4716016979,"ПАО \"ФСК ЕЭС\"","Белгородская область"]
[4716016979,"ПАО \"ФСК ЕЭС\"","Брянская область"]
[4716016979,"ПАО \"ФСК ЕЭС\"","Владимирская область"]
[4716016979,"ПАО \"ФСК ЕЭС\"","Волгоградская область"]
[4716016979,"ПАО \"ФСК ЕЭС\"","Вологодская область"]
[4716016979,"ПАО \"ФСК ЕЭС\"","Воронежская область"]
[4716016979,"ПАО \"ФСК ЕЭС\"","Еврейская автономная область"]
[4716016979,"ПАО \"ФСК ЕЭС\"","Забайкальский край"]
[4716016979,"ПАО \"ФСК ЕЭС\"","Ивановская область"]
[4716016979,"ПАО \"ФСК ЕЭС\"","Иркутская область"]
[4716016979,"ПАО \"ФСК ЕЭС\"","Кабардино-Балкарская Республика"]
[4716016979,"ПАО \"ФСК ЕЭС\"","Калужская область"]
[4716016979,"ПАО \"ФСК ЕЭС\"","Кемеровская область"]
[{"$f":"A124","v":4716016979},"ПАО \"ФСК ЕЭС\"","Кировская область"]
[4716016979,"ПАО \"ФСК ЕЭС\"","Костромская область"]
[4716016979,"ПАО \"ФСК ЕЭС\"","Краснодарский край"]
[4716016979,"ПАО \"ФСК ЕЭС\"","Красноярский край"]
[4716016979,"ПАО \"ФСК ЕЭС\"","Курская область"]
[4716016979,"ПАО \"ФСК ЕЭС\"","Ленинградская область"]
[4716016979,"ПАО \"ФСК ЕЭС\"","Липецкая область"]
[4716016979,"ПАО \"ФСК ЕЭС\"","Москва"]
[4716016979,"ПАО \"ФСК ЕЭС\"","Московская область"]
[4716016979,"ПАО \"ФСК ЕЭС\"","Мурманская область"]
[4716016979,"ПАО \"ФСК ЕЭС\"","Нижегородская область"]
[4716016979,"ПАО \"ФСК ЕЭС\"","Новгородская область"]
[4716016979,"ПАО \"ФСК ЕЭС\"","Новосибирская область"]
[4716016979,"ПАО \"ФСК ЕЭС\"","Омская область"]
[4716016979,"ПАО \"ФСК ЕЭС\"","Оренбургская область"]
[4716016979,"ПАО \"ФСК ЕЭС\"","Орловская область"]
[{"$f":"A140","v":4716016979},"ПАО \"ФСК ЕЭС\"","Пензенская область"]
[4716016979,"ПАО \"ФСК ЕЭС\"","Пермский край"]
[4716016979,"ПАО \"ФСК ЕЭС\"","Приморский край"]
[4716016979,"ПАО \"ФСК ЕЭС\"","Псковская область"]
[4716016979,"ПАО \"ФСК ЕЭС\"","Республика Бурятия"]
[4716016979,"ПАО \"ФСК ЕЭС\"","Республика Дагестан"]
[4716016979,"ПАО \"ФСК ЕЭС\"","Республика Карелия"]
[4716016979,"ПАО \"ФСК ЕЭС\"","Республика Коми"]
[4716016979,"ПАО \"ФСК ЕЭС\"","Республика Марий Эл"]
[4716016979,"ПАО \"ФСК ЕЭС\"","Республика Мордовия"]
[4716016979,"ПАО \"ФСК ЕЭС\"","Республика Саха (Якутия)"]
[4716016979,"ПАО \"ФСК ЕЭС\"","Республика Северная Осетия - Алания"]
[4716016979,"ПАО \"ФСК ЕЭС\"","Республика Тыва"]
[4716016979,"ПАО \"ФСК ЕЭС\"","Республика Хакасия"]
[4716016979,"ПАО \"ФСК ЕЭС\"","Ростовская область"]
[4716016979,"ПАО \"ФСК ЕЭС\"","Рязанская область"]
[{"$f":"A156","v":4716016979},"ПАО \"ФСК ЕЭС\"","Самарская область"]
[4716016979,"ПАО \"ФСК ЕЭС\"","Санкт-Петербург"]
[4716016979,"ПАО \"ФСК ЕЭС\"","Саратовская область"]
[4716016979,"ПАО \"ФСК ЕЭС\"","Свердловская область"]
[4716016979,"ПАО \"ФСК ЕЭС\"","Смоленская область"]
[4716016979,"ПАО \"ФСК ЕЭС\"","Ставропольский край"]
[4716016979,"ПАО \"ФСК ЕЭС\"","Тамбовская область"]
[4716016979,"ПАО \"ФСК ЕЭС\"","Тверская область"]
[4716016979,"ПАО \"ФСК ЕЭС\"","Томская область"]
[4716016979,"ПАО \"ФСК ЕЭС\"","Тульская область"]
[4716016979,"ПАО \"ФСК ЕЭС\"","Тюменская область (включая Ханты-Мансийский автономный округ -Югра, Ямало-Ненецкий автономный округ)"]
[4716016979,"ПАО \"ФСК ЕЭС\"","Удмуртская Республика"]
[4716016979,"ПАО \"ФСК ЕЭС\"","Ульяновская область"]
[4716016979,"ПАО \"ФСК ЕЭС\"","Хабаровский край"]
[4716016979,"ПАО \"ФСК ЕЭС\"","Челябинская область"]
[4716016979,"ПАО \"ФСК ЕЭС\"","Чеченская Республика"]
[{"$f":"A172","v":4716016979},{"$f":"B172","v":"ПАО \"ФСК ЕЭС\""},"Чувашская Республика"]
[{"$f":"A173","v":4716016979},{"$f":"B173","v":"ПАО \"ФСК ЕЭС\""},"Ярославская область"]
[4802023634,"ООО Техноинжиниринг","Липецкая область"]
[4813009631,"ООО ФИН-Групп","Липецкая область"]
[4821000142,"АО ЭНЕРГИЯ","Липецкая область"]
[4823006703,"ПАО НЛМК","Липецкая область"]
[4823073114,"ООО ЛИПЕЦКИЙ СИЛИКАТНЫЙ ЗАВОД","Липецкая область"]
[4824022970,"ОАО Липецкое торгово-промышленное объединение","Липецкая область"]
[4825065704,"ООО Лонгричбизнес","Липецкая область"]
[4825066916,"АО ЛГЭК","Липецкая область"]
[4825083742,"ООО ЛТК СВОБОДНЫЙ СОКОЛ","Липецкая область"]
[4826052440,"ОАО ОЭЗ ППТ Липецк","Липецкая область"]
[5036065113,"ПАО \"МОСКОВСКАЯ ОБЪЕДИНЕННАЯ ЭЛЕКТРОСЕТЕВАЯ КОМПАНИЯ\"","Москва"]
[{"$f":"A185","v":5036065113},{"$f":"B185","v":"ПАО \"МОСКОВСКАЯ ОБЪЕДИНЕННАЯ ЭЛЕКТРОСЕТЕВАЯ КОМПАНИЯ\""},"Московская область"]
[5043048430,"ЗАО \"ЭнергоТранс-С\"","Кировская область"]
[5214011560,"ООО ВОЛОДАРСК-ЭНЕРГО","Нижегородская область"]
[5246015831,"ЗАО Свет","Нижегородская область"]
[5248004137,"ОАО Заволжский моторный завод (ОАО ЗМЗ)","Нижегородская область"]
[5249051203,"ОАО Сибур-Нефтехим","Нижегородская область"]
[5249133382,"ООО Капролактам-Энерго","Нижегородская область"]
[5252000350,"ОАО Павловский автобус","Нижегородская область"]
[5252021872,"ООО Павловоэнерго","Нижегородская область"]
[5252024312,"ООО ПСК ТрансЭнерго","Нижегородская область"]
[5257003806,"АООТ Нижегородский масло-жировой комбинат","Нижегородская область"]
[5257005049,"АО Завод Красный Якорь","Нижегородская область"]
[5258039097,"ООО Этна","Нижегородская область"]
[5258049909,"ООО Зефс-Энерго","Нижегородская область"]
[5258050559,"ЗАО Энерго групп","Нижегородская область"]
[5259008768,"ПАО Нижегородский машиностроительный завод","Нижегородская область"]
[5259095986,"ЗАО Транссетьком-Волга","Нижегородская область"]
[5260200603,"ООО Электроснаб-2010","Ивановская область"]
[{"$f":"A203","v":5260200603},"ПАО \"МРСК Центра и Приволжья\"","Владимирская область"]
[5260200603,"ПАО \"МРСК Центра и Приволжья\"","Ивановская область"]
[5260200603,"ПАО \"МРСК Центра и Приволжья\"","Калужская область"]
[5260200603,"ПАО \"МРСК Центра и Приволжья\"","Кировская область"]
[5260200603,"ПАО \"МРСК Центра и Приволжья\"","Нижегородская область"]
[5260200603,"ПАО \"МРСК Центра и Приволжья\"","Республика Марий Эл"]
[5260200603,"ПАО \"МРСК Центра и Приволжья\"","Рязанская область"]
[5260200603,"ПАО \"МРСК Центра и Приволжья\"","Тульская область"]
[5260200603,"ПАО \"МРСК Центра и Приволжья\"","Удмуртская Республика"]
[5260230051,"ООО \"Лукойл-Энергосети\"","Нижегородская область"]
[{"$f":"A213","v":5260230051},"ООО \"Лукойл-Энергосети\" (Волгоградская область)","Волгоградская область"]
[5260283448,"ООО СТН-Энергосети","Нижегородская область"]
[5261001745,"ООО НИТЕЛ","Нижегородская область"]
[5261036875,"ООО Специнвестпроект","Нижегородская область"]
[5261056945,"ОАО Верхневолжская энергетическая компания","Нижегородская область"]
[5262272924,"ООО Нижегородская электросервисная компания","Нижегородская область"]
[5262291853,"ООО Новая электрическая сеть","Нижегородская область"]
[5501023216,"ОАО Омский каучук","Омская область"]
[5501041254,"ОАО ГАЗПРОМНЕФТЬ-ОНПЗ","Омская область"]
[5501235027,"ООО Альфа Абрис","Омская область"]
[5501254502,"ООО Энергоснабжение","Омская область"]
[5503219060,"ООО Гранат","Омская область"]
[5503229082,"ФГУП ОМСКИЙ ПРИБОРОСТРОИТЕЛЬНЫЙ ЗАВОД ИМ. КОЗИЦКОГО","Омская область"]
[5503242527,"ЗАО ПКЦ ПРОМЖЕЛДОРТРАНС","Омская область"]
[5505204171,"АО Омсктрансмаш","Омская область"]
[5506007419,"ПАО Омскшина","Омская область"]
[5506066492,"ООО Омсктехуглерод","Омская область"]
[5506203082,"ФГУП СИБИРСКИЕ ПРИБОРЫ И СИСТЕМЫ","Омская область"]
[5506203389,"ООО Инвест-Химпром","Омская область"]
[5508000955,"ОАО САТУРН","Омская область"]
[5751028520,"АО Орелоблэнерго","Орловская область"]
[5754006476,"ООО ОПК-Энерго","Орловская область"]
[5904119383,"ОАО ТГК-9","Свердловская область"]
[5904257802,"НРСП Прикамье","Удмуртская Республика"]
[5907024108,"ООО Региональная распределительная сетевая компания","Кировская область"]
[{"$f":"A238","v":5907024108},"ООО РРСК","Ивановская область"]
[6027133104,"ООО \"Энергосети\"","Псковская область"]
[6164266561,"ПАО \"МРСК Юга\"","Астраханская область"]
[{"$f":"A241","v":6164266561},"ПАО \"МРСК Юга\"","Волгоградская область"]
[6164266561,"ПАО \"МРСК Юга\"","Республика Калмыкия"]
[6164266561,"ПАО \"МРСК Юга\"","Ростовская область"]
[6166047727,"ОАО Ростсельмаш","Ростовская область"]
[6215001615,"ООО Спетро-Физик","Рязанская область"]
[6227006375,"ЗАО Промсеть","Рязанская область"]
[6227007428,"МУП Рязанские Городские Распределительные Электрические Сети","Рязанская область"]
[6228034255,"ОАО Завод точного литья","Рязанская область"]
[6229037499,"ООО Полимердор","Рязанская область"]
[6229042298,"ООО Рязанская промышленная корпорация","Рязанская область"]
[6234072107,"ООО Новомичуринские электрические сети","Рязанская область"]
[6234073260,"ОАО Рязанская областная электросетевая компания","Рязанская область"]
[6311049306,"ООО ТРАНСНЕФТЬЭЛЕКТРОСЕТЬСЕРВИС","Тамбовская область"]
[6450925977,"ПАО \"МРСК Волги\"","Оренбургская область"]
[{"$f":"A255","v":6450925977},"ПАО \"МРСК Волги\"","Пензенская область"]
[6450925977,"ПАО \"МРСК Волги\"","Республика Мордовия"]
[6450925977,"ПАО \"МРСК Волги\"","Самарская область"]
[6450925977,"ПАО \"МРСК Волги\"","Саратовская область"]
[6450925977,"ПАО \"МРСК Волги\"","Ульяновская область"]
[6450925977,"ПАО \"МРСК Волги\"","Чувашская Республика"]
[6603023425,"ООО Энергоуправление","Свердловская область"]
[6623005777,"ОАО Уралхимпласт","Свердловская область"]
[6625004271,"ОАО ПНТЗ","Свердловская область"]
[6625004521,"ЗАО Горэлектросеть","Свердловская область"]
[6626002291,"ОАО СЕВЕРСКИЙ ТРУБНЫЙ ЗАВОД","Свердловская область"]
[6627001318,"ОАО СРЕДНЕУРАЛЬСКИЙ МЕДЕПЛАВИЛЬНЫЙ ЗАВОД","Свердловская область"]
[6646009256,"ОАО НИЖНЕСЕРГИНСКИЙ МЕТИЗНО-МЕТАЛЛУРГИЧЕСКИЙ ЗАВОД","Свердловская область"]
[6657003023,"ООО ЭНЕРГОШАЛЯ","Свердловская область"]
[6658139683,"АО Екатеринбургская электросетевая компания","Свердловская область"]
[6661101471,"ОАО \"Облкоммунэнерго\"","Свердловская область"]
[6671163413,"ПАО \"МРСК Урала\"","Пермский край"]
[{"$f":"A272","v":6671163413},{"$f":"B272","v":"ПАО \"МРСК Урала\""},"Свердловская область"]
[{"$f":"A273","v":6671163413},{"$f":"B273","v":"ПАО \"МРСК Урала\""},"Челябинская область"]
[6672174175,"ООО Газпромэнерго","Волгоградская область"]
[{"$f":"A275","v":6672174175},"ООО Газпромэнерго","Свердловская область"]
[6672174175,"ООО Газпромэнерго","Тамбовская область"]
[6672174175,"ООО Газпромэнерго","Челябинская область"]
[6673123656,"ООО ТЭЦ","Свердловская область"]
[6679011282,"ООО Промтекс","Свердловская область"]
[6686030712,"ООО ЕЗ ОЦМ-Энерго","Свердловская область"]
[6729001476,"АО Смоленский авиационный завод","Смоленская область"]
[6732063426,"ООО Промэнергосеть","Смоленская область"]
[6732104513,"ООО Электросеть- Смоленск","Смоленская область"]
[6827002220,"МУП МИЧУРИНСКИЕ ГОРОДСКИЕ ЭЛЕКТРИЧЕСКИЕ СЕТИ","Тамбовская область"]
[6829012231,"АО ТСК","Тамбовская область"]
[6829012680,"ПАО Квадра - Генерирующая компания","Белгородская область"]
[{"$f":"A287","v":6829012680},"ПАО Квадра - Генерирующая компания","Липецкая область"]
[6829012680,"ПАО Квадра - Генерирующая компания","Орловская область"]
[6829012680,"ПАО Квадра - Генерирующая компания","Рязанская область"]
[6829012680,"ПАО Квадра - Генерирующая компания","Смоленская область"]
[6901032200,"ОАО ТКС","Тверская область"]
[6901067107,"ПАО \"МРСК Центра\"","Белгородская область"]
[{"$f":"A293","v":6901067107},"ПАО \"МРСК Центра\"","Брянская область"]
[6901067107,"ПАО \"МРСК Центра\"","Воронежская область"]
[6901067107,"ПАО \"МРСК Центра\"","Костромская область"]
[6901067107,"ПАО \"МРСК Центра\"","Курская область"]
[6901067107,"ПАО \"МРСК Центра\"","Липецкая область"]
[6901067107,"ПАО \"МРСК Центра\"","Орловская область"]
[6901067107,"ПАО \"МРСК Центра\"","Смоленская область"]
[6901067107,"ПАО \"МРСК Центра\"","Тамбовская область"]
[6901067107,"ПАО \"МРСК Центра\"","Тверская область"]
[6901067107,"ПАО \"МРСК Центра\"","Ярославская область"]
[6903004705,"МУП Тверьгорэлектро","Тверская область"]
[6906011179,"ООО ТВЕРСКАЯ ГЕНЕРАЦИЯ","Тверская область"]
[6907000010,"ОАО Бологовский арматурный завод","Тверская область"]
[6908011914,"ООО Вышневолоцкая ТЭЦ","Тверская область"]
[6908015080,"МУП Горэлектросеть г. Удомля","Тверская область"]
[6950110570,"АО ИИК","Тверская область"]
[6950113268,"ООО ЭнергоТверьИнвест","Тверская область"]
[6950161416,"АО ВНИИСВ","Тверская область"]
[6950176476,"ООО Опора","Тверская область"]
[7017075536,"ООО Томскнефтехим","Томская область"]
[7017114672,"ПАО Томская распределительная компания","Томская область"]
[7017141443,"ООО Академэлектросеть","Томская область"]
[7017380970,"ООО Томские Электрические Сети","Томская область"]
[7017401564,"ООО Сибирская Электросеть","Томская область"]
[7019035722,"ОАО Томскгазпром","Томская область"]
[7022010799,"ООО Энергонефть Томск","Томская область"]
[7024035693,"ООО Электросети (г. Северск)","Томская область"]
[7136025990,"АО \"Технопарк\"","Тульская область"]
[7447010227,"ОАО Челябинский электрометаллургический комбинат","Челябинская область"]
[7449007156,"ЗАО Челябинский трубный опытно-экспериментальный завод","Челябинская область"]
[7453263000,"ООО Вектор ТС","Челябинская область"]
[7606053324,"ОАО ТГК-2","Костромская область"]
[{"$f":"A325","v":7606053324},{"$f":"B325","v":"ОАО ТГК-2"},"Ярославская область"]
[7703311228,"ОАО ГТ-ТЭЦ ЭНЕРГО","Белгородская область"]
[{"$f":"A327","v":7703311228},{"$f":"B327","v":"ОАО ГТ-ТЭЦ ЭНЕРГО"},"Свердловская область"]
[{"$f":"A328","v":7703311228},{"$f":"B328","v":"ОАО ГТ-ТЭЦ ЭНЕРГО"},"Тамбовская область"]
[7704726225,"ОАО Оборонэнерго","Калининградская область"]
[{"$f":"A330","v":7704726225},{"$f":"B330","v":"ОАО Оборонэнерго"},"Нижегородская область"]
[{"$f":"A331","v":7704726225},"Филиал \"Северо-Западный\" (Псковская область)","Псковская область"]
[{"$f":"A332","v":7704726225},"Филиал \"Северо-Западный\" Оборонэнерго","Новгородская область"]
[{"$f":"A333","v":7704726225},"Филиал \"Южный\" Оборонэнерго","Чеченская Республика"]
[7708503727,"Владимирская область ( Горьковская дирекция по энергообеспечению )","Владимирская область"]
[{"$f":"A335","v":7708503727},"Владимирская область ( Московская дирекция по энергообеспечению )","Владимирская область"]
[7708503727,"Владимирская область ( Северная дирекция по энергообеспечению )","Владимирская область"]
[7708503727,"Волгоградская область ( Приволжская дирекция по энергообеспечению )","Волгоградская область"]
[7708503727,"Горьковская дирекция по энергообеспечению Трансэнерго - филиал ОАО РЖД","Нижегородская область"]
[7708503727,"Западно-Сибирская дирекция по энергообеспечению Трансэнерго - филиал ОАО РЖД","Томская область"]
[7708503727,"Московская дирекция по энергообеспечению Трансэнерго - филиал ОАО РЖД","Рязанская область"]
[7708503727,"ОАО РЖД","Воронежская область"]
[7708503727,"ОАО РЖД","Краснодарский край"]
[7708503727,"ОАО РЖД","Орловская область"]
[7708503727,"ОАО РЖД","Тверская область"]
[7708503727,"Омская область ( Западно-Сибирская дирекция по энергообеспечению )","Омская область"]
[7708503727,"Псковская область ( Октябрьская дирекция по энергообеспечению )","Псковская область"]
[7708503727,"Трансэнерго - филиал ОАО РЖД","Кемеровская область"]
[7709571825,"ЗАО Энергосервис","Ивановская область"]
[7709777223,"ООО Р-Строй","Ивановская область"]
[7709806795,"ООО ОК РУСАЛ Энергосеть","Свердловская область"]
[7714734225,"ЗАО \"Электросеть\"","Кемеровская область"]
[{"$f":"A352","v":7714734225},{"$f":"B352","v":"ЗАО \"Электросеть\""},"Челябинская область"]
[7720333790,"ООО Энергологистик","Удмуртская Республика"]
[7721261080,"ГУП Литейно-прокатный завод","Смоленская область"]
[7721632827,"Филиал концерна \"Росэнергоатом\" Ленинградская АЭС","Ленинградская область"]
[7730052050,"ФГУП ПОЛЕТ","Омская область"]
[7730122371,"ООО Электро-Сетевая Компания Энерго","Смоленская область"]
[7731510289,"ООО Коминформ","Тверская область"]
[7736186950,"ООО \"Газпромэнерго\"","Ленинградская область"]
[{"$f":"A360","v":7736186950},"ООО \"Газпромэнерго\"","Новгородская область"]
[7736186950,"ООО \"Газпромэнерго\"","Республика Коми"]
[7736186950,"ООО Газпром энерго (Челябинская область)","Челябинская область"]
[7802312751,"ПАО \"МРСК Северо-Запада\"","Архангельская область"]
[{"$f":"A364","v":7802312751},"ПАО \"МРСК Северо-Запада\"","Вологодская область"]
[7802312751,"ПАО \"МРСК Северо-Запада\"","Мурманская область"]
[7802312751,"ПАО \"МРСК Северо-Запада\"","Новгородская область"]
[7802312751,"ПАО \"МРСК Северо-Запада\"","Псковская область"]
[7802312751,"ПАО \"МРСК Северо-Запада\"","Республика Карелия"]
[7802312751,"ПАО \"МРСК Северо-Запада\"","Республика Коми"]
[7802456200,"СП РОСЭНЕРГО","Санкт-Петербург"]
[7803002209,"ПАО \"Ленэнерго\"","Ленинградская область"]
[{"$f":"A372","v":7803002209},{"$f":"B372","v":"ПАО \"Ленэнерго\""},"Санкт-Петербург"]
[7805025346,"ОАО Морской порт Санкт-Петербург","Санкт-Петербург"]
[7810258843,"АО \"Объединенная энергетическая компания\"","Санкт-Петербург"]
[7826074344,"АО \"Санкт-Петербургские электрические сети\"","Санкт-Петербург"]
[7827007301,"АО \"Курортэнерго\"","Ленинградская область"]
[7841312071,"ОАО ТГК-1","Мурманская область"]
[8602060185,"АО \"Тюменьэнерго\"","Тюменская область (включая Ханты-Мансийский автономный округ -Югра, Ямало-Ненецкий автономный округ)"]
[9710014702,"ООО Региональная энерго-сетевая компания","Кировская область"]